BEGIN:VCALENDAR
VERSION:2.0
PRODID:-//Urban Indian Center of Salt Lake - ECPv6.15.20//NONSGML v1.0//EN
CALSCALE:GREGORIAN
METHOD:PUBLISH
X-WR-CALNAME:Urban Indian Center of Salt Lake
X-ORIGINAL-URL:https://uicsl.org
X-WR-CALDESC:Events for Urban Indian Center of Salt Lake
REFRESH-INTERVAL;VALUE=DURATION:PT1H
X-Robots-Tag:noindex
X-PUBLISHED-TTL:PT1H
BEGIN:VTIMEZONE
TZID:America/Denver
BEGIN:DAYLIGHT
TZOFFSETFROM:-0700
TZOFFSETTO:-0600
TZNAME:MDT
DTSTART:20250309T090000
END:DAYLIGHT
BEGIN:STANDARD
TZOFFSETFROM:-0600
TZOFFSETTO:-0700
TZNAME:MST
DTSTART:20251102T080000
END:STANDARD
BEGIN:DAYLIGHT
TZOFFSETFROM:-0700
TZOFFSETTO:-0600
TZNAME:MDT
DTSTART:20260308T090000
END:DAYLIGHT
BEGIN:STANDARD
TZOFFSETFROM:-0600
TZOFFSETTO:-0700
TZNAME:MST
DTSTART:20261101T080000
END:STANDARD
BEGIN:DAYLIGHT
TZOFFSETFROM:-0700
TZOFFSETTO:-0600
TZNAME:MDT
DTSTART:20270314T090000
END:DAYLIGHT
BEGIN:STANDARD
TZOFFSETFROM:-0600
TZOFFSETTO:-0700
TZNAME:MST
DTSTART:20271107T080000
END:STANDARD
END:VTIMEZONE
BEGIN:VEVENT
DTSTART;TZID=America/Denver:20260414T120000
DTEND;TZID=America/Denver:20260414T190000
DTSTAMP:20260422T112354
CREATED:20260311T223054Z
LAST-MODIFIED:20260311T224233Z
UID:10007116-1776168000-1776193200@uicsl.org
SUMMARY:Mobile Mammograms Onsite
DESCRIPTION:We are bringing life-saving screenings directly to our community! The mobile mammography unit will be at the Urban Indian Center of Salt Lake on April 14th to provide convenient\, professional breast health services. \nThe Details: \n\n\nDate: April 14th\, 2026 \n\n\nTime: 12:00 PM – 7:00 PM \n\n\nLocation: 120 W 1300 S\, SLC\, UT 84115 \n\n\nAre you eligible? Screenings are available for those who are age 40+\, have not had a mammogram in the last 12 months\, and are currently asymptomatic (no lumps or pain). \nCost & Coverage: Most insurance plans cover an annual screening at 100%. For those who are low-income or uninsured\, you may qualify for a voucher through the Utah Breast & Cervical Cancer Program (UCCP). \nDon’t wait—prioritize your health today! \nSchedule your appointment: Call our team at 801-486-4877.
URL:https://uicsl.org/event/mobile-mammograms-onsite-2/
LOCATION:Urban Indian Center Of Salt Lake – Main Building\, 120 w 1300 s\, salt lake city\, UT\, 84115\, United States
CATEGORIES:Clinic: Murray
ATTACH;FMTTYPE=image/png:https://uicsl.org/wp-content/uploads/2026/03/Mammogram_4.2026_Final.png
ORGANIZER;CN="Urban Indian Center of Salt Lake":MAILTO:info@iwic.org
END:VEVENT
END:VCALENDAR