BEGIN:VCALENDAR
VERSION:2.0
PRODID:-//Urban Indian Center of Salt Lake - ECPv6.15.20//NONSGML v1.0//EN
CALSCALE:GREGORIAN
METHOD:PUBLISH
X-WR-CALNAME:Urban Indian Center of Salt Lake
X-ORIGINAL-URL:https://uicsl.org
X-WR-CALDESC:Events for Urban Indian Center of Salt Lake
REFRESH-INTERVAL;VALUE=DURATION:PT1H
X-Robots-Tag:noindex
X-PUBLISHED-TTL:PT1H
BEGIN:VTIMEZONE
TZID:America/Denver
BEGIN:DAYLIGHT
TZOFFSETFROM:-0700
TZOFFSETTO:-0600
TZNAME:MDT
DTSTART:20230312T090000
END:DAYLIGHT
BEGIN:STANDARD
TZOFFSETFROM:-0600
TZOFFSETTO:-0700
TZNAME:MST
DTSTART:20231105T080000
END:STANDARD
BEGIN:DAYLIGHT
TZOFFSETFROM:-0700
TZOFFSETTO:-0600
TZNAME:MDT
DTSTART:20240310T090000
END:DAYLIGHT
BEGIN:STANDARD
TZOFFSETFROM:-0600
TZOFFSETTO:-0700
TZNAME:MST
DTSTART:20241103T080000
END:STANDARD
BEGIN:DAYLIGHT
TZOFFSETFROM:-0700
TZOFFSETTO:-0600
TZNAME:MDT
DTSTART:20250309T090000
END:DAYLIGHT
BEGIN:STANDARD
TZOFFSETFROM:-0600
TZOFFSETTO:-0700
TZNAME:MST
DTSTART:20251102T080000
END:STANDARD
END:VTIMEZONE
BEGIN:VEVENT
DTSTART;TZID=America/Denver:20240301T180000
DTEND;TZID=America/Denver:20240301T200000
DTSTAMP:20260421T063435
CREATED:20240222T172033Z
LAST-MODIFIED:20240226T184750Z
UID:10001173-1709316000-1709323200@uicsl.org
SUMMARY:Advanced Beading
DESCRIPTION:Rebalancing Culture presents Advanced Beading \nThree Class Workshop Designed for Advanced Leaders \n\nMarch 1st: Introduction: Two Needle Style & Supply Preparation\nMarch 8th: Beginning Two Needle Project\nMarch 15th: Project Completion\n\n  \n\nFor Ages 13+\n20 RSVP Spaces Available \n\nRSVP Required\nClick Here to RSVP\n\n\nBasic Beading Skills Needed\n\nQuestions or Concerns: Rhonda DuVall (801) 214-7668 or rduvall@uicsl.org
URL:https://uicsl.org/event/advanced-beading/2024-03-01/
LOCATION:Flat Iron Mesa Park\, 1765 E 8600 S\, Sandy\, UT\, 84093\, United States
ATTACH;FMTTYPE=image/png:https://uicsl.org/wp-content/uploads/2024/02/ADVANCED-Beading-1.png
END:VEVENT
BEGIN:VEVENT
DTSTART;TZID=America/Denver:20240305T180000
DTEND;TZID=America/Denver:20240305T200000
DTSTAMP:20260421T063435
CREATED:20240306T220845Z
LAST-MODIFIED:20240306T220845Z
UID:10001389-1709661600-1709668800@uicsl.org
SUMMARY:Youth Culture Class
DESCRIPTION:Youth Culture Class for 3rd – 12th Grades \n\nMarch 5: Happy Birthday Dr. Suess\nMarch 12: Beginning Youth Beading\nMarch 19: Youth Beading Project\n\n  \n\nParent/Guardian Supervision Required\nLight Dinner Provided\nLimited Supplies\nRSVP Required\n\nRSVP by contacting Tetona Longhair at tlonghair@uicsl.org or (801) 214-7662
URL:https://uicsl.org/event/youth-culture-class-8/2024-03-05/
LOCATION:Flat Iron Mesa Park\, 1765 E 8600 S\, Sandy\, UT\, 84093\, United States
ATTACH;FMTTYPE=image/png:https://uicsl.org/wp-content/uploads/2024/03/March-save-the-date-2.png
END:VEVENT
BEGIN:VEVENT
DTSTART;TZID=America/Denver:20240306T180000
DTEND;TZID=America/Denver:20240306T190000
DTSTAMP:20260421T063435
CREATED:20240131T231607Z
LAST-MODIFIED:20240402T152224Z
UID:10001370-1709748000-1709751600@uicsl.org
SUMMARY:In The Steps of Our Ancestors
DESCRIPTION:Free entry between 6:00 PM – 6:10 PM for UICSL registered clients and their household members. \nQuestions or Concerns: Moriah (801) 889-7244 \n 
URL:https://uicsl.org/event/in-the-steps-of-our-ancestors-3-2/2024-03-06/
LOCATION:Utah Olympic Oval Indoor Track\, 5662 South Cougar Lane (4800 West)\, Salt Lake City\, Utah\, 84118
ATTACH;FMTTYPE=image/png:https://uicsl.org/wp-content/uploads/2024/01/Winter-Indoor-Running.png
END:VEVENT
BEGIN:VEVENT
DTSTART;TZID=America/Denver:20240307T183000
DTEND;TZID=America/Denver:20240307T193000
DTSTAMP:20260421T063435
CREATED:20240202T192124Z
LAST-MODIFIED:20240326T160834Z
UID:10001378-1709836200-1709839800@uicsl.org
SUMMARY:Zumba Night
DESCRIPTION:Join us for fitness\, music and community! \nFREE Thursday Zumba Nights for you and a friend \nInstructed by Marcello
URL:https://uicsl.org/event/zumba-night/2024-03-07/
LOCATION:Flat Iron Mesa Park\, 1765 E 8600 S\, Sandy\, UT\, 84093\, United States
ATTACH;FMTTYPE=image/png:https://uicsl.org/wp-content/uploads/2024/02/Zumba-.png
END:VEVENT
BEGIN:VEVENT
DTSTART;TZID=America/Denver:20240308T120000
DTEND;TZID=America/Denver:20240308T140000
DTSTAMP:20260421T063435
CREATED:20240306T170606Z
LAST-MODIFIED:20240307T063851Z
UID:10001387-1709899200-1709906400@uicsl.org
SUMMARY:Elders Corner Meeting
DESCRIPTION:For Native Elders 50+ \n\nMarch 8 : New Beginnings with Anita Teller\nMarch 22: Beads & Bones Necklace Making with Tetona Longhair\n\nRSVP: Anita at (801) 828-8524 \n\nLunch Provided\n\nMust be a registered client of UICSL.
URL:https://uicsl.org/event/elders-corner-meeting-18/2024-03-08/
LOCATION:Flat Iron Mesa Park\, 1765 E 8600 S\, Sandy\, UT\, 84093\, United States
ATTACH;FMTTYPE=image/png:https://uicsl.org/wp-content/uploads/2024/03/Elders-Corner-Meeting.png
END:VEVENT
BEGIN:VEVENT
DTSTART;TZID=America/Denver:20240308T180000
DTEND;TZID=America/Denver:20240308T200000
DTSTAMP:20260421T063435
CREATED:20240222T172033Z
LAST-MODIFIED:20240226T184750Z
UID:10001174-1709920800-1709928000@uicsl.org
SUMMARY:Advanced Beading
DESCRIPTION:Rebalancing Culture presents Advanced Beading \nThree Class Workshop Designed for Advanced Leaders \n\nMarch 1st: Introduction: Two Needle Style & Supply Preparation\nMarch 8th: Beginning Two Needle Project\nMarch 15th: Project Completion\n\n  \n\nFor Ages 13+\n20 RSVP Spaces Available \n\nRSVP Required\nClick Here to RSVP\n\n\nBasic Beading Skills Needed\n\nQuestions or Concerns: Rhonda DuVall (801) 214-7668 or rduvall@uicsl.org
URL:https://uicsl.org/event/advanced-beading/2024-03-08/
LOCATION:Flat Iron Mesa Park\, 1765 E 8600 S\, Sandy\, UT\, 84093\, United States
ATTACH;FMTTYPE=image/png:https://uicsl.org/wp-content/uploads/2024/02/ADVANCED-Beading-1.png
END:VEVENT
BEGIN:VEVENT
DTSTART;TZID=America/Denver:20240311T170000
DTEND;TZID=America/Denver:20240311T190000
DTSTAMP:20260421T063435
CREATED:20240305T223043Z
LAST-MODIFIED:20240305T223051Z
UID:10001385-1710176400-1710183600@uicsl.org
SUMMARY:Reaching Out to Our Relatives
DESCRIPTION:Community Support Group \nJoin us for an evening of mindfulness practice with creating your own canvas painting while discussing how art\, community\, and culture support our mental health. \n\nFor Ages 18+\nFirst Come\, First Serve\nSupplies Limited\n\nRSVP Today by clicking here. \nQuestions\, concerns or RSVP contact: Ashanti Moritz amoritz@uicsl.org or (385)867-7684
URL:https://uicsl.org/event/reaching-out-to-our-relatives-5/
LOCATION:Flat Iron Mesa Park\, 1765 E 8600 S\, Sandy\, UT\, 84093\, United States
ATTACH;FMTTYPE=image/png:https://uicsl.org/wp-content/uploads/2024/03/ReachingOutToOurRelatives.png
END:VEVENT
BEGIN:VEVENT
DTSTART;TZID=America/Denver:20240312T180000
DTEND;TZID=America/Denver:20240312T200000
DTSTAMP:20260421T063435
CREATED:20240306T220845Z
LAST-MODIFIED:20240306T220845Z
UID:10001390-1710266400-1710273600@uicsl.org
SUMMARY:Youth Culture Class
DESCRIPTION:Youth Culture Class for 3rd – 12th Grades \n\nMarch 5: Happy Birthday Dr. Suess\nMarch 12: Beginning Youth Beading\nMarch 19: Youth Beading Project\n\n  \n\nParent/Guardian Supervision Required\nLight Dinner Provided\nLimited Supplies\nRSVP Required\n\nRSVP by contacting Tetona Longhair at tlonghair@uicsl.org or (801) 214-7662
URL:https://uicsl.org/event/youth-culture-class-8/2024-03-12/
LOCATION:Flat Iron Mesa Park\, 1765 E 8600 S\, Sandy\, UT\, 84093\, United States
ATTACH;FMTTYPE=image/png:https://uicsl.org/wp-content/uploads/2024/03/March-save-the-date-2.png
END:VEVENT
BEGIN:VEVENT
DTSTART;TZID=America/Denver:20240313T173000
DTEND;TZID=America/Denver:20240313T190000
DTSTAMP:20260421T063435
CREATED:20240307T173731Z
LAST-MODIFIED:20240307T183944Z
UID:10001393-1710351000-1710356400@uicsl.org
SUMMARY:Diné Bizaad Registration Night
DESCRIPTION:Registration Night for learning the basics of the Navajo Language by Rebalancing Culture Program \nTwo Classes: \n\nYouth Class for Ages 5-12\nTeen/Adult: Ages 13+\nSpace is Limited\n\nQuestions or concerns contact Rhonda DuVall (801) 214-7668 \n  \nDo not have to be a registered client of UICSL. 
URL:https://uicsl.org/event/dine-bizaad/
LOCATION:Flat Iron Mesa Park\, 1765 E 8600 S\, Sandy\, UT\, 84093\, United States
ATTACH;FMTTYPE=image/png:https://uicsl.org/wp-content/uploads/2024/03/Dine-Bizaad-1.png
END:VEVENT
BEGIN:VEVENT
DTSTART;TZID=America/Denver:20240313T180000
DTEND;TZID=America/Denver:20240313T190000
DTSTAMP:20260421T063435
CREATED:20240131T231607Z
LAST-MODIFIED:20240402T152224Z
UID:10001371-1710352800-1710356400@uicsl.org
SUMMARY:In The Steps of Our Ancestors
DESCRIPTION:Free entry between 6:00 PM – 6:10 PM for UICSL registered clients and their household members. \nQuestions or Concerns: Moriah (801) 889-7244 \n 
URL:https://uicsl.org/event/in-the-steps-of-our-ancestors-3-2/2024-03-13/
LOCATION:Utah Olympic Oval Indoor Track\, 5662 South Cougar Lane (4800 West)\, Salt Lake City\, Utah\, 84118
ATTACH;FMTTYPE=image/png:https://uicsl.org/wp-content/uploads/2024/01/Winter-Indoor-Running.png
END:VEVENT
BEGIN:VEVENT
DTSTART;TZID=America/Denver:20240314T083000
DTEND;TZID=America/Denver:20240314T130000
DTSTAMP:20260421T063435
CREATED:20240109T230329Z
LAST-MODIFIED:20250930T191049Z
UID:10001337-1710405000-1710421200@uicsl.org
SUMMARY:CLOSED until 1:00 PM
DESCRIPTION:We are closed until 1:00 PM \nRegular business hours resume Friday.
URL:https://uicsl.org/event/closed-until-100-pm-11/2024-03-14/
LOCATION:UT
ATTACH;FMTTYPE=image/png:https://uicsl.org/wp-content/uploads/2025/09/10-9-25_Staff-Meeting-Closure.png
END:VEVENT
BEGIN:VEVENT
DTSTART;TZID=America/Denver:20240314T183000
DTEND;TZID=America/Denver:20240314T193000
DTSTAMP:20260421T063435
CREATED:20240202T192124Z
LAST-MODIFIED:20240326T160834Z
UID:10001379-1710441000-1710444600@uicsl.org
SUMMARY:Zumba Night
DESCRIPTION:Join us for fitness\, music and community! \nFREE Thursday Zumba Nights for you and a friend \nInstructed by Marcello
URL:https://uicsl.org/event/zumba-night/2024-03-14/
LOCATION:Flat Iron Mesa Park\, 1765 E 8600 S\, Sandy\, UT\, 84093\, United States
ATTACH;FMTTYPE=image/png:https://uicsl.org/wp-content/uploads/2024/02/Zumba-.png
END:VEVENT
BEGIN:VEVENT
DTSTART;TZID=America/Denver:20240315T180000
DTEND;TZID=America/Denver:20240315T200000
DTSTAMP:20260421T063435
CREATED:20240222T172033Z
LAST-MODIFIED:20240226T184750Z
UID:10001175-1710525600-1710532800@uicsl.org
SUMMARY:Advanced Beading
DESCRIPTION:Rebalancing Culture presents Advanced Beading \nThree Class Workshop Designed for Advanced Leaders \n\nMarch 1st: Introduction: Two Needle Style & Supply Preparation\nMarch 8th: Beginning Two Needle Project\nMarch 15th: Project Completion\n\n  \n\nFor Ages 13+\n20 RSVP Spaces Available \n\nRSVP Required\nClick Here to RSVP\n\n\nBasic Beading Skills Needed\n\nQuestions or Concerns: Rhonda DuVall (801) 214-7668 or rduvall@uicsl.org
URL:https://uicsl.org/event/advanced-beading/2024-03-15/
LOCATION:Flat Iron Mesa Park\, 1765 E 8600 S\, Sandy\, UT\, 84093\, United States
ATTACH;FMTTYPE=image/png:https://uicsl.org/wp-content/uploads/2024/02/ADVANCED-Beading-1.png
END:VEVENT
BEGIN:VEVENT
DTSTART;TZID=America/Denver:20240319T180000
DTEND;TZID=America/Denver:20240319T200000
DTSTAMP:20260421T063435
CREATED:20240306T220845Z
LAST-MODIFIED:20240306T220845Z
UID:10001391-1710871200-1710878400@uicsl.org
SUMMARY:Youth Culture Class
DESCRIPTION:Youth Culture Class for 3rd – 12th Grades \n\nMarch 5: Happy Birthday Dr. Suess\nMarch 12: Beginning Youth Beading\nMarch 19: Youth Beading Project\n\n  \n\nParent/Guardian Supervision Required\nLight Dinner Provided\nLimited Supplies\nRSVP Required\n\nRSVP by contacting Tetona Longhair at tlonghair@uicsl.org or (801) 214-7662
URL:https://uicsl.org/event/youth-culture-class-8/2024-03-19/
LOCATION:Flat Iron Mesa Park\, 1765 E 8600 S\, Sandy\, UT\, 84093\, United States
ATTACH;FMTTYPE=image/png:https://uicsl.org/wp-content/uploads/2024/03/March-save-the-date-2.png
END:VEVENT
BEGIN:VEVENT
DTSTART;TZID=America/Denver:20240320T180000
DTEND;TZID=America/Denver:20240320T190000
DTSTAMP:20260421T063435
CREATED:20240131T231607Z
LAST-MODIFIED:20240402T152224Z
UID:10001372-1710957600-1710961200@uicsl.org
SUMMARY:In The Steps of Our Ancestors
DESCRIPTION:Free entry between 6:00 PM – 6:10 PM for UICSL registered clients and their household members. \nQuestions or Concerns: Moriah (801) 889-7244 \n 
URL:https://uicsl.org/event/in-the-steps-of-our-ancestors-3-2/2024-03-20/
LOCATION:Utah Olympic Oval Indoor Track\, 5662 South Cougar Lane (4800 West)\, Salt Lake City\, Utah\, 84118
ATTACH;FMTTYPE=image/png:https://uicsl.org/wp-content/uploads/2024/01/Winter-Indoor-Running.png
END:VEVENT
BEGIN:VEVENT
DTSTART;TZID=America/Denver:20240322T120000
DTEND;TZID=America/Denver:20240322T140000
DTSTAMP:20260421T063435
CREATED:20240306T170606Z
LAST-MODIFIED:20240321T231936Z
UID:10001388-1711108800-1711116000@uicsl.org
SUMMARY:Elders Corner Meeting
DESCRIPTION:For Native Elders 50+ \n\nMarch 8 : New Beginnings with Anita Teller\nMarch 22: Beads & Bones Necklace Making with Tetona Longhair\n\nRSVP: Anita at (801) 828-8524 \n\nLunch Provided\n\nMust be a registered client of UICSL.
URL:https://uicsl.org/event/elders-corner-meeting-18-2024-03-22/
LOCATION:UICSL Administration Building\, 3489 West 2100 South Suite 100\, West Valley City\, UT\, 84119
ATTACH;FMTTYPE=image/png:https://uicsl.org/wp-content/uploads/2024/03/Event-Flyers.png
END:VEVENT
BEGIN:VEVENT
DTSTART;TZID=America/Denver:20240327T180000
DTEND;TZID=America/Denver:20240327T190000
DTSTAMP:20260421T063435
CREATED:20240131T231607Z
LAST-MODIFIED:20240402T152224Z
UID:10001373-1711562400-1711566000@uicsl.org
SUMMARY:In The Steps of Our Ancestors
DESCRIPTION:Free entry between 6:00 PM – 6:10 PM for UICSL registered clients and their household members. \nQuestions or Concerns: Moriah (801) 889-7244 \n 
URL:https://uicsl.org/event/in-the-steps-of-our-ancestors-3-2/2024-03-27/
LOCATION:Utah Olympic Oval Indoor Track\, 5662 South Cougar Lane (4800 West)\, Salt Lake City\, Utah\, 84118
ATTACH;FMTTYPE=image/png:https://uicsl.org/wp-content/uploads/2024/01/Winter-Indoor-Running.png
END:VEVENT
BEGIN:VEVENT
DTSTART;TZID=America/Denver:20240328T143000
DTEND;TZID=America/Denver:20240328T170000
DTSTAMP:20260421T063435
CREATED:20240307T202433Z
LAST-MODIFIED:20240307T202433Z
UID:10001394-1711636200-1711645200@uicsl.org
SUMMARY:Closed at 2:30 PM
DESCRIPTION:We will be closed from 2:30 PM – 5:00 PM. \nRegular business hours resume March 29
URL:https://uicsl.org/event/closed-at-230-pm/
LOCATION:Flat Iron Mesa Park\, 1765 E 8600 S\, Sandy\, UT\, 84093\, United States
ATTACH;FMTTYPE=image/png:https://uicsl.org/wp-content/uploads/2024/03/328.png
END:VEVENT
BEGIN:VEVENT
DTSTART;TZID=America/Denver:20240329T180000
DTEND;TZID=America/Denver:20240329T200000
DTSTAMP:20260421T063435
CREATED:20240305T224331Z
LAST-MODIFIED:20240305T224331Z
UID:10001386-1711735200-1711742400@uicsl.org
SUMMARY:Block Printing
DESCRIPTION:Native Youth Support Group for ages 12-24 \nJoin us to handcraft your own block design with local Native digital artist Eryon Greenberg \nRSVP here \nQuestions\, concerns or RSVP: Kayla Frank at kfrank@uicsl.org or (385)267-1719
URL:https://uicsl.org/event/block-printing/
LOCATION:Flat Iron Mesa Park\, 1765 E 8600 S\, Sandy\, UT\, 84093\, United States
ATTACH;FMTTYPE=image/png:https://uicsl.org/wp-content/uploads/2024/03/NYSG-Block-Printing.png
END:VEVENT
BEGIN:VEVENT
DTSTART;TZID=America/Denver:20240329T183000
DTEND;TZID=America/Denver:20240329T203000
DTSTAMP:20260421T063435
CREATED:20240326T163126Z
LAST-MODIFIED:20240327T161232Z
UID:10001397-1711737000-1711744200@uicsl.org
SUMMARY:Tsiiyeel Workshop
DESCRIPTION:Presented by Rebalancing Culture with Rose Jakub (Diné) \nSponsored by Cambia Health Foundation \n\nAges 13+\n20 Spaces Available\nRegistration Required\n\nEvent Registration click here\n\n\n\nQuestions or concerns? Rhonda DuVall (801) 214-7668 \nEveryone welcome\, do not have to be a registered client of the Urban Indian Center of Salt Lake
URL:https://uicsl.org/event/tsiiyeel-workshop/
LOCATION:Flat Iron Mesa Park\, 1765 E 8600 S\, Sandy\, UT\, 84093\, United States
ATTACH;FMTTYPE=image/png:https://uicsl.org/wp-content/uploads/2024/03/MARCH-TSIIYEEL-workshop-1.png
END:VEVENT
END:VCALENDAR