BEGIN:VCALENDAR
VERSION:2.0
PRODID:-//Urban Indian Center of Salt Lake - ECPv6.15.20//NONSGML v1.0//EN
CALSCALE:GREGORIAN
METHOD:PUBLISH
X-WR-CALNAME:Urban Indian Center of Salt Lake
X-ORIGINAL-URL:https://uicsl.org
X-WR-CALDESC:Events for Urban Indian Center of Salt Lake
REFRESH-INTERVAL;VALUE=DURATION:PT1H
X-Robots-Tag:noindex
X-PUBLISHED-TTL:PT1H
BEGIN:VTIMEZONE
TZID:America/Denver
BEGIN:DAYLIGHT
TZOFFSETFROM:-0700
TZOFFSETTO:-0600
TZNAME:MDT
DTSTART:20230312T090000
END:DAYLIGHT
BEGIN:STANDARD
TZOFFSETFROM:-0600
TZOFFSETTO:-0700
TZNAME:MST
DTSTART:20231105T080000
END:STANDARD
BEGIN:DAYLIGHT
TZOFFSETFROM:-0700
TZOFFSETTO:-0600
TZNAME:MDT
DTSTART:20240310T090000
END:DAYLIGHT
BEGIN:STANDARD
TZOFFSETFROM:-0600
TZOFFSETTO:-0700
TZNAME:MST
DTSTART:20241103T080000
END:STANDARD
BEGIN:DAYLIGHT
TZOFFSETFROM:-0700
TZOFFSETTO:-0600
TZNAME:MDT
DTSTART:20250309T090000
END:DAYLIGHT
BEGIN:STANDARD
TZOFFSETFROM:-0600
TZOFFSETTO:-0700
TZNAME:MST
DTSTART:20251102T080000
END:STANDARD
END:VTIMEZONE
BEGIN:VEVENT
DTSTART;VALUE=DATE:20240101
DTEND;VALUE=DATE:20240102
DTSTAMP:20260421T080312
CREATED:20231227T230732Z
LAST-MODIFIED:20231227T230859Z
UID:10001326-1704067200-1704153599@uicsl.org
SUMMARY:Closed
DESCRIPTION:UICSL is closed Monday\, January 1st. \nRegular business hours resume January 2nd.
URL:https://uicsl.org/event/closed-16/
LOCATION:UT
ATTACH;FMTTYPE=image/png:https://uicsl.org/wp-content/uploads/2023/12/Closed-New-Year-4.png
END:VEVENT
BEGIN:VEVENT
DTSTART;TZID=America/Denver:20240102T170000
DTEND;TZID=America/Denver:20240102T190000
DTSTAMP:20260421T080312
CREATED:20231223T012742Z
LAST-MODIFIED:20231223T185734Z
UID:10001324-1704214800-1704222000@uicsl.org
SUMMARY:Reaching Out to Our Relatives
DESCRIPTION:Join us to create a Parfleche/Rawhide Pouch with Shelby Chapoose (Executive Director\, Indigenous Health & Wellness Connections) while discussing how art\, community\, culture\, and identity support our mental health. \nRSVP Here \n_____________________________ \n\nFirst Some\, First Serve\nRSVP Required
URL:https://uicsl.org/event/reaching-out-to-our-relatives-3/
LOCATION:Flat Iron Mesa Park\, 1765 E 8600 S\, Sandy\, UT\, 84093\, United States
ATTACH;FMTTYPE=image/png:https://uicsl.org/wp-content/uploads/2023/12/ReachingOutToOurRelatives-2-1.png
END:VEVENT
BEGIN:VEVENT
DTSTART;TZID=America/Denver:20240105T183000
DTEND;TZID=America/Denver:20240105T203000
DTSTAMP:20260421T080312
CREATED:20231219T181314Z
LAST-MODIFIED:20231219T184147Z
UID:10001320-1704479400-1704486600@uicsl.org
SUMMARY:Family Movie Night
DESCRIPTION:Join us for a night of cultural rebalancing while strengthening family connection with Family Movie Night! \nWe will be showing the movie Brother Bear \nFree popcorn & bottled beverage with light dinner \nRSVP Here \nQuestions or Concerns: Contact Rhonda Duvall at 801-214-7668
URL:https://uicsl.org/event/family-movie-night/
LOCATION:Flat Iron Mesa Park\, 1765 E 8600 S\, Sandy\, UT\, 84093\, United States
ATTACH;FMTTYPE=image/png:https://uicsl.org/wp-content/uploads/2023/12/Family-Movie-Night-2.png
ORGANIZER;CN="Urban Indian Center of Salt Lake":MAILTO:info@iwic.org
END:VEVENT
BEGIN:VEVENT
DTSTART;TZID=America/Denver:20240108T120000
DTEND;TZID=America/Denver:20240108T140000
DTSTAMP:20260421T080312
CREATED:20240104T201036Z
LAST-MODIFIED:20240104T201036Z
UID:10001328-1704715200-1704722400@uicsl.org
SUMMARY:Elders Corner Meeting
DESCRIPTION:For Native Elders 50+ \nMonday\, January 8 – Bingo \nFriday\, January 26 – Arts & Crafts \nRSVP Required\, Call Toni Williams (801)634-2150 \nMust be a registered client of the Urban Indian Center of Salt Lake.
URL:https://uicsl.org/event/elders-corner-meeting-17/
LOCATION:Flat Iron Mesa Park\, 1765 E 8600 S\, Sandy\, UT\, 84093\, United States
ATTACH;FMTTYPE=image/png:https://uicsl.org/wp-content/uploads/2024/01/Elders-Corner-Meeting.png
END:VEVENT
BEGIN:VEVENT
DTSTART;TZID=America/Denver:20240110T180000
DTEND;TZID=America/Denver:20240110T190000
DTSTAMP:20260421T080312
CREATED:20240104T230922Z
LAST-MODIFIED:20240110T222552Z
UID:10001329-1704909600-1704913200@uicsl.org
SUMMARY:In The Steps of Our Ancestors
DESCRIPTION:Free entry between 6:00 PM – 6:10 PM for UICSL registered clients and their household members. \nQuestions or Concerns: Moriah (801) 889-7244 \n 
URL:https://uicsl.org/event/in-the-steps-of-our-ancestors-3/
LOCATION:Utah Olympic Oval Indoor Track\, 5662 South Cougar Lane (4800 West)\, Salt Lake City\, Utah\, 84118
ATTACH;FMTTYPE=image/png:https://uicsl.org/wp-content/uploads/2024/01/Winter-Indoor-Running.png
END:VEVENT
BEGIN:VEVENT
DTSTART;TZID=America/Denver:20240111T083000
DTEND;TZID=America/Denver:20240111T130000
DTSTAMP:20260421T080312
CREATED:20240109T230329Z
LAST-MODIFIED:20250930T191049Z
UID:10001335-1704961800-1704978000@uicsl.org
SUMMARY:CLOSED until 1:00 PM
DESCRIPTION:We are closed until 1:00 PM \nRegular business hours resume Friday.
URL:https://uicsl.org/event/closed-until-100-pm-11/2024-01-11/
LOCATION:UT
ATTACH;FMTTYPE=image/png:https://uicsl.org/wp-content/uploads/2025/09/10-9-25_Staff-Meeting-Closure.png
END:VEVENT
BEGIN:VEVENT
DTSTART;VALUE=DATE:20240115
DTEND;VALUE=DATE:20240116
DTSTAMP:20260421T080312
CREATED:20240109T230452Z
LAST-MODIFIED:20240109T230507Z
UID:10001359-1705276800-1705363199@uicsl.org
SUMMARY:CLOSED
DESCRIPTION:Regular business hours resume Tuesday\, Jan. 16.
URL:https://uicsl.org/event/closed-17/
LOCATION:UT
ATTACH;FMTTYPE=image/png:https://uicsl.org/wp-content/uploads/2024/01/Holiday-Hours-MLK.png
END:VEVENT
BEGIN:VEVENT
DTSTART;TZID=America/Denver:20240116T180000
DTEND;TZID=America/Denver:20240116T200000
DTSTAMP:20260421T080312
CREATED:20231222T161949Z
LAST-MODIFIED:20240129T201110Z
UID:10001321-1705428000-1705435200@uicsl.org
SUMMARY:Youth Culture Class
DESCRIPTION:for 3rd- 12th Grade Native Youth \nTuesday at 6:00 PM – 8:00 PM \nJanuary 16: Sandpainting \nJanuary 23: Navajo Stick Game \nJanuary 30: Ute Hand Game Presentation \n                    Everyone Welcome! Do not have to be a registered client of UICSL for Utah Hand Game Presentation.  \n  \n\nParental/adult supervision required\nLight snack provided\n\nQuestions: Tetona Longhair at (801) 214-7662 or tlonghair@uicsl.org \n_____________________________________ \nMust be a registered client of UICSL all other classes
URL:https://uicsl.org/event/youth-culture-class-5/2024-01-16/
LOCATION:Flat Iron Mesa Park\, 1765 E 8600 S\, Sandy\, UT\, 84093\, United States
ATTACH;FMTTYPE=image/png:https://uicsl.org/wp-content/uploads/2023/12/Handgame-1.png
END:VEVENT
BEGIN:VEVENT
DTSTART;TZID=America/Denver:20240117T140000
DTEND;TZID=America/Denver:20240117T170000
DTSTAMP:20260421T080312
CREATED:20240117T200117Z
LAST-MODIFIED:20240117T200117Z
UID:10001361-1705500000-1705510800@uicsl.org
SUMMARY:CLOSED
DESCRIPTION:We will closed our doors at 2:00 PM. \nAll groups and programs cancelled.
URL:https://uicsl.org/event/closed-18/
LOCATION:Flat Iron Mesa Park\, 1765 E 8600 S\, Sandy\, UT\, 84093\, United States
ATTACH;FMTTYPE=image/png:https://uicsl.org/wp-content/uploads/2024/01/Weather-Closure.png
END:VEVENT
BEGIN:VEVENT
DTSTART;TZID=America/Denver:20240119T173000
DTEND;TZID=America/Denver:20240119T193000
DTSTAMP:20260421T080312
CREATED:20240103T160808Z
LAST-MODIFIED:20240109T005955Z
UID:10001327-1705685400-1705692600@uicsl.org
SUMMARY:String Games & Soup
DESCRIPTION:RSVP or more information: Kristie (801) 214-7667 \nMust be a registered client of living within the same household of a registered client of the Urban Indian Center of Salt Lake. 
URL:https://uicsl.org/event/string-games-soup-2/
LOCATION:Flat Iron Mesa Park\, 1765 E 8600 S\, Sandy\, UT\, 84093\, United States
ATTACH;FMTTYPE=image/png:https://uicsl.org/wp-content/uploads/2024/01/String-Games-5.59.50 PM.png
END:VEVENT
BEGIN:VEVENT
DTSTART;TZID=America/Denver:20240123T180000
DTEND;TZID=America/Denver:20240123T200000
DTSTAMP:20260421T080312
CREATED:20231222T161949Z
LAST-MODIFIED:20240129T201110Z
UID:10001322-1706032800-1706040000@uicsl.org
SUMMARY:Youth Culture Class
DESCRIPTION:for 3rd- 12th Grade Native Youth \nTuesday at 6:00 PM – 8:00 PM \nJanuary 16: Sandpainting \nJanuary 23: Navajo Stick Game \nJanuary 30: Ute Hand Game Presentation \n                    Everyone Welcome! Do not have to be a registered client of UICSL for Utah Hand Game Presentation.  \n  \n\nParental/adult supervision required\nLight snack provided\n\nQuestions: Tetona Longhair at (801) 214-7662 or tlonghair@uicsl.org \n_____________________________________ \nMust be a registered client of UICSL all other classes
URL:https://uicsl.org/event/youth-culture-class-5/2024-01-23/
LOCATION:Flat Iron Mesa Park\, 1765 E 8600 S\, Sandy\, UT\, 84093\, United States
ATTACH;FMTTYPE=image/png:https://uicsl.org/wp-content/uploads/2023/12/Handgame-1.png
END:VEVENT
BEGIN:VEVENT
DTSTART;TZID=America/Denver:20240124T180000
DTEND;TZID=America/Denver:20240124T190000
DTSTAMP:20260421T080312
CREATED:20240110T043216Z
LAST-MODIFIED:20240117T195936Z
UID:10001360-1706119200-1706122800@uicsl.org
SUMMARY:In The Steps Of Our Ancestors
DESCRIPTION:LOCATION Change: West Valley Family Fitness Center – Indoor Track \nFree Entry between 6:00 PM – 6:10 PM \nQuestions or concerns: Moriah (801) 889-7244 \nMust be a registered client or live within the same household as a registered client of UICSL. 
URL:https://uicsl.org/event/in-the-steps-of-our-ancestors-4/
LOCATION:West Valley City Family Fitness Center\, 5415 West 3100 South\, West Valley City\, UT\, 84120\, United States
ATTACH;FMTTYPE=image/png:https://uicsl.org/wp-content/uploads/2024/01/Location-Change-1.png
END:VEVENT
BEGIN:VEVENT
DTSTART;TZID=America/Denver:20240126T180000
DTEND;TZID=America/Denver:20240126T200000
DTSTAMP:20260421T080312
CREATED:20240108T220105Z
LAST-MODIFIED:20240108T220734Z
UID:10001331-1706292000-1706299200@uicsl.org
SUMMARY:Star Gaze Storytelling
DESCRIPTION:Native Youth (Ages 10-24) & Family Support Group \nDiscover Navajo\, Ute and Arapaho Culture through tales told by the sky \n  \n*Registration Required \nRegister here \n*RSVP Closes Jan 19th or until filled \nMust be a registered client of live within the same household of a registered client of UICSL.
URL:https://uicsl.org/event/native-youth-support-group-star-gaze-storytelling/
LOCATION:Flat Iron Mesa Park\, 1765 E 8600 S\, Sandy\, UT\, 84093\, United States
ATTACH;FMTTYPE=image/png:https://uicsl.org/wp-content/uploads/2024/01/NYSG-Star-Gaze-Storytelling-copy.png
END:VEVENT
BEGIN:VEVENT
DTSTART;TZID=America/Denver:20240127T130000
DTEND;TZID=America/Denver:20240127T160000
DTSTAMP:20260421T080312
CREATED:20240123T214809Z
LAST-MODIFIED:20240123T214809Z
UID:10001362-1706360400-1706371200@uicsl.org
SUMMARY:Free Screening: Demon Mineral
DESCRIPTION:This Saturday\, FREE screening of the eye-opening documentary “Demon Mineral.” Dive into “a group of indigenous scientists\, elders\, and activists as they work to protect a vital living space on contaminated land.”\n\n\n\nTrailer: https://www.youtube.com/watch?v=9kKVSp3XaLQ\n\n\nFilm imdb: https://m.imdb.com/title/tt27589769/plotsummary/…\n\n\n\nPanel discussion to follow.
URL:https://uicsl.org/event/free-screening-demon-mineral/
LOCATION:Flat Iron Mesa Park\, 1765 E 8600 S\, Sandy\, UT\, 84093\, United States
ATTACH;FMTTYPE=image/jpeg:https://uicsl.org/wp-content/uploads/2024/01/poster-2.jpg
END:VEVENT
BEGIN:VEVENT
DTSTART;TZID=America/Denver:20240130T180000
DTEND;TZID=America/Denver:20240130T200000
DTSTAMP:20260421T080312
CREATED:20231222T161949Z
LAST-MODIFIED:20240129T201110Z
UID:10001323-1706637600-1706644800@uicsl.org
SUMMARY:Youth Culture Class
DESCRIPTION:for 3rd- 12th Grade Native Youth \nTuesday at 6:00 PM – 8:00 PM \nJanuary 16: Sandpainting \nJanuary 23: Navajo Stick Game \nJanuary 30: Ute Hand Game Presentation \n                    Everyone Welcome! Do not have to be a registered client of UICSL for Utah Hand Game Presentation.  \n  \n\nParental/adult supervision required\nLight snack provided\n\nQuestions: Tetona Longhair at (801) 214-7662 or tlonghair@uicsl.org \n_____________________________________ \nMust be a registered client of UICSL all other classes
URL:https://uicsl.org/event/youth-culture-class-5/2024-01-30/
LOCATION:Flat Iron Mesa Park\, 1765 E 8600 S\, Sandy\, UT\, 84093\, United States
ATTACH;FMTTYPE=image/png:https://uicsl.org/wp-content/uploads/2023/12/Handgame-1.png
END:VEVENT
BEGIN:VEVENT
DTSTART;TZID=America/Denver:20240131T180000
DTEND;TZID=America/Denver:20240131T190000
DTSTAMP:20260421T080312
CREATED:20240131T231607Z
LAST-MODIFIED:20240402T152224Z
UID:10001365-1706724000-1706727600@uicsl.org
SUMMARY:In The Steps of Our Ancestors
DESCRIPTION:Free entry between 6:00 PM – 6:10 PM for UICSL registered clients and their household members. \nQuestions or Concerns: Moriah (801) 889-7244 \n 
URL:https://uicsl.org/event/in-the-steps-of-our-ancestors-3-2/2024-01-31/
LOCATION:Utah Olympic Oval Indoor Track\, 5662 South Cougar Lane (4800 West)\, Salt Lake City\, Utah\, 84118
ATTACH;FMTTYPE=image/png:https://uicsl.org/wp-content/uploads/2024/01/Winter-Indoor-Running.png
END:VEVENT
END:VCALENDAR