BEGIN:VCALENDAR
VERSION:2.0
PRODID:-//Urban Indian Center of Salt Lake - ECPv6.15.20//NONSGML v1.0//EN
CALSCALE:GREGORIAN
METHOD:PUBLISH
X-ORIGINAL-URL:https://uicsl.org
X-WR-CALDESC:Events for Urban Indian Center of Salt Lake
REFRESH-INTERVAL;VALUE=DURATION:PT1H
X-Robots-Tag:noindex
X-PUBLISHED-TTL:PT1H
BEGIN:VTIMEZONE
TZID:America/Denver
BEGIN:DAYLIGHT
TZOFFSETFROM:-0700
TZOFFSETTO:-0600
TZNAME:MDT
DTSTART:20220313T090000
END:DAYLIGHT
BEGIN:STANDARD
TZOFFSETFROM:-0600
TZOFFSETTO:-0700
TZNAME:MST
DTSTART:20221106T080000
END:STANDARD
BEGIN:DAYLIGHT
TZOFFSETFROM:-0700
TZOFFSETTO:-0600
TZNAME:MDT
DTSTART:20230312T090000
END:DAYLIGHT
BEGIN:STANDARD
TZOFFSETFROM:-0600
TZOFFSETTO:-0700
TZNAME:MST
DTSTART:20231105T080000
END:STANDARD
BEGIN:DAYLIGHT
TZOFFSETFROM:-0700
TZOFFSETTO:-0600
TZNAME:MDT
DTSTART:20240310T090000
END:DAYLIGHT
BEGIN:STANDARD
TZOFFSETFROM:-0600
TZOFFSETTO:-0700
TZNAME:MST
DTSTART:20241103T080000
END:STANDARD
END:VTIMEZONE
BEGIN:VEVENT
DTSTART;VALUE=DATE:20230904
DTEND;VALUE=DATE:20230905
DTSTAMP:20260421T022002
CREATED:20230825T054725Z
LAST-MODIFIED:20230825T054725Z
UID:10001231-1693785600-1693871999@uicsl.org
SUMMARY:CLOSED
DESCRIPTION:UICSL is closed in observance of Labor Day\, September 4. \nRegular business hours resume September 5.
URL:https://uicsl.org/event/closed-11/
LOCATION:UT
ATTACH;FMTTYPE=image/png:https://uicsl.org/wp-content/uploads/2023/08/Holiday-Hours-6-copy.png
END:VEVENT
BEGIN:VEVENT
DTSTART;TZID=America/Denver:20230908T120000
DTEND;TZID=America/Denver:20230908T163000
DTSTAMP:20260421T022002
CREATED:20230830T170142Z
LAST-MODIFIED:20230830T170434Z
UID:10001232-1694174400-1694190600@uicsl.org
SUMMARY:Elders Corner Meeting
DESCRIPTION:Calling all Native Elders 50+ \nUTA Field Trip \nFriday\, September 8th \n12:00 PM – 4:30 PM \n\nMeet at UICSL\, 120 West 1300 South\nWe will leave promptly at Noon\n\n  \n\nLunch provided\nPlease bring your water bottle\n\nRSVP Required \nContact Toni Williams (801) 634-2150 \nMust be a registered client of UICSL \n 
URL:https://uicsl.org/event/elders-corner-meeting-13/
LOCATION:Flat Iron Mesa Park\, 1765 E 8600 S\, Sandy\, UT\, 84093\, United States
ATTACH;FMTTYPE=image/png:https://uicsl.org/wp-content/uploads/2023/08/1.png
END:VEVENT
BEGIN:VEVENT
DTSTART;TZID=America/Denver:20230913T180000
DTEND;TZID=America/Denver:20230913T200000
DTSTAMP:20260421T022002
CREATED:20230824T175011Z
LAST-MODIFIED:20230918T175940Z
UID:10001226-1694628000-1694635200@uicsl.org
SUMMARY:Diabetes Management Classes
DESCRIPTION:Diabetes doesn’t have to be stressful… We help support Natives in the Fight Against Diabetes! \nEvery Wednesday until October 4\, 6:00 PM – 8:00 PM at UICSL\, 120 West 1300 South \nClass Topics: \n\nHealth Eating (9/13)\nBeing Active (9/20)\nTaking Medication (10/27)\nReducing Risks (10/4)\n\nCall today to get the support you need! Kristie Hinton (801) 214-7667 \nMust be a registered client or live within the same household of a registered client of UICSL.  \n 
URL:https://uicsl.org/event/diabetes-management-classes/2023-09-13/
LOCATION:Flat Iron Mesa Park\, 1765 E 8600 S\, Sandy\, UT\, 84093\, United States
ATTACH;FMTTYPE=image/png:https://uicsl.org/wp-content/uploads/2023/08/Diabetes-Self-Management-Class-1.png
END:VEVENT
BEGIN:VEVENT
DTSTART;TZID=America/Denver:20230914T083000
DTEND;TZID=America/Denver:20230914T130000
DTSTAMP:20260421T022002
CREATED:20230831T154358Z
LAST-MODIFIED:20230831T154409Z
UID:10001234-1694680200-1694696400@uicsl.org
SUMMARY:Closed til 1:00 PM
DESCRIPTION:We are closed until 1:00 PM for our general staff meeting and training. \nRegular business hours resume Friday.
URL:https://uicsl.org/event/closed-til-100-pm/2023-09-14/
LOCATION:UT
ATTACH;FMTTYPE=image/png:https://uicsl.org/wp-content/uploads/2023/08/Holiday-Hours-6-copy-2.png
END:VEVENT
BEGIN:VEVENT
DTSTART;TZID=America/Denver:20230920T083000
DTEND;TZID=America/Denver:20230920T170000
DTSTAMP:20260421T022002
CREATED:20230831T195054Z
LAST-MODIFIED:20230831T195102Z
UID:10001241-1695198600-1695229200@uicsl.org
SUMMARY:Share The Warmth
DESCRIPTION:We need your help!  \nDonation Drive \nDrop off: September 20-22 | 8:30 AM – 5:00 PM \nNew & Gently Used Items Needed: \n\nCoats\nWinter Shoes/Boots\nGloves and Hats\nSocks (new)\nWarm Pants\nBelts\nSleeping Bags\nBlankets & Sheets\nUnderwear – Mens & Women (New)\n\n\n\nShampoo & Conditioner\nLaundry Soap\nDish Soap\nWipes\nNon-Perishable Food Items\nFeminine Hygiene Products\nToilet Paper\nToothbrushes & Toothpaste\n\nQuestions: Heather (385) 867-7741
URL:https://uicsl.org/event/share-the-warmth/2023-09-20/
LOCATION:Flat Iron Mesa Park\, 1765 E 8600 S\, Sandy\, UT\, 84093\, United States
ATTACH;FMTTYPE=image/png:https://uicsl.org/wp-content/uploads/2023/08/donation_drive_flyer.pdf.png
END:VEVENT
BEGIN:VEVENT
DTSTART;TZID=America/Denver:20230920T180000
DTEND;TZID=America/Denver:20230920T200000
DTSTAMP:20260421T022002
CREATED:20230824T175011Z
LAST-MODIFIED:20230918T175940Z
UID:10001227-1695232800-1695240000@uicsl.org
SUMMARY:Diabetes Management Classes
DESCRIPTION:Diabetes doesn’t have to be stressful… We help support Natives in the Fight Against Diabetes! \nEvery Wednesday until October 4\, 6:00 PM – 8:00 PM at UICSL\, 120 West 1300 South \nClass Topics: \n\nHealth Eating (9/13)\nBeing Active (9/20)\nTaking Medication (10/27)\nReducing Risks (10/4)\n\nCall today to get the support you need! Kristie Hinton (801) 214-7667 \nMust be a registered client or live within the same household of a registered client of UICSL.  \n 
URL:https://uicsl.org/event/diabetes-management-classes/2023-09-20/
LOCATION:Flat Iron Mesa Park\, 1765 E 8600 S\, Sandy\, UT\, 84093\, United States
ATTACH;FMTTYPE=image/png:https://uicsl.org/wp-content/uploads/2023/08/Diabetes-Self-Management-Class-1.png
END:VEVENT
BEGIN:VEVENT
DTSTART;TZID=America/Denver:20230921T083000
DTEND;TZID=America/Denver:20230921T170000
DTSTAMP:20260421T022002
CREATED:20230831T195054Z
LAST-MODIFIED:20230831T195102Z
UID:10001242-1695285000-1695315600@uicsl.org
SUMMARY:Share The Warmth
DESCRIPTION:We need your help!  \nDonation Drive \nDrop off: September 20-22 | 8:30 AM – 5:00 PM \nNew & Gently Used Items Needed: \n\nCoats\nWinter Shoes/Boots\nGloves and Hats\nSocks (new)\nWarm Pants\nBelts\nSleeping Bags\nBlankets & Sheets\nUnderwear – Mens & Women (New)\n\n\n\nShampoo & Conditioner\nLaundry Soap\nDish Soap\nWipes\nNon-Perishable Food Items\nFeminine Hygiene Products\nToilet Paper\nToothbrushes & Toothpaste\n\nQuestions: Heather (385) 867-7741
URL:https://uicsl.org/event/share-the-warmth/2023-09-21/
LOCATION:Flat Iron Mesa Park\, 1765 E 8600 S\, Sandy\, UT\, 84093\, United States
ATTACH;FMTTYPE=image/png:https://uicsl.org/wp-content/uploads/2023/08/donation_drive_flyer.pdf.png
END:VEVENT
BEGIN:VEVENT
DTSTART;TZID=America/Denver:20230922T083000
DTEND;TZID=America/Denver:20230922T170000
DTSTAMP:20260421T022002
CREATED:20230831T195054Z
LAST-MODIFIED:20230831T195102Z
UID:10001243-1695371400-1695402000@uicsl.org
SUMMARY:Share The Warmth
DESCRIPTION:We need your help!  \nDonation Drive \nDrop off: September 20-22 | 8:30 AM – 5:00 PM \nNew & Gently Used Items Needed: \n\nCoats\nWinter Shoes/Boots\nGloves and Hats\nSocks (new)\nWarm Pants\nBelts\nSleeping Bags\nBlankets & Sheets\nUnderwear – Mens & Women (New)\n\n\n\nShampoo & Conditioner\nLaundry Soap\nDish Soap\nWipes\nNon-Perishable Food Items\nFeminine Hygiene Products\nToilet Paper\nToothbrushes & Toothpaste\n\nQuestions: Heather (385) 867-7741
URL:https://uicsl.org/event/share-the-warmth/2023-09-22/
LOCATION:Flat Iron Mesa Park\, 1765 E 8600 S\, Sandy\, UT\, 84093\, United States
ATTACH;FMTTYPE=image/png:https://uicsl.org/wp-content/uploads/2023/08/donation_drive_flyer.pdf.png
END:VEVENT
BEGIN:VEVENT
DTSTART;TZID=America/Denver:20230922T120000
DTEND;TZID=America/Denver:20230922T140000
DTSTAMP:20260421T022002
CREATED:20230830T170345Z
LAST-MODIFIED:20230830T170352Z
UID:10001233-1695384000-1695391200@uicsl.org
SUMMARY:Elders Corner Meeting
DESCRIPTION:Calling all Native Elders 50+ \nFriday\, September 22nd \n12:00 PM – 2:00 PM \nScam Prevention Education \n\nLunch provided\nPlease bring your water bottle\n\nRSVP Required \nContact Toni Williams (801) 634-2150 \nMust be a registered client of UICSL
URL:https://uicsl.org/event/elders-corner-meeting-14/
LOCATION:Flat Iron Mesa Park\, 1765 E 8600 S\, Sandy\, UT\, 84093\, United States
ATTACH;FMTTYPE=image/png:https://uicsl.org/wp-content/uploads/2023/08/2.png
END:VEVENT
BEGIN:VEVENT
DTSTART;TZID=America/Denver:20230927T180000
DTEND;TZID=America/Denver:20230927T200000
DTSTAMP:20260421T022002
CREATED:20230824T175011Z
LAST-MODIFIED:20230918T175940Z
UID:10001228-1695837600-1695844800@uicsl.org
SUMMARY:Diabetes Management Classes
DESCRIPTION:Diabetes doesn’t have to be stressful… We help support Natives in the Fight Against Diabetes! \nEvery Wednesday until October 4\, 6:00 PM – 8:00 PM at UICSL\, 120 West 1300 South \nClass Topics: \n\nHealth Eating (9/13)\nBeing Active (9/20)\nTaking Medication (10/27)\nReducing Risks (10/4)\n\nCall today to get the support you need! Kristie Hinton (801) 214-7667 \nMust be a registered client or live within the same household of a registered client of UICSL.  \n 
URL:https://uicsl.org/event/diabetes-management-classes/2023-09-27/
LOCATION:Flat Iron Mesa Park\, 1765 E 8600 S\, Sandy\, UT\, 84093\, United States
ATTACH;FMTTYPE=image/png:https://uicsl.org/wp-content/uploads/2023/08/Diabetes-Self-Management-Class-1.png
END:VEVENT
BEGIN:VEVENT
DTSTART;TZID=America/Denver:20230928T160000
DTEND;TZID=America/Denver:20230928T170000
DTSTAMP:20260421T022002
CREATED:20230922T214831Z
LAST-MODIFIED:20230922T221228Z
UID:10001251-1695916800-1695920400@uicsl.org
SUMMARY:Fort Lewis College Night
DESCRIPTION:Fort Lewis College (FLC) from Durango\, Colorado is coming to UICSL to meet with High School Seniors! An FLC Admission College Counselor will be available to answer any questions and provide a free college application workshop and presentation. Bring a copy of your transcripts. Open to all Native Seniors.
URL:https://uicsl.org/event/fort-lewis-college-night/
LOCATION:Flat Iron Mesa Park\, 1765 E 8600 S\, Sandy\, UT\, 84093\, United States
ATTACH;FMTTYPE=image/png:https://uicsl.org/wp-content/uploads/2023/09/Urban-Indian-Center-FLC-Visit-Poster-002.pdf.png
END:VEVENT
BEGIN:VEVENT
DTSTART;TZID=America/Denver:20230930T090000
DTEND;TZID=America/Denver:20230930T150000
DTSTAMP:20260421T022002
CREATED:20230922T210703Z
LAST-MODIFIED:20230922T210703Z
UID:10001250-1696064400-1696086000@uicsl.org
SUMMARY:Rummage Sale
DESCRIPTION:Wisdom Keepers Rummage Sale \nSaturday\, Sept 30 \n9:00 AM – 3:00 PM \nUICSL West parking lot
URL:https://uicsl.org/event/rummage-sale/
LOCATION:Flat Iron Mesa Park\, 1765 E 8600 S\, Sandy\, UT\, 84093\, United States
ATTACH;FMTTYPE=image/png:https://uicsl.org/wp-content/uploads/2023/09/Rummage-Sale-WK.png
END:VEVENT
END:VCALENDAR