BEGIN:VCALENDAR
VERSION:2.0
PRODID:-//Urban Indian Center of Salt Lake - ECPv6.15.20//NONSGML v1.0//EN
CALSCALE:GREGORIAN
METHOD:PUBLISH
X-WR-CALNAME:Urban Indian Center of Salt Lake
X-ORIGINAL-URL:https://uicsl.org
X-WR-CALDESC:Events for Urban Indian Center of Salt Lake
REFRESH-INTERVAL;VALUE=DURATION:PT1H
X-Robots-Tag:noindex
X-PUBLISHED-TTL:PT1H
BEGIN:VTIMEZONE
TZID:America/Denver
BEGIN:DAYLIGHT
TZOFFSETFROM:-0700
TZOFFSETTO:-0600
TZNAME:MDT
DTSTART:20220313T090000
END:DAYLIGHT
BEGIN:STANDARD
TZOFFSETFROM:-0600
TZOFFSETTO:-0700
TZNAME:MST
DTSTART:20221106T080000
END:STANDARD
BEGIN:DAYLIGHT
TZOFFSETFROM:-0700
TZOFFSETTO:-0600
TZNAME:MDT
DTSTART:20230312T090000
END:DAYLIGHT
BEGIN:STANDARD
TZOFFSETFROM:-0600
TZOFFSETTO:-0700
TZNAME:MST
DTSTART:20231105T080000
END:STANDARD
BEGIN:DAYLIGHT
TZOFFSETFROM:-0700
TZOFFSETTO:-0600
TZNAME:MDT
DTSTART:20240310T090000
END:DAYLIGHT
BEGIN:STANDARD
TZOFFSETFROM:-0600
TZOFFSETTO:-0700
TZNAME:MST
DTSTART:20241103T080000
END:STANDARD
END:VTIMEZONE
BEGIN:VEVENT
DTSTART;TZID=America/Denver:20230802T180000
DTEND;TZID=America/Denver:20230802T190000
DTSTAMP:20260421T092539
CREATED:20230719T154545Z
LAST-MODIFIED:20230802T213527Z
UID:10001224-1690999200-1691002800@uicsl.org
SUMMARY:In The Steps of Our Ancestors Running Group
DESCRIPTION:ITS TOO HOT\, MEET US INSIDE! \nIn The Steps of Our Ancestors Running Group! \n 6:00 PM – 7:00 PM \nOlympic Oval Track Indoor Track\, 5662 So. Cougar Lane (4800 West)\, Kearns\, UT 84118 \nFree Entry 6:00 PM – 6:10 PM for registered client of UICSL and their household members. \nAll experience levels are welcome. \n\nKids 10+ welcome to participate\nStrollers are welcome\nParent/guardian supervision required\n\nHave questions or want more info? Contact Moriah at (801) 889-7244
URL:https://uicsl.org/event/in-the-steps-of-our-ancestors-running-group-3/2023-08-02/
LOCATION:Utah Olympic Oval Indoor Track\, 5662 South Cougar Lane (4800 West)\, Salt Lake City\, Utah\, 84118
ATTACH;FMTTYPE=image/png:https://uicsl.org/wp-content/uploads/2023/07/All-ages-experience-levels-welcome-2-2.png
END:VEVENT
BEGIN:VEVENT
DTSTART;TZID=America/Denver:20230811T120000
DTEND;TZID=America/Denver:20230811T140000
DTSTAMP:20260421T092539
CREATED:20230718T171521Z
LAST-MODIFIED:20230718T171534Z
UID:10001220-1691755200-1691762400@uicsl.org
SUMMARY:Elders Corner Meeting
DESCRIPTION:Elders Corner Meeting for Native Elders 50+ \nAugust 11th & 25 from 12:00 PM – 2:00 PM \nUICSL Main Hall\, 120 West 1300 South \n\nLunch provided\nPlease bring your own water bottle\n\nMore information or sign up by contacting Toni Williams (801) 634-2150 \nMust be a registered client of Urban Indian Center of Salt Lake
URL:https://uicsl.org/event/elders-corner-meeting-12/2023-08-11/
LOCATION:Flat Iron Mesa Park\, 1765 E 8600 S\, Sandy\, UT\, 84093\, United States
ATTACH;FMTTYPE=image/png:https://uicsl.org/wp-content/uploads/2023/07/Elders-Corner-Meeting-Facebook-Post-4-copy.png
END:VEVENT
BEGIN:VEVENT
DTSTART;TZID=America/Denver:20230824T053000
DTEND;TZID=America/Denver:20230824T193000
DTSTAMP:20260421T092539
CREATED:20230801T030612Z
LAST-MODIFIED:20230801T030612Z
UID:10001225-1692855000-1692905400@uicsl.org
SUMMARY:After Hour Health Clinic
DESCRIPTION:***By Appointment Only***
URL:https://uicsl.org/event/after-hour-health-clinic/
LOCATION:UT
ATTACH;FMTTYPE=image/png:https://uicsl.org/wp-content/uploads/2023/07/After-hour-clinic-2000-×-780-px-1.png
END:VEVENT
BEGIN:VEVENT
DTSTART;TZID=America/Denver:20230824T083000
DTEND;TZID=America/Denver:20230824T130000
DTSTAMP:20260421T092539
CREATED:20230825T040558Z
LAST-MODIFIED:20230825T044803Z
UID:10001230-1692865800-1692882000@uicsl.org
SUMMARY:Closed Until 1:00 PM
DESCRIPTION:We are closed until 1:00 PM today for our General Staff meeting and training. \n 
URL:https://uicsl.org/event/closed-until-100-pm-10/
LOCATION:Flat Iron Mesa Park\, 1765 E 8600 S\, Sandy\, UT\, 84093\, United States
END:VEVENT
BEGIN:VEVENT
DTSTART;TZID=America/Denver:20230825T120000
DTEND;TZID=America/Denver:20230825T140000
DTSTAMP:20260421T092539
CREATED:20230718T171521Z
LAST-MODIFIED:20230718T171534Z
UID:10001221-1692964800-1692972000@uicsl.org
SUMMARY:Elders Corner Meeting
DESCRIPTION:Elders Corner Meeting for Native Elders 50+ \nAugust 11th & 25 from 12:00 PM – 2:00 PM \nUICSL Main Hall\, 120 West 1300 South \n\nLunch provided\nPlease bring your own water bottle\n\nMore information or sign up by contacting Toni Williams (801) 634-2150 \nMust be a registered client of Urban Indian Center of Salt Lake
URL:https://uicsl.org/event/elders-corner-meeting-12/2023-08-25/
LOCATION:Flat Iron Mesa Park\, 1765 E 8600 S\, Sandy\, UT\, 84093\, United States
ATTACH;FMTTYPE=image/png:https://uicsl.org/wp-content/uploads/2023/07/Elders-Corner-Meeting-Facebook-Post-4-copy.png
END:VEVENT
END:VCALENDAR