BEGIN:VCALENDAR
VERSION:2.0
PRODID:-//Urban Indian Center of Salt Lake - ECPv6.15.20//NONSGML v1.0//EN
CALSCALE:GREGORIAN
METHOD:PUBLISH
X-WR-CALNAME:Urban Indian Center of Salt Lake
X-ORIGINAL-URL:https://uicsl.org
X-WR-CALDESC:Events for Urban Indian Center of Salt Lake
REFRESH-INTERVAL;VALUE=DURATION:PT1H
X-Robots-Tag:noindex
X-PUBLISHED-TTL:PT1H
BEGIN:VTIMEZONE
TZID:America/Denver
BEGIN:DAYLIGHT
TZOFFSETFROM:-0700
TZOFFSETTO:-0600
TZNAME:MDT
DTSTART:20220313T090000
END:DAYLIGHT
BEGIN:STANDARD
TZOFFSETFROM:-0600
TZOFFSETTO:-0700
TZNAME:MST
DTSTART:20221106T080000
END:STANDARD
BEGIN:DAYLIGHT
TZOFFSETFROM:-0700
TZOFFSETTO:-0600
TZNAME:MDT
DTSTART:20230312T090000
END:DAYLIGHT
BEGIN:STANDARD
TZOFFSETFROM:-0600
TZOFFSETTO:-0700
TZNAME:MST
DTSTART:20231105T080000
END:STANDARD
BEGIN:DAYLIGHT
TZOFFSETFROM:-0700
TZOFFSETTO:-0600
TZNAME:MDT
DTSTART:20240310T090000
END:DAYLIGHT
BEGIN:STANDARD
TZOFFSETFROM:-0600
TZOFFSETTO:-0700
TZNAME:MST
DTSTART:20241103T080000
END:STANDARD
END:VTIMEZONE
BEGIN:VEVENT
DTSTART;VALUE=DATE:20230704
DTEND;VALUE=DATE:20230705
DTSTAMP:20260421T105237
CREATED:20230614T223403Z
LAST-MODIFIED:20230614T230012Z
UID:10001215-1688428800-1688515199@uicsl.org
SUMMARY:Closed
DESCRIPTION:Holiday Hours \nClosed – 4th of July \nRegular business hours resume July 5th
URL:https://uicsl.org/event/closed-9/
LOCATION:UT
ATTACH;FMTTYPE=image/png:https://uicsl.org/wp-content/uploads/2023/06/Holiday-Hours-2-copy.png
END:VEVENT
BEGIN:VEVENT
DTSTART;TZID=America/Denver:20230706T183000
DTEND;TZID=America/Denver:20230706T193000
DTSTAMP:20260421T105237
CREATED:20230412T182132Z
LAST-MODIFIED:20230710T165213Z
UID:10001206-1688668200-1688671800@uicsl.org
SUMMARY:ZUMBA
DESCRIPTION:Every Thursday \n6:30 PM – 7:30 PM \nUICSL Main Hall\, 120 West 1300 South. \nInstructed by Ray J (Navajo) and Vita Begay (Navajo) \nMust be a register client or live within the same household as a registered client of UICSL. 
URL:https://uicsl.org/event/zumba/2023-07-06/
LOCATION:Flat Iron Mesa Park\, 1765 E 8600 S\, Sandy\, UT\, 84093\, United States
ATTACH;FMTTYPE=image/png:https://uicsl.org/wp-content/uploads/2023/04/Zumba.png
END:VEVENT
BEGIN:VEVENT
DTSTART;TZID=America/Denver:20230713T083000
DTEND;TZID=America/Denver:20230713T130000
DTSTAMP:20260421T105237
CREATED:20230619T164053Z
LAST-MODIFIED:20230623T210136Z
UID:10001217-1689237000-1689253200@uicsl.org
SUMMARY:CLOSED until 1:00 PM
DESCRIPTION:Our doors will open at 1:00 PM.
URL:https://uicsl.org/event/closed-until-100-pm-9/
LOCATION:Flat Iron Mesa Park\, 1765 E 8600 S\, Sandy\, UT\, 84093\, United States
ATTACH;FMTTYPE=image/png:https://uicsl.org/wp-content/uploads/2023/06/Holiday-Hours-6-2.png
END:VEVENT
BEGIN:VEVENT
DTSTART;TZID=America/Denver:20230714T120000
DTEND;TZID=America/Denver:20230714T140000
DTSTAMP:20260421T105237
CREATED:20230628T144541Z
LAST-MODIFIED:20230628T144548Z
UID:10001218-1689336000-1689343200@uicsl.org
SUMMARY:Elders Corner Meeting
DESCRIPTION:Elders Corner Meeting for Native Elders 50+ \n12:00 PM – 2:00 PM \nUrban Indian Center of Salt Lake\, 120 West 1300 South \n\nFriday\, July 14th\n\nBBQ & Bingo\n\n\nFriday\, July 28th\n\nArts & Crafts\n\n\n\nLunch provided\, Please bring your water bottle \nMore information? Contact Toni Williams (801) 634-2150 \n  \nMust be a registered client of UICSL. 
URL:https://uicsl.org/event/elders-corner-meeting-11/2023-07-14/
LOCATION:Flat Iron Mesa Park\, 1765 E 8600 S\, Sandy\, UT\, 84093\, United States
ATTACH;FMTTYPE=image/png:https://uicsl.org/wp-content/uploads/2023/06/Elders-Corner-Meeting-Facebook-Post-4-2.png
END:VEVENT
BEGIN:VEVENT
DTSTART;TZID=America/Denver:20230719T180000
DTEND;TZID=America/Denver:20230719T190000
DTSTAMP:20260421T105237
CREATED:20230719T154545Z
LAST-MODIFIED:20230802T213527Z
UID:10001222-1689789600-1689793200@uicsl.org
SUMMARY:In The Steps of Our Ancestors Running Group
DESCRIPTION:ITS TOO HOT\, MEET US INSIDE! \nIn The Steps of Our Ancestors Running Group! \n 6:00 PM – 7:00 PM \nOlympic Oval Track Indoor Track\, 5662 So. Cougar Lane (4800 West)\, Kearns\, UT 84118 \nFree Entry 6:00 PM – 6:10 PM for registered client of UICSL and their household members. \nAll experience levels are welcome. \n\nKids 10+ welcome to participate\nStrollers are welcome\nParent/guardian supervision required\n\nHave questions or want more info? Contact Moriah at (801) 889-7244
URL:https://uicsl.org/event/in-the-steps-of-our-ancestors-running-group-3/2023-07-19/
LOCATION:Utah Olympic Oval Indoor Track\, 5662 South Cougar Lane (4800 West)\, Salt Lake City\, Utah\, 84118
ATTACH;FMTTYPE=image/png:https://uicsl.org/wp-content/uploads/2023/07/All-ages-experience-levels-welcome-2-2.png
END:VEVENT
BEGIN:VEVENT
DTSTART;VALUE=DATE:20230724
DTEND;VALUE=DATE:20230725
DTSTAMP:20260421T105237
CREATED:20230614T231732Z
LAST-MODIFIED:20230614T231732Z
UID:10001216-1690156800-1690243199@uicsl.org
SUMMARY:Closed
DESCRIPTION:Closed Monday\, July 25th \nRegular business hours resume Tuesday\, July 26th.
URL:https://uicsl.org/event/closed-10/
LOCATION:UT
ATTACH;FMTTYPE=image/png:https://uicsl.org/wp-content/uploads/2023/06/Holiday-Hours-2-copy-2-1.png
END:VEVENT
BEGIN:VEVENT
DTSTART;TZID=America/Denver:20230726T180000
DTEND;TZID=America/Denver:20230726T190000
DTSTAMP:20260421T105238
CREATED:20230719T154545Z
LAST-MODIFIED:20230802T213527Z
UID:10001223-1690394400-1690398000@uicsl.org
SUMMARY:In The Steps of Our Ancestors Running Group
DESCRIPTION:ITS TOO HOT\, MEET US INSIDE! \nIn The Steps of Our Ancestors Running Group! \n 6:00 PM – 7:00 PM \nOlympic Oval Track Indoor Track\, 5662 So. Cougar Lane (4800 West)\, Kearns\, UT 84118 \nFree Entry 6:00 PM – 6:10 PM for registered client of UICSL and their household members. \nAll experience levels are welcome. \n\nKids 10+ welcome to participate\nStrollers are welcome\nParent/guardian supervision required\n\nHave questions or want more info? Contact Moriah at (801) 889-7244
URL:https://uicsl.org/event/in-the-steps-of-our-ancestors-running-group-3/2023-07-26/
LOCATION:Utah Olympic Oval Indoor Track\, 5662 South Cougar Lane (4800 West)\, Salt Lake City\, Utah\, 84118
ATTACH;FMTTYPE=image/png:https://uicsl.org/wp-content/uploads/2023/07/All-ages-experience-levels-welcome-2-2.png
END:VEVENT
BEGIN:VEVENT
DTSTART;TZID=America/Denver:20230728T120000
DTEND;TZID=America/Denver:20230728T140000
DTSTAMP:20260421T105238
CREATED:20230628T144541Z
LAST-MODIFIED:20230628T144548Z
UID:10001219-1690545600-1690552800@uicsl.org
SUMMARY:Elders Corner Meeting
DESCRIPTION:Elders Corner Meeting for Native Elders 50+ \n12:00 PM – 2:00 PM \nUrban Indian Center of Salt Lake\, 120 West 1300 South \n\nFriday\, July 14th\n\nBBQ & Bingo\n\n\nFriday\, July 28th\n\nArts & Crafts\n\n\n\nLunch provided\, Please bring your water bottle \nMore information? Contact Toni Williams (801) 634-2150 \n  \nMust be a registered client of UICSL. 
URL:https://uicsl.org/event/elders-corner-meeting-11/2023-07-28/
LOCATION:Flat Iron Mesa Park\, 1765 E 8600 S\, Sandy\, UT\, 84093\, United States
ATTACH;FMTTYPE=image/png:https://uicsl.org/wp-content/uploads/2023/06/Elders-Corner-Meeting-Facebook-Post-4-2.png
END:VEVENT
BEGIN:VEVENT
DTSTART;TZID=America/Denver:20230729T100000
DTEND;TZID=America/Denver:20230729T140000
DTSTAMP:20260421T105238
CREATED:20230608T001233Z
LAST-MODIFIED:20230706T224353Z
UID:10001213-1690624800-1690639200@uicsl.org
SUMMARY:Back 2 School Health Fair
DESCRIPTION:We are excited to announce our Back to School Health Fair!\nJoin us on Saturday\, July 29\, from 10:00 AM – 2:00 PM. \nStudents (Pre-K – College): \n\nbackpack\nschool supplies\nboy haircuts\nsports physicals*\nimmunizations*\n\nFamily members: \n\nCommunity Resources\nUtah Food Bank\nGiveaways\nFacepainting\nCovid-19 Vaccines*\n\n*by appointment only \nRSVP today by clicking the link:\nhttps://lnkd.in/g-V63KQE \nQuestions? Call (801) 486-4877 \n\n*****Must be a registered client of UICSL for clinic appointments
URL:https://uicsl.org/event/back-2-school-health-fair/
LOCATION:Flat Iron Mesa Park\, 1765 E 8600 S\, Sandy\, UT\, 84093\, United States
ATTACH;FMTTYPE=image/png:https://uicsl.org/wp-content/uploads/2023/06/Call-for-Donations-1.png
ORGANIZER;CN="Urban Indian Center of Salt Lake":MAILTO:info@iwic.org
END:VEVENT
END:VCALENDAR