BEGIN:VCALENDAR
VERSION:2.0
PRODID:-//Urban Indian Center of Salt Lake - ECPv6.15.20//NONSGML v1.0//EN
CALSCALE:GREGORIAN
METHOD:PUBLISH
X-ORIGINAL-URL:https://uicsl.org
X-WR-CALDESC:Events for Urban Indian Center of Salt Lake
REFRESH-INTERVAL;VALUE=DURATION:PT1H
X-Robots-Tag:noindex
X-PUBLISHED-TTL:PT1H
BEGIN:VTIMEZONE
TZID:America/Denver
BEGIN:DAYLIGHT
TZOFFSETFROM:-0700
TZOFFSETTO:-0600
TZNAME:MDT
DTSTART:20220313T090000
END:DAYLIGHT
BEGIN:STANDARD
TZOFFSETFROM:-0600
TZOFFSETTO:-0700
TZNAME:MST
DTSTART:20221106T080000
END:STANDARD
BEGIN:DAYLIGHT
TZOFFSETFROM:-0700
TZOFFSETTO:-0600
TZNAME:MDT
DTSTART:20230312T090000
END:DAYLIGHT
BEGIN:STANDARD
TZOFFSETFROM:-0600
TZOFFSETTO:-0700
TZNAME:MST
DTSTART:20231105T080000
END:STANDARD
BEGIN:DAYLIGHT
TZOFFSETFROM:-0700
TZOFFSETTO:-0600
TZNAME:MDT
DTSTART:20240310T090000
END:DAYLIGHT
BEGIN:STANDARD
TZOFFSETFROM:-0600
TZOFFSETTO:-0700
TZNAME:MST
DTSTART:20241103T080000
END:STANDARD
END:VTIMEZONE
BEGIN:VEVENT
DTSTART;TZID=America/Denver:20230601T183000
DTEND;TZID=America/Denver:20230601T193000
DTSTAMP:20260421T122212
CREATED:20230412T182132Z
LAST-MODIFIED:20230710T165213Z
UID:10001203-1685644200-1685647800@uicsl.org
SUMMARY:ZUMBA
DESCRIPTION:Every Thursday \n6:30 PM – 7:30 PM \nUICSL Main Hall\, 120 West 1300 South. \nInstructed by Ray J (Navajo) and Vita Begay (Navajo) \nMust be a register client or live within the same household as a registered client of UICSL. 
URL:https://uicsl.org/event/zumba/2023-06-01/
LOCATION:Flat Iron Mesa Park\, 1765 E 8600 S\, Sandy\, UT\, 84093\, United States
ATTACH;FMTTYPE=image/png:https://uicsl.org/wp-content/uploads/2023/04/Zumba.png
END:VEVENT
BEGIN:VEVENT
DTSTART;TZID=America/Denver:20230607T173000
DTEND;TZID=America/Denver:20230607T193000
DTSTAMP:20260421T122212
CREATED:20230509T135042Z
LAST-MODIFIED:20230509T143302Z
UID:10001037-1686159000-1686166200@uicsl.org
SUMMARY:Fight Against Diabetes - 4 part series
DESCRIPTION:Supporting Native Americans in the Fight Against Diabetes! \nLearn how to manage your diabetes in a small group setting. \nEvery Wednesday \nBeginning May 17th – 5:30 PM – 7:30 PM\, UICSL – 120 West 1300 South \n\nMay 17: Food\nMay 24: Activity\nMay 31: Medicine\nJune 7: Emotion\n\nEach session will include a meal and movement to help control blood sugars \nRegistration Required. \nFor more information or to sign up\, contact Kristie: (801) 214-7667 \nMust be a registered client or live within the sam household of a registered client of UICSL
URL:https://uicsl.org/event/fight-against-diabetes-4-part-series/2023-06-07/
LOCATION:Flat Iron Mesa Park\, 1765 E 8600 S\, Sandy\, UT\, 84093\, United States
ATTACH;FMTTYPE=image/png:https://uicsl.org/wp-content/uploads/2023/05/DIABETES-PROGRAM-MAY-2023.png
ORGANIZER;CN="Urban Indian Center of Salt Lake":MAILTO:info@iwic.org
END:VEVENT
BEGIN:VEVENT
DTSTART;TZID=America/Denver:20230608T083000
DTEND;TZID=America/Denver:20230608T130000
DTSTAMP:20260421T122212
CREATED:20230602T203345Z
LAST-MODIFIED:20230605T143807Z
UID:10001045-1686213000-1686229200@uicsl.org
SUMMARY:Closed Until 1:00 PM
DESCRIPTION:We will be closed from 8:30 AM – 1:00 PM for our General Staff Meeting.
URL:https://uicsl.org/event/closed-until-100-pm-8/
LOCATION:UT
ATTACH;FMTTYPE=image/png:https://uicsl.org/wp-content/uploads/2023/06/Holiday-Hours-6.png
ORGANIZER;CN="Urban Indian Center of Salt Lake":MAILTO:info@iwic.org
END:VEVENT
BEGIN:VEVENT
DTSTART;TZID=America/Denver:20230608T183000
DTEND;TZID=America/Denver:20230608T193000
DTSTAMP:20260421T122212
CREATED:20230412T182132Z
LAST-MODIFIED:20230710T165213Z
UID:10001204-1686249000-1686252600@uicsl.org
SUMMARY:ZUMBA
DESCRIPTION:Every Thursday \n6:30 PM – 7:30 PM \nUICSL Main Hall\, 120 West 1300 South. \nInstructed by Ray J (Navajo) and Vita Begay (Navajo) \nMust be a register client or live within the same household as a registered client of UICSL. 
URL:https://uicsl.org/event/zumba/2023-06-08/
LOCATION:Flat Iron Mesa Park\, 1765 E 8600 S\, Sandy\, UT\, 84093\, United States
ATTACH;FMTTYPE=image/png:https://uicsl.org/wp-content/uploads/2023/04/Zumba.png
END:VEVENT
BEGIN:VEVENT
DTSTART;TZID=America/Denver:20230609T120000
DTEND;TZID=America/Denver:20230609T140000
DTSTAMP:20260421T122212
CREATED:20230602T212035Z
LAST-MODIFIED:20230602T212605Z
UID:10001211-1686312000-1686319200@uicsl.org
SUMMARY:Elders Corner Meeting for Native Elders 50+
DESCRIPTION:Elders Corner Meeting for Native Elders 50+ \nJune 9th & 23rd from 12:00 PM – 2:00 PM \nUICSL Main Hall\, 120 West 1300 South \n\nSnacks provided\nPlease bring your own water bottle\n\nMore information or sign up by contacting Toni Williams (801) 634-2150 \nMust be a registered client of Urban Indian Center of Salt Lake
URL:https://uicsl.org/event/elders-corner-meeting-for-native-elders-50/2023-06-09/
LOCATION:Flat Iron Mesa Park\, 1765 E 8600 S\, Sandy\, UT\, 84093\, United States
ATTACH;FMTTYPE=image/png:https://uicsl.org/wp-content/uploads/2023/06/Elders-Corner-Meeting-Facebook-Post-4.png
ORGANIZER;CN="Urban Indian Center of Salt Lake":MAILTO:info@iwic.org
END:VEVENT
BEGIN:VEVENT
DTSTART;TZID=America/Denver:20230609T140000
DTEND;TZID=America/Denver:20230609T170000
DTSTAMP:20260421T122212
CREATED:20230509T201259Z
LAST-MODIFIED:20230509T201259Z
UID:10001040-1686319200-1686330000@uicsl.org
SUMMARY:Closed
DESCRIPTION:We will close at 2:00 PM for our employer summer activity. \nRegular business hours resume June 12th.
URL:https://uicsl.org/event/closed-7/
LOCATION:UT
ATTACH;FMTTYPE=image/png:https://uicsl.org/wp-content/uploads/2023/05/Holiday-Hours-6-copy-2.png
END:VEVENT
BEGIN:VEVENT
DTSTART;TZID=America/Denver:20230623T120000
DTEND;TZID=America/Denver:20230623T140000
DTSTAMP:20260421T122212
CREATED:20230602T212035Z
LAST-MODIFIED:20230602T212605Z
UID:10001212-1687521600-1687528800@uicsl.org
SUMMARY:Elders Corner Meeting for Native Elders 50+
DESCRIPTION:Elders Corner Meeting for Native Elders 50+ \nJune 9th & 23rd from 12:00 PM – 2:00 PM \nUICSL Main Hall\, 120 West 1300 South \n\nSnacks provided\nPlease bring your own water bottle\n\nMore information or sign up by contacting Toni Williams (801) 634-2150 \nMust be a registered client of Urban Indian Center of Salt Lake
URL:https://uicsl.org/event/elders-corner-meeting-for-native-elders-50/2023-06-23/
LOCATION:Flat Iron Mesa Park\, 1765 E 8600 S\, Sandy\, UT\, 84093\, United States
ATTACH;FMTTYPE=image/png:https://uicsl.org/wp-content/uploads/2023/06/Elders-Corner-Meeting-Facebook-Post-4.png
ORGANIZER;CN="Urban Indian Center of Salt Lake":MAILTO:info@iwic.org
END:VEVENT
BEGIN:VEVENT
DTSTART;TZID=America/Denver:20230626T173000
DTEND;TZID=America/Denver:20230626T190000
DTSTAMP:20260421T122212
CREATED:20230612T154026Z
LAST-MODIFIED:20230619T172052Z
UID:10001214-1687800600-1687806000@uicsl.org
SUMMARY:Learn to Hoop Dance (Ages 10-24)
DESCRIPTION:Learn to Hoop Dance by Terry Goedel \nOpen to Native youth ages 10-24 \nClass schedule: \n6/26 \n\n5:30 PM – 6:00 PM Hoop Making\n6:00 PM – 7:00 PM Dance Class\n\nSign up by contacting Eryon Greenburg by email \nMust be a registered client of UICSL
URL:https://uicsl.org/event/learn-to-hoop-dance-ages-10-24/
LOCATION:Flat Iron Mesa Park\, 1765 E 8600 S\, Sandy\, UT\, 84093\, United States
ATTACH;FMTTYPE=image/png:https://uicsl.org/wp-content/uploads/2023/06/Hoop-Dance-Workshop-2.png
END:VEVENT
BEGIN:VEVENT
DTSTART;TZID=America/Denver:20230629T100000
DTEND;TZID=America/Denver:20230629T130000
DTSTAMP:20260421T122212
CREATED:20230602T205645Z
LAST-MODIFIED:20230602T205645Z
UID:10001210-1688032800-1688043600@uicsl.org
SUMMARY:Family Field Day
DESCRIPTION:Remembering Our Ancestors \n\nLunch Provided\nIndigenous Games\nActivities for All Ages\nFace Painting\n\nRSVP by calling Moriah at (385) 267-1721 \nMust be a registered client or live within the same household as a registered client of UICSL. \n 
URL:https://uicsl.org/event/family-field-day/
LOCATION:Murray Park Pavilion #2\, 425 E. Parkside Drive\, Murray\, Utah\, 84107
ATTACH;FMTTYPE=image/png:https://uicsl.org/wp-content/uploads/2023/06/Family-Fun-Day-2023.png
ORGANIZER;CN="Urban Indian Center of Salt Lake":MAILTO:info@iwic.org
END:VEVENT
BEGIN:VEVENT
DTSTART;TZID=America/Denver:20230629T183000
DTEND;TZID=America/Denver:20230629T193000
DTSTAMP:20260421T122212
CREATED:20230412T182132Z
LAST-MODIFIED:20230710T165213Z
UID:10001205-1688063400-1688067000@uicsl.org
SUMMARY:ZUMBA
DESCRIPTION:Every Thursday \n6:30 PM – 7:30 PM \nUICSL Main Hall\, 120 West 1300 South. \nInstructed by Ray J (Navajo) and Vita Begay (Navajo) \nMust be a register client or live within the same household as a registered client of UICSL. 
URL:https://uicsl.org/event/zumba/2023-06-29/
LOCATION:Flat Iron Mesa Park\, 1765 E 8600 S\, Sandy\, UT\, 84093\, United States
ATTACH;FMTTYPE=image/png:https://uicsl.org/wp-content/uploads/2023/04/Zumba.png
END:VEVENT
END:VCALENDAR