BEGIN:VCALENDAR
VERSION:2.0
PRODID:-//Urban Indian Center of Salt Lake - ECPv6.15.20//NONSGML v1.0//EN
CALSCALE:GREGORIAN
METHOD:PUBLISH
X-ORIGINAL-URL:https://uicsl.org
X-WR-CALDESC:Events for Urban Indian Center of Salt Lake
REFRESH-INTERVAL;VALUE=DURATION:PT1H
X-Robots-Tag:noindex
X-PUBLISHED-TTL:PT1H
BEGIN:VTIMEZONE
TZID:America/Denver
BEGIN:DAYLIGHT
TZOFFSETFROM:-0700
TZOFFSETTO:-0600
TZNAME:MDT
DTSTART:20220313T090000
END:DAYLIGHT
BEGIN:STANDARD
TZOFFSETFROM:-0600
TZOFFSETTO:-0700
TZNAME:MST
DTSTART:20221106T080000
END:STANDARD
BEGIN:DAYLIGHT
TZOFFSETFROM:-0700
TZOFFSETTO:-0600
TZNAME:MDT
DTSTART:20230312T090000
END:DAYLIGHT
BEGIN:STANDARD
TZOFFSETFROM:-0600
TZOFFSETTO:-0700
TZNAME:MST
DTSTART:20231105T080000
END:STANDARD
BEGIN:DAYLIGHT
TZOFFSETFROM:-0700
TZOFFSETTO:-0600
TZNAME:MDT
DTSTART:20240310T090000
END:DAYLIGHT
BEGIN:STANDARD
TZOFFSETFROM:-0600
TZOFFSETTO:-0700
TZNAME:MST
DTSTART:20241103T080000
END:STANDARD
END:VTIMEZONE
BEGIN:VEVENT
DTSTART;TZID=America/Denver:20230403T173000
DTEND;TZID=America/Denver:20230403T190000
DTSTAMP:20260421T232947
CREATED:20230131T225752Z
LAST-MODIFIED:20230320T215609Z
UID:10001158-1680543000-1680548400@uicsl.org
SUMMARY:Learn to Hoop Dance
DESCRIPTION:Hoop Dance Lesson for Native Youth ages 10-24 \nInstructed by Terry Goedel \nUICSL Main Hall\, 120 West 1300 South \n  \nMonday Schedule: \n3/6 \n\n 5:30 PM – 6:00 PM Hoop Making\n6:00 PM – 7:00 PM  Dance Class\n\n3/13     No Class \n3/20    Cancelled \n3/27 \n\n 5:30 PM – 6:00 PM Hoop Making\n6:00 PM – 7:00 PM  Dance Class\n\n4/3 \n\n 5:30 PM – 6:00 PM Hoop Making\n6:00 PM – 7:00 PM  Dance Class\n\n  \nSign up today or more information\, please Contact Eryon Greenburg by phone (385) 267-1718 or email: egreenburg@iwic.org \nMust be a registered client of UICSL. 
URL:https://uicsl.org/event/learn-to-hoop-dance-2/2023-04-03/
LOCATION:Flat Iron Mesa Park\, 1765 E 8600 S\, Sandy\, UT\, 84093\, United States
ATTACH;FMTTYPE=image/png:https://uicsl.org/wp-content/uploads/2023/01/Hoop-Dance-Workshop-2-1.png
ORGANIZER;CN="Urban Indian Center of Salt Lake":MAILTO:info@iwic.org
END:VEVENT
BEGIN:VEVENT
DTSTART;TZID=America/Denver:20230404T120000
DTEND;TZID=America/Denver:20230404T140000
DTSTAMP:20260421T232947
CREATED:20230404T193911Z
LAST-MODIFIED:20230428T175238Z
UID:10001192-1680609600-1680616800@uicsl.org
SUMMARY:Elders Corner Meeting
DESCRIPTION:Elders Corner Meeting for Native Elders 50+ \nApril 14th & 28th from 12:00 PM – 2:00 PM \nUICSL Main Hall\, 120 West 1300 South \n\nSnacks provided\nPlease bring water bottle\n\nMore information or Sign up by contacting Toni Williams (801) 634-2150 \nMust be a registered client of Urban Indian Center of Salt Lake
URL:https://uicsl.org/event/elders-corner-meeting-9/2023-04-04/
LOCATION:Flat Iron Mesa Park\, 1765 E 8600 S\, Sandy\, UT\, 84093\, United States
ATTACH;FMTTYPE=image/png:https://uicsl.org/wp-content/uploads/2023/04/Elders-Corner-Meeting-Facebook-Post-4-1.png
ORGANIZER;CN="Urban Indian Center of Salt Lake":MAILTO:info@iwic.org
END:VEVENT
BEGIN:VEVENT
DTSTART;TZID=America/Denver:20230405T180000
DTEND;TZID=America/Denver:20230405T190000
DTSTAMP:20260421T232947
CREATED:20221130T215820Z
LAST-MODIFIED:20230508T212137Z
UID:10001117-1680717600-1680721200@uicsl.org
SUMMARY:In The Steps of Our Ancestors Running Group
DESCRIPTION:In The Steps of Our Ancestors Running Group! \nEvery Wednesday \nOlympic Oval Indoor Track at 6:00 PM (Arrive between 6:00 PM – 6:10 PM for free entry) \nAll experience levels are welcome. \n\nKids 10+ welcome to participate\nStrollers are welcome\nParent/guardian supervision required\n\nMust be a registered client of UICSL.  \nHave questions or want more info? Contact Moriah at (801) 889-7244
URL:https://uicsl.org/event/in-the-steps-of-our-ancestors-running-group-2/2023-04-05/
LOCATION:Utah Olympic Oval Indoor Track\, 5662 South Cougar Lane (4800 West)\, Salt Lake City\, Utah\, 84118
ATTACH;FMTTYPE=image/png:https://uicsl.org/wp-content/uploads/2022/11/All-ages-experience-levels-welcome-1.png
ORGANIZER;CN="Urban Indian Center of Salt Lake":MAILTO:info@iwic.org
END:VEVENT
BEGIN:VEVENT
DTSTART;TZID=America/Denver:20230410T173000
DTEND;TZID=America/Denver:20230410T190000
DTSTAMP:20260421T232947
CREATED:20230406T033500Z
LAST-MODIFIED:20230424T222132Z
UID:10001195-1681147800-1681153200@uicsl.org
SUMMARY:Learn to Hoop Dance
DESCRIPTION:Learn to Hoop Dance by Terry Goedel \nOpen to Native youth ages 10-24 \nClass schedule: \n4/10  \n\n5:30 PM – 6:00 PM Hoop Making\n6:00 PM – 7:00 PM Dance Class\n\n4/24 \n\n5:30 PM – 6:00 PM Hoop Making\n6:00 PM – 7:00 PM Dance Class\n\nSign up by contacting Eryon Greenburg by email \nMust be a registered client of UICSL
URL:https://uicsl.org/event/learn-to-hoop-dance-3/2023-04-10/
LOCATION:Flat Iron Mesa Park\, 1765 E 8600 S\, Sandy\, UT\, 84093\, United States
ATTACH;FMTTYPE=image/png:https://uicsl.org/wp-content/uploads/2023/04/Hoop-Dance-Workshop-2.png
ORGANIZER;CN="Urban Indian Center of Salt Lake":MAILTO:info@iwic.org
END:VEVENT
BEGIN:VEVENT
DTSTART;TZID=America/Denver:20230411T180000
DTEND;TZID=America/Denver:20230411T200000
DTSTAMP:20260421T232947
CREATED:20230327T202959Z
LAST-MODIFIED:20230327T204250Z
UID:10001188-1681236000-1681243200@uicsl.org
SUMMARY:3rd-12th Grade Culture Class
DESCRIPTION:3rd – 12th Grade Culture Class \nTuesdays – April 11th\, 18th & 25th \n6:00 PM – 8:00 PM \nUICSL Main Hall\, 120 West 1300 South \n\nCultural Activities\nHealthy Check-In\nPowwow Dance Practice\nDrum Practice\n\nLimited space and supplies \nRegistration recommended\, sign up here! \nQuestions or concerns? Contact Ivana at (801) 214-7662 or email \nMust be a registered client of UICSL
URL:https://uicsl.org/event/3rd-12th-grade-culture-class-4/2023-04-11/
LOCATION:Flat Iron Mesa Park\, 1765 E 8600 S\, Sandy\, UT\, 84093\, United States
ORGANIZER;CN="Urban Indian Center of Salt Lake":MAILTO:info@iwic.org
END:VEVENT
BEGIN:VEVENT
DTSTART;TZID=America/Denver:20230412T180000
DTEND;TZID=America/Denver:20230412T190000
DTSTAMP:20260421T232947
CREATED:20221130T215820Z
LAST-MODIFIED:20230508T212137Z
UID:10001118-1681322400-1681326000@uicsl.org
SUMMARY:In The Steps of Our Ancestors Running Group
DESCRIPTION:In The Steps of Our Ancestors Running Group! \nEvery Wednesday \nOlympic Oval Indoor Track at 6:00 PM (Arrive between 6:00 PM – 6:10 PM for free entry) \nAll experience levels are welcome. \n\nKids 10+ welcome to participate\nStrollers are welcome\nParent/guardian supervision required\n\nMust be a registered client of UICSL.  \nHave questions or want more info? Contact Moriah at (801) 889-7244
URL:https://uicsl.org/event/in-the-steps-of-our-ancestors-running-group-2/2023-04-12/
LOCATION:Utah Olympic Oval Indoor Track\, 5662 South Cougar Lane (4800 West)\, Salt Lake City\, Utah\, 84118
ATTACH;FMTTYPE=image/png:https://uicsl.org/wp-content/uploads/2022/11/All-ages-experience-levels-welcome-1.png
ORGANIZER;CN="Urban Indian Center of Salt Lake":MAILTO:info@iwic.org
END:VEVENT
BEGIN:VEVENT
DTSTART;TZID=America/Denver:20230413T083000
DTEND;TZID=America/Denver:20230413T130000
DTSTAMP:20260421T232947
CREATED:20230327T230402Z
LAST-MODIFIED:20230327T230501Z
UID:10001191-1681374600-1681390800@uicsl.org
SUMMARY:Closed until 1:00 PM
DESCRIPTION:Our doors are closed until 1:00 PM for our monthly staff meeting and training. \nRegular business hours resume April 14th.
URL:https://uicsl.org/event/closed-until-100-pm-7/
LOCATION:Flat Iron Mesa Park\, 1765 E 8600 S\, Sandy\, UT\, 84093\, United States
ORGANIZER;CN="Urban Indian Center of Salt Lake":MAILTO:info@iwic.org
END:VEVENT
BEGIN:VEVENT
DTSTART;TZID=America/Denver:20230414T183000
DTEND;TZID=America/Denver:20230414T193000
DTSTAMP:20260421T232947
CREATED:20230412T182132Z
LAST-MODIFIED:20230710T165213Z
UID:10001196-1681497000-1681500600@uicsl.org
SUMMARY:ZUMBA
DESCRIPTION:Every Thursday \n6:30 PM – 7:30 PM \nUICSL Main Hall\, 120 West 1300 South. \nInstructed by Ray J (Navajo) and Vita Begay (Navajo) \nMust be a register client or live within the same household as a registered client of UICSL. 
URL:https://uicsl.org/event/zumba/2023-04-14/
LOCATION:Flat Iron Mesa Park\, 1765 E 8600 S\, Sandy\, UT\, 84093\, United States
ATTACH;FMTTYPE=image/png:https://uicsl.org/wp-content/uploads/2023/04/Zumba.png
END:VEVENT
BEGIN:VEVENT
DTSTART;TZID=America/Denver:20230418T180000
DTEND;TZID=America/Denver:20230418T200000
DTSTAMP:20260421T232947
CREATED:20230327T202959Z
LAST-MODIFIED:20230327T204250Z
UID:10001189-1681840800-1681848000@uicsl.org
SUMMARY:3rd-12th Grade Culture Class
DESCRIPTION:3rd – 12th Grade Culture Class \nTuesdays – April 11th\, 18th & 25th \n6:00 PM – 8:00 PM \nUICSL Main Hall\, 120 West 1300 South \n\nCultural Activities\nHealthy Check-In\nPowwow Dance Practice\nDrum Practice\n\nLimited space and supplies \nRegistration recommended\, sign up here! \nQuestions or concerns? Contact Ivana at (801) 214-7662 or email \nMust be a registered client of UICSL
URL:https://uicsl.org/event/3rd-12th-grade-culture-class-4/2023-04-18/
LOCATION:Flat Iron Mesa Park\, 1765 E 8600 S\, Sandy\, UT\, 84093\, United States
ORGANIZER;CN="Urban Indian Center of Salt Lake":MAILTO:info@iwic.org
END:VEVENT
BEGIN:VEVENT
DTSTART;TZID=America/Denver:20230420T183000
DTEND;TZID=America/Denver:20230420T193000
DTSTAMP:20260421T232947
CREATED:20230412T182132Z
LAST-MODIFIED:20230710T165213Z
UID:10001197-1682015400-1682019000@uicsl.org
SUMMARY:ZUMBA
DESCRIPTION:Every Thursday \n6:30 PM – 7:30 PM \nUICSL Main Hall\, 120 West 1300 South. \nInstructed by Ray J (Navajo) and Vita Begay (Navajo) \nMust be a register client or live within the same household as a registered client of UICSL. 
URL:https://uicsl.org/event/zumba/2023-04-20/
LOCATION:Flat Iron Mesa Park\, 1765 E 8600 S\, Sandy\, UT\, 84093\, United States
ATTACH;FMTTYPE=image/png:https://uicsl.org/wp-content/uploads/2023/04/Zumba.png
END:VEVENT
BEGIN:VEVENT
DTSTART;TZID=America/Denver:20230425T180000
DTEND;TZID=America/Denver:20230425T200000
DTSTAMP:20260421T232947
CREATED:20230327T202959Z
LAST-MODIFIED:20230327T204250Z
UID:10001190-1682445600-1682452800@uicsl.org
SUMMARY:3rd-12th Grade Culture Class
DESCRIPTION:3rd – 12th Grade Culture Class \nTuesdays – April 11th\, 18th & 25th \n6:00 PM – 8:00 PM \nUICSL Main Hall\, 120 West 1300 South \n\nCultural Activities\nHealthy Check-In\nPowwow Dance Practice\nDrum Practice\n\nLimited space and supplies \nRegistration recommended\, sign up here! \nQuestions or concerns? Contact Ivana at (801) 214-7662 or email \nMust be a registered client of UICSL
URL:https://uicsl.org/event/3rd-12th-grade-culture-class-4/2023-04-25/
LOCATION:Flat Iron Mesa Park\, 1765 E 8600 S\, Sandy\, UT\, 84093\, United States
ORGANIZER;CN="Urban Indian Center of Salt Lake":MAILTO:info@iwic.org
END:VEVENT
BEGIN:VEVENT
DTSTART;TZID=America/Denver:20230427T183000
DTEND;TZID=America/Denver:20230427T193000
DTSTAMP:20260421T232947
CREATED:20230412T182132Z
LAST-MODIFIED:20230710T165213Z
UID:10001198-1682620200-1682623800@uicsl.org
SUMMARY:ZUMBA
DESCRIPTION:Every Thursday \n6:30 PM – 7:30 PM \nUICSL Main Hall\, 120 West 1300 South. \nInstructed by Ray J (Navajo) and Vita Begay (Navajo) \nMust be a register client or live within the same household as a registered client of UICSL. 
URL:https://uicsl.org/event/zumba/2023-04-27/
LOCATION:Flat Iron Mesa Park\, 1765 E 8600 S\, Sandy\, UT\, 84093\, United States
ATTACH;FMTTYPE=image/png:https://uicsl.org/wp-content/uploads/2023/04/Zumba.png
END:VEVENT
BEGIN:VEVENT
DTSTART;TZID=America/Denver:20230428T120000
DTEND;TZID=America/Denver:20230428T140000
DTSTAMP:20260421T232947
CREATED:20230404T193911Z
LAST-MODIFIED:20230428T175238Z
UID:10001193-1682683200-1682690400@uicsl.org
SUMMARY:Elders Corner Meeting
DESCRIPTION:Elders Corner Meeting for Native Elders 50+ \nApril 14th & 28th from 12:00 PM – 2:00 PM \nUICSL Main Hall\, 120 West 1300 South \n\nSnacks provided\nPlease bring water bottle\n\nMore information or Sign up by contacting Toni Williams (801) 634-2150 \nMust be a registered client of Urban Indian Center of Salt Lake
URL:https://uicsl.org/event/elders-corner-meeting-9/2023-04-28/
LOCATION:Flat Iron Mesa Park\, 1765 E 8600 S\, Sandy\, UT\, 84093\, United States
ATTACH;FMTTYPE=image/png:https://uicsl.org/wp-content/uploads/2023/04/Elders-Corner-Meeting-Facebook-Post-4-1.png
ORGANIZER;CN="Urban Indian Center of Salt Lake":MAILTO:info@iwic.org
END:VEVENT
BEGIN:VEVENT
DTSTART;TZID=America/Denver:20230428T180000
DTEND;TZID=America/Denver:20230428T200000
DTSTAMP:20260421T232947
CREATED:20230405T193709Z
LAST-MODIFIED:20230405T193709Z
UID:10001194-1682704800-1682712000@uicsl.org
SUMMARY:Youth and Family Book Club: Braiding Sweet Grass
DESCRIPTION:Youth and Family Book Club \nReading the book “Braiding Sweetgrass” by Robin Wall Kimmerer \nEach family will be gifted the following: \n\n1 adult “Braiding Sweetgrass” book\n1 young adult “Braiding Sweetgrass” book\n\nBooks will be available for pick up on April 10th. \nRegistered here  \nJoin us on April 28th for a book discussion and planting strawberry seeds activity at UICSL\, 120 West 1300 South. \nLight snacks will be served.  \nFor book pick up of questions contact Eryon Greenburg at egreenburg@iwic.org \n 
URL:https://uicsl.org/event/youth-and-family-book-club-braiding-sweet-grass/
LOCATION:Flat Iron Mesa Park\, 1765 E 8600 S\, Sandy\, UT\, 84093\, United States
ATTACH;FMTTYPE=image/png:https://uicsl.org/wp-content/uploads/2023/04/Youth-and-Family-Book-Activity-April.png
ORGANIZER;CN="Urban Indian Center of Salt Lake":MAILTO:info@iwic.org
END:VEVENT
END:VCALENDAR