BEGIN:VCALENDAR
VERSION:2.0
PRODID:-//Urban Indian Center of Salt Lake - ECPv6.15.20//NONSGML v1.0//EN
CALSCALE:GREGORIAN
METHOD:PUBLISH
X-ORIGINAL-URL:https://uicsl.org
X-WR-CALDESC:Events for Urban Indian Center of Salt Lake
REFRESH-INTERVAL;VALUE=DURATION:PT1H
X-Robots-Tag:noindex
X-PUBLISHED-TTL:PT1H
BEGIN:VTIMEZONE
TZID:America/Denver
BEGIN:DAYLIGHT
TZOFFSETFROM:-0700
TZOFFSETTO:-0600
TZNAME:MDT
DTSTART:20240310T090000
END:DAYLIGHT
BEGIN:STANDARD
TZOFFSETFROM:-0600
TZOFFSETTO:-0700
TZNAME:MST
DTSTART:20241103T080000
END:STANDARD
BEGIN:DAYLIGHT
TZOFFSETFROM:-0700
TZOFFSETTO:-0600
TZNAME:MDT
DTSTART:20250309T090000
END:DAYLIGHT
BEGIN:STANDARD
TZOFFSETFROM:-0600
TZOFFSETTO:-0700
TZNAME:MST
DTSTART:20251102T080000
END:STANDARD
BEGIN:DAYLIGHT
TZOFFSETFROM:-0700
TZOFFSETTO:-0600
TZNAME:MDT
DTSTART:20260308T090000
END:DAYLIGHT
BEGIN:STANDARD
TZOFFSETFROM:-0600
TZOFFSETTO:-0700
TZNAME:MST
DTSTART:20261101T080000
END:STANDARD
END:VTIMEZONE
BEGIN:VEVENT
DTSTART;TZID=America/Denver:20250430T180000
DTEND;TZID=America/Denver:20250430T190000
DTSTAMP:20260421T144727
CREATED:20241230T174700Z
LAST-MODIFIED:20250409T173342Z
UID:10001671-1746036000-1746039600@uicsl.org
SUMMARY:In The Steps of Our Ancestors Running Group
DESCRIPTION:LOCATION CHANGE: We will be outside today! \nIn The Steps of Our Ancestors Running Group \nAll experience levels welcome \n\nkids ages 10+ welcome\nParent/guardian supervision required\nStrollers welcome\n\nMust be a registered client of UICSL.
URL:https://uicsl.org/event/in-the-steps-of-our-ancestors-running-group-4/2025-04-30/
LOCATION:Kearns Oquirrh Park\, 5624 Cougar Ln\, Kearns\, Utah\, 84118
ATTACH;FMTTYPE=image/png:https://uicsl.org/wp-content/uploads/2024/12/run-Location-Change.png
ORGANIZER;CN="Urban Indian Center of Salt Lake":MAILTO:info@iwic.org
END:VEVENT
BEGIN:VEVENT
DTSTART;TZID=America/Denver:20250502T100000
DTEND;TZID=America/Denver:20250502T113000
DTSTAMP:20260421T144727
CREATED:20250507T193007Z
LAST-MODIFIED:20250507T193007Z
UID:10001722-1746180000-1746185400@uicsl.org
SUMMARY:Moving Warriors Open Gym
DESCRIPTION:For Native Elders 50+ on the 1st & 3rd Friday of Each Month \nMultiple activities available that include fun physical activities like casual basketball\, beachball volleyball\, music & hula hoops! \nWater & light refreshments provided. \nQuestions: Moriah (801)889-7244 \nMust be a registered client of UICSL.
URL:https://uicsl.org/event/moving-warriors-open-gym/2025-05-02/
LOCATION:Flat Iron Mesa Park\, 1765 E 8600 S\, Sandy\, UT\, 84093\, United States
ATTACH;FMTTYPE=image/png:https://uicsl.org/wp-content/uploads/2025/03/Moving-Warrior-2.png
END:VEVENT
BEGIN:VEVENT
DTSTART;TZID=America/Denver:20250503T170000
DTEND;TZID=America/Denver:20250503T190000
DTSTAMP:20260421T144727
CREATED:20250425T154724Z
LAST-MODIFIED:20250425T155848Z
UID:10001759-1746291600-1746298800@uicsl.org
SUMMARY:Navajo Highways Demonstration
DESCRIPTION:Presented by Pete Sands \nA screening of the debut children’s TV series about teaching Dine’ Bizaad (Navajo language) and culture. Encouraging Native youth to be proud of their Indigenous roots. A puppet show set on the Navajo Nation highlighting life on the Navajo reservation. \nQuestions: Rhonda (801)214-7668
URL:https://uicsl.org/event/navajo-highways-demonstration/
LOCATION:Flat Iron Mesa Park\, 1765 E 8600 S\, Sandy\, UT\, 84093\, United States
ATTACH;FMTTYPE=image/png:https://uicsl.org/wp-content/uploads/2025/04/Navajo-Highways-1.png
END:VEVENT
BEGIN:VEVENT
DTSTART;TZID=America/Denver:20250505T170000
DTEND;TZID=America/Denver:20250505T190000
DTSTAMP:20260421T144727
CREATED:20250220T235609Z
LAST-MODIFIED:20250220T235801Z
UID:10001707-1746464400-1746471600@uicsl.org
SUMMARY:Girls on the Run
DESCRIPTION:For 3rd – 5th grade Native youth \narticipants will practice once a week for 8 weeks. Enjoy fun and engaging lessons\, team discussions\, and physical activities\, all led by trained and caring coaches. Participants will receive a GOTR shirt\, water bottle\, bag\, journal\, and all necessary lesson supplies. Celebrate accomplishments with an exciting End-of-Season 5K on May 31! \nREGISTER NOW – Contact Tetona \n(801)214-7662 OR TLONGHAIR@UICSL.ORG
URL:https://uicsl.org/event/girls-on-the-run/2025-05-05/
LOCATION:Flat Iron Mesa Park\, 1765 E 8600 S\, Sandy\, UT\, 84093\, United States
ATTACH;FMTTYPE=image/png:https://uicsl.org/wp-content/uploads/2025/02/GOTR.png
END:VEVENT
BEGIN:VEVENT
DTSTART;TZID=America/Denver:20250507T173000
DTEND;TZID=America/Denver:20250507T193000
DTSTAMP:20260421T144727
CREATED:20250407T203513Z
LAST-MODIFIED:20250407T203620Z
UID:10001745-1746639000-1746646200@uicsl.org
SUMMARY:Intermediate Dine' Bizaad
DESCRIPTION:Six week class designed to support and guide your progress through the intermediate Navajo Language course. \n  \nQuestions: Rhonda (801)214-7668 or rduvall@uicsl.org
URL:https://uicsl.org/event/intermediate-dine-bizaad/2025-05-07/
LOCATION:Flat Iron Mesa Park\, 1765 E 8600 S\, Sandy\, UT\, 84093\, United States
ATTACH;FMTTYPE=image/png:https://uicsl.org/wp-content/uploads/2025/04/Dine-Bizaad-Intermediate.png
END:VEVENT
BEGIN:VEVENT
DTSTART;TZID=America/Denver:20250508T083000
DTEND;TZID=America/Denver:20250508T130000
DTSTAMP:20260421T144727
CREATED:20240109T230329Z
LAST-MODIFIED:20250930T191049Z
UID:10001351-1746693000-1746709200@uicsl.org
SUMMARY:CLOSED until 1:00 PM
DESCRIPTION:We are closed until 1:00 PM \nRegular business hours resume Friday.
URL:https://uicsl.org/event/closed-until-100-pm-11/2025-05-08/
LOCATION:UT
ATTACH;FMTTYPE=image/png:https://uicsl.org/wp-content/uploads/2025/09/10-9-25_Staff-Meeting-Closure.png
END:VEVENT
BEGIN:VEVENT
DTSTART;TZID=America/Denver:20250508T180000
DTEND;TZID=America/Denver:20250508T190000
DTSTAMP:20260421T144727
CREATED:20250401T183410Z
LAST-MODIFIED:20250620T190013Z
UID:10001737-1746727200-1746730800@uicsl.org
SUMMARY:Walking in Harmony
DESCRIPTION:Walking in Harmony – 7 Hiking Series \nJoin us & community in learning about Utah’s Indigenous land\, plants\, and medicine on each trail. Share your laughter and stories while enjoying Mother Earth & Father Sky. \nAll Ages Welcome – Space Limited! \nContact: Moriah (801) 889-7244 \nMust be a registered client or live within the same household or a registered client of UICSL.
URL:https://uicsl.org/event/walking-in-harmony/2025-05-08/
LOCATION:UT
ATTACH;FMTTYPE=image/png:https://uicsl.org/wp-content/uploads/2025/04/Hiking-in-Harmony-1.png
END:VEVENT
BEGIN:VEVENT
DTSTART;TZID=America/Denver:20250509T130000
DTEND;TZID=America/Denver:20250509T150000
DTSTAMP:20260421T144727
CREATED:20250505T174116Z
LAST-MODIFIED:20250505T174235Z
UID:10001762-1746795600-1746802800@uicsl.org
SUMMARY:Elders Corner Meeting
DESCRIPTION:For Native Elders 50+ \nMay 9: Honoring Our Mother’s Luncheon \nMay 23: Medical Education \nQuestions: Anita (801)828-8524 \nMust be a registered client of UICSL. \n 
URL:https://uicsl.org/event/elders-corner-meeting-32/2025-05-09/
LOCATION:UT
ATTACH;FMTTYPE=image/png:https://uicsl.org/wp-content/uploads/2025/05/may-Elders-Corner.png
END:VEVENT
BEGIN:VEVENT
DTSTART;TZID=America/Denver:20250510T080000
DTEND;TZID=America/Denver:20250510T230000
DTSTAMP:20260421T144727
CREATED:20250501T152146Z
LAST-MODIFIED:20250501T160748Z
UID:10001761-1746864000-1746918000@uicsl.org
SUMMARY:Ballpark Neighborhood Yard Sale
DESCRIPTION:This event is coordinated by Ballpark Action Team (BAT). UICSL is proud to collaborate and provide selected community members a place to participate in the community yard sale. For any questions regarding the event\, please contact BAT directly at ballparkactionteam@gmail.com \nFor UICSL inquiries\, please contact us at (801) 486-4877. 
URL:https://uicsl.org/event/ballpark-neighborhood-yard-sale/
LOCATION:Flat Iron Mesa Park\, 1765 E 8600 S\, Sandy\, UT\, 84093\, United States
ATTACH;FMTTYPE=image/png:https://uicsl.org/wp-content/uploads/2025/05/Vendor-Yard-Sale.png
ORGANIZER;CN="Urban Indian Center of Salt Lake":MAILTO:info@iwic.org
END:VEVENT
BEGIN:VEVENT
DTSTART;TZID=America/Denver:20250512T170000
DTEND;TZID=America/Denver:20250512T190000
DTSTAMP:20260421T144727
CREATED:20250220T235609Z
LAST-MODIFIED:20250220T235801Z
UID:10001708-1747069200-1747076400@uicsl.org
SUMMARY:Girls on the Run
DESCRIPTION:For 3rd – 5th grade Native youth \narticipants will practice once a week for 8 weeks. Enjoy fun and engaging lessons\, team discussions\, and physical activities\, all led by trained and caring coaches. Participants will receive a GOTR shirt\, water bottle\, bag\, journal\, and all necessary lesson supplies. Celebrate accomplishments with an exciting End-of-Season 5K on May 31! \nREGISTER NOW – Contact Tetona \n(801)214-7662 OR TLONGHAIR@UICSL.ORG
URL:https://uicsl.org/event/girls-on-the-run/2025-05-12/
LOCATION:Flat Iron Mesa Park\, 1765 E 8600 S\, Sandy\, UT\, 84093\, United States
ATTACH;FMTTYPE=image/png:https://uicsl.org/wp-content/uploads/2025/02/GOTR.png
END:VEVENT
BEGIN:VEVENT
DTSTART;TZID=America/Denver:20250513T100000
DTEND;TZID=America/Denver:20250513T113000
DTSTAMP:20260421T144727
CREATED:20250408T144807Z
LAST-MODIFIED:20250408T144911Z
UID:10001750-1747130400-1747135800@uicsl.org
SUMMARY:Elders Coffee & Chat Hour
DESCRIPTION:
URL:https://uicsl.org/event/elders-coffee-chat-hour-4-copy/
LOCATION:Flat Iron Mesa Park\, 1765 E 8600 S\, Sandy\, UT\, 84093\, United States
ATTACH;FMTTYPE=image/png:https://uicsl.org/wp-content/uploads/2025/04/Elders-Corner.png
END:VEVENT
BEGIN:VEVENT
DTSTART;TZID=America/Denver:20250513T170000
DTEND;TZID=America/Denver:20250513T190000
DTSTAMP:20260421T144727
CREATED:20250311T180131Z
LAST-MODIFIED:20250414T141021Z
UID:10001716-1747155600-1747162800@uicsl.org
SUMMARY:Job Club Workshop
DESCRIPTION:Topic: Digital Literacy \nQuestions: Heather Molyneaux at (385)509-3790 \nMust be a registered client of UICSL.
URL:https://uicsl.org/event/job-club-workshop/2025-05-13/
LOCATION:Flat Iron Mesa Park\, 1765 E 8600 S\, Sandy\, UT\, 84093\, United States
ATTACH;FMTTYPE=image/png:https://uicsl.org/wp-content/uploads/2025/03/Job-Club-may.png
END:VEVENT
BEGIN:VEVENT
DTSTART;TZID=America/Denver:20250514T173000
DTEND;TZID=America/Denver:20250514T193000
DTSTAMP:20260421T144727
CREATED:20250407T203513Z
LAST-MODIFIED:20250407T203620Z
UID:10001746-1747243800-1747251000@uicsl.org
SUMMARY:Intermediate Dine' Bizaad
DESCRIPTION:Six week class designed to support and guide your progress through the intermediate Navajo Language course. \n  \nQuestions: Rhonda (801)214-7668 or rduvall@uicsl.org
URL:https://uicsl.org/event/intermediate-dine-bizaad/2025-05-14/
LOCATION:Flat Iron Mesa Park\, 1765 E 8600 S\, Sandy\, UT\, 84093\, United States
ATTACH;FMTTYPE=image/png:https://uicsl.org/wp-content/uploads/2025/04/Dine-Bizaad-Intermediate.png
END:VEVENT
BEGIN:VEVENT
DTSTART;TZID=America/Denver:20250515T180000
DTEND;TZID=America/Denver:20250515T190000
DTSTAMP:20260421T144727
CREATED:20250401T183410Z
LAST-MODIFIED:20250620T190013Z
UID:10001738-1747332000-1747335600@uicsl.org
SUMMARY:Walking in Harmony
DESCRIPTION:Walking in Harmony – 7 Hiking Series \nJoin us & community in learning about Utah’s Indigenous land\, plants\, and medicine on each trail. Share your laughter and stories while enjoying Mother Earth & Father Sky. \nAll Ages Welcome – Space Limited! \nContact: Moriah (801) 889-7244 \nMust be a registered client or live within the same household or a registered client of UICSL.
URL:https://uicsl.org/event/walking-in-harmony/2025-05-15/
LOCATION:UT
ATTACH;FMTTYPE=image/png:https://uicsl.org/wp-content/uploads/2025/04/Hiking-in-Harmony-1.png
END:VEVENT
BEGIN:VEVENT
DTSTART;TZID=America/Denver:20250516T100000
DTEND;TZID=America/Denver:20250516T113000
DTSTAMP:20260421T144727
CREATED:20250312T190620Z
LAST-MODIFIED:20250414T140720Z
UID:10001720-1747389600-1747395000@uicsl.org
SUMMARY:Moving Warriors Open Gym
DESCRIPTION:For Native Elders 50+ on the 1st & 3rd Friday of Each Month \nMultiple activities available that include fun physical activities like casual basketball\, beachball volleyball\, music & hula hoops! \nWater & light refreshments provided. \nQuestions: Moriah (801)889-7244 \nMust be a registered client of UICSL.
URL:https://uicsl.org/event/moving-warriors-open-gym/2025-05-16/
LOCATION:Flat Iron Mesa Park\, 1765 E 8600 S\, Sandy\, UT\, 84093\, United States
ATTACH;FMTTYPE=image/png:https://uicsl.org/wp-content/uploads/2025/03/Moving-Warrior-2.png
END:VEVENT
BEGIN:VEVENT
DTSTART;TZID=America/Denver:20250519T173000
DTEND;TZID=America/Denver:20250519T193000
DTSTAMP:20260421T144727
CREATED:20250508T153640Z
LAST-MODIFIED:20250508T154121Z
UID:10001764-1747675800-1747683000@uicsl.org
SUMMARY:Planting Party
DESCRIPTION:You’re invited to help Grow Our Community Garden! \nWe will plant vegetables\, herbs\, and traditional medicines. Gloves\, tools\, and supplies will be provided. Everyone is welcome – no experience needed.
URL:https://uicsl.org/event/planting-party/
LOCATION:Flat Iron Mesa Park\, 1765 E 8600 S\, Sandy\, UT\, 84093\, United States
ATTACH;FMTTYPE=image/png:https://uicsl.org/wp-content/uploads/2025/05/Community-Garden-Info-Meeting.png
END:VEVENT
BEGIN:VEVENT
DTSTART;TZID=America/Denver:20250521T173000
DTEND;TZID=America/Denver:20250521T193000
DTSTAMP:20260421T144727
CREATED:20250407T203513Z
LAST-MODIFIED:20250407T203620Z
UID:10001747-1747848600-1747855800@uicsl.org
SUMMARY:Intermediate Dine' Bizaad
DESCRIPTION:Six week class designed to support and guide your progress through the intermediate Navajo Language course. \n  \nQuestions: Rhonda (801)214-7668 or rduvall@uicsl.org
URL:https://uicsl.org/event/intermediate-dine-bizaad/2025-05-21/
LOCATION:Flat Iron Mesa Park\, 1765 E 8600 S\, Sandy\, UT\, 84093\, United States
ATTACH;FMTTYPE=image/png:https://uicsl.org/wp-content/uploads/2025/04/Dine-Bizaad-Intermediate.png
END:VEVENT
BEGIN:VEVENT
DTSTART;TZID=America/Denver:20250522T170000
DTEND;TZID=America/Denver:20250522T190000
DTSTAMP:20260421T144727
CREATED:20250410T135947Z
LAST-MODIFIED:20250414T165244Z
UID:10001752-1747933200-1747940400@uicsl.org
SUMMARY:After Hour Clinic
DESCRIPTION:Upcoming Dates: \n\nApril 24\nMay 22\nJune 12\nJune 26\n\nCall to schedule an appointment at 801-486-4877 \nUniversity of Utah Physician Assistant Program has proudly
URL:https://uicsl.org/event/after-hour-clinic/2025-05-22/
LOCATION:UICSL Murray Clinic\, 5450 South Green Street\, Salt Lake City\, Utah\, 84123
ATTACH;FMTTYPE=image/png:https://uicsl.org/wp-content/uploads/2025/04/After-hour-clinic-2.png
END:VEVENT
BEGIN:VEVENT
DTSTART;TZID=America/Denver:20250522T180000
DTEND;TZID=America/Denver:20250522T190000
DTSTAMP:20260421T144727
CREATED:20250401T183410Z
LAST-MODIFIED:20250620T190013Z
UID:10001739-1747936800-1747940400@uicsl.org
SUMMARY:Walking in Harmony
DESCRIPTION:Walking in Harmony – 7 Hiking Series \nJoin us & community in learning about Utah’s Indigenous land\, plants\, and medicine on each trail. Share your laughter and stories while enjoying Mother Earth & Father Sky. \nAll Ages Welcome – Space Limited! \nContact: Moriah (801) 889-7244 \nMust be a registered client or live within the same household or a registered client of UICSL.
URL:https://uicsl.org/event/walking-in-harmony/2025-05-22/
LOCATION:UT
ATTACH;FMTTYPE=image/png:https://uicsl.org/wp-content/uploads/2025/04/Hiking-in-Harmony-1.png
END:VEVENT
BEGIN:VEVENT
DTSTART;TZID=America/Denver:20250523T120000
DTEND;TZID=America/Denver:20250523T140000
DTSTAMP:20260421T144727
CREATED:20250505T174116Z
LAST-MODIFIED:20250505T174235Z
UID:10001763-1748001600-1748008800@uicsl.org
SUMMARY:Elders Corner Meeting
DESCRIPTION:For Native Elders 50+ \nMay 9: Honoring Our Mother’s Luncheon \nMay 23: Medical Education \nQuestions: Anita (801)828-8524 \nMust be a registered client of UICSL. \n 
URL:https://uicsl.org/event/elders-corner-meeting-32/2025-05-23/
LOCATION:UT
ATTACH;FMTTYPE=image/png:https://uicsl.org/wp-content/uploads/2025/05/may-Elders-Corner.png
END:VEVENT
BEGIN:VEVENT
DTSTART;VALUE=DATE:20250526
DTEND;VALUE=DATE:20250527
DTSTAMP:20260421T144727
CREATED:20250509T175121Z
LAST-MODIFIED:20250509T175317Z
UID:10001789-1748217600-1748303999@uicsl.org
SUMMARY:CLOSED
DESCRIPTION:Regular business hours resume May 27
URL:https://uicsl.org/event/closed-32/
LOCATION:Flat Iron Mesa Park\, 1765 E 8600 S\, Sandy\, UT\, 84093\, United States
ATTACH;FMTTYPE=image/png:https://uicsl.org/wp-content/uploads/2025/05/Memorial.png
ORGANIZER;CN="Urban Indian Center of Salt Lake":MAILTO:info@iwic.org
END:VEVENT
BEGIN:VEVENT
DTSTART;TZID=America/Denver:20250527T170000
DTEND;TZID=America/Denver:20250527T190000
DTSTAMP:20260421T144727
CREATED:20250311T180131Z
LAST-MODIFIED:20250414T141021Z
UID:10001717-1748365200-1748372400@uicsl.org
SUMMARY:Job Club Workshop
DESCRIPTION:Topic: Digital Literacy \nQuestions: Heather Molyneaux at (385)509-3790 \nMust be a registered client of UICSL.
URL:https://uicsl.org/event/job-club-workshop/2025-05-27/
LOCATION:Flat Iron Mesa Park\, 1765 E 8600 S\, Sandy\, UT\, 84093\, United States
ATTACH;FMTTYPE=image/png:https://uicsl.org/wp-content/uploads/2025/03/Job-Club-may.png
END:VEVENT
BEGIN:VEVENT
DTSTART;TZID=America/Denver:20250528T173000
DTEND;TZID=America/Denver:20250528T193000
DTSTAMP:20260421T144727
CREATED:20250407T203513Z
LAST-MODIFIED:20250407T203620Z
UID:10001748-1748453400-1748460600@uicsl.org
SUMMARY:Intermediate Dine' Bizaad
DESCRIPTION:Six week class designed to support and guide your progress through the intermediate Navajo Language course. \n  \nQuestions: Rhonda (801)214-7668 or rduvall@uicsl.org
URL:https://uicsl.org/event/intermediate-dine-bizaad/2025-05-28/
LOCATION:Flat Iron Mesa Park\, 1765 E 8600 S\, Sandy\, UT\, 84093\, United States
ATTACH;FMTTYPE=image/png:https://uicsl.org/wp-content/uploads/2025/04/Dine-Bizaad-Intermediate.png
END:VEVENT
BEGIN:VEVENT
DTSTART;TZID=America/Denver:20250529T180000
DTEND;TZID=America/Denver:20250529T190000
DTSTAMP:20260421T144727
CREATED:20250401T183410Z
LAST-MODIFIED:20250620T190013Z
UID:10001740-1748541600-1748545200@uicsl.org
SUMMARY:Walking in Harmony
DESCRIPTION:Walking in Harmony – 7 Hiking Series \nJoin us & community in learning about Utah’s Indigenous land\, plants\, and medicine on each trail. Share your laughter and stories while enjoying Mother Earth & Father Sky. \nAll Ages Welcome – Space Limited! \nContact: Moriah (801) 889-7244 \nMust be a registered client or live within the same household or a registered client of UICSL.
URL:https://uicsl.org/event/walking-in-harmony/2025-05-29/
LOCATION:UT
ATTACH;FMTTYPE=image/png:https://uicsl.org/wp-content/uploads/2025/04/Hiking-in-Harmony-1.png
END:VEVENT
BEGIN:VEVENT
DTSTART;TZID=America/Denver:20250530T150000
DTEND;TZID=America/Denver:20250530T170000
DTSTAMP:20260421T144727
CREATED:20250314T172937Z
LAST-MODIFIED:20250516T151348Z
UID:10001726-1748617200-1748624400@uicsl.org
SUMMARY:Youth Bike Adventure Day
DESCRIPTION:For Native Youth ages 2-17 \nBike safety & skills training provided by Bike Utah: \n\nLocks provided\nHelmet essentials\nFlat tire fixing\nLunch provided\n\nMore information on how to qualify for a bike\, text or call Heather at (385)867-7741 \nMust be a registered client of UICSL.
URL:https://uicsl.org/event/youth-bike-adventure-day/
LOCATION:Flat Iron Mesa Park\, 1765 E 8600 S\, Sandy\, UT\, 84093\, United States
ATTACH;FMTTYPE=image/png:https://uicsl.org/wp-content/uploads/2025/03/Youth-Eagle.png
END:VEVENT
BEGIN:VEVENT
DTSTART;TZID=America/Denver:20250603T173000
DTEND;TZID=America/Denver:20250603T190000
DTSTAMP:20260421T144727
CREATED:20250602T155233Z
LAST-MODIFIED:20250602T155233Z
UID:10001797-1748971800-1748977200@uicsl.org
SUMMARY:Community Garden
DESCRIPTION:Join UICSL’s Garden Club to plant\, tend\, and harvest traditional foods and medicines together. No experience needed—just bring your hands and heart. Everyone welcome!
URL:https://uicsl.org/event/community-garden/
LOCATION:Flat Iron Mesa Park\, 1765 E 8600 S\, Sandy\, UT\, 84093\, United States
ATTACH;FMTTYPE=image/png:https://uicsl.org/wp-content/uploads/2025/06/Community-Garden-Info-Meeting.png
ORGANIZER;CN="Urban Indian Center of Salt Lake":MAILTO:info@iwic.org
END:VEVENT
BEGIN:VEVENT
DTSTART;TZID=America/Denver:20250603T180000
DTEND;TZID=America/Denver:20250603T200000
DTSTAMP:20260421T144727
CREATED:20250528T153515Z
LAST-MODIFIED:20250528T155411Z
UID:10001794-1748973600-1748980800@uicsl.org
SUMMARY:Adult Culture Class
DESCRIPTION:Adult Culture Class is a space for wellness\, connection and Indigenous strength! \nClass Topic: Lazy Stitch Beading with Tetona (Part 1) \n  \nQuestions: 801-486-4877 \nMust be a registered client of the UICSL.
URL:https://uicsl.org/event/adult-culture-class/
LOCATION:Flat Iron Mesa Park\, 1765 E 8600 S\, Sandy\, UT\, 84093\, United States
ATTACH;FMTTYPE=image/png:https://uicsl.org/wp-content/uploads/2025/05/Adult-Culture-Class.png
ORGANIZER;CN="Urban Indian Center of Salt Lake":MAILTO:info@iwic.org
END:VEVENT
BEGIN:VEVENT
DTSTART;TZID=America/Denver:20250604T173000
DTEND;TZID=America/Denver:20250604T193000
DTSTAMP:20260421T144727
CREATED:20250407T203513Z
LAST-MODIFIED:20250407T203620Z
UID:10001749-1749058200-1749065400@uicsl.org
SUMMARY:Intermediate Dine' Bizaad
DESCRIPTION:Six week class designed to support and guide your progress through the intermediate Navajo Language course. \n  \nQuestions: Rhonda (801)214-7668 or rduvall@uicsl.org
URL:https://uicsl.org/event/intermediate-dine-bizaad/2025-06-04/
LOCATION:Flat Iron Mesa Park\, 1765 E 8600 S\, Sandy\, UT\, 84093\, United States
ATTACH;FMTTYPE=image/png:https://uicsl.org/wp-content/uploads/2025/04/Dine-Bizaad-Intermediate.png
END:VEVENT
BEGIN:VEVENT
DTSTART;TZID=America/Denver:20250605T180000
DTEND;TZID=America/Denver:20250605T190000
DTSTAMP:20260421T144727
CREATED:20250401T183410Z
LAST-MODIFIED:20250620T190013Z
UID:10001741-1749146400-1749150000@uicsl.org
SUMMARY:Walking in Harmony
DESCRIPTION:Walking in Harmony – 7 Hiking Series \nJoin us & community in learning about Utah’s Indigenous land\, plants\, and medicine on each trail. Share your laughter and stories while enjoying Mother Earth & Father Sky. \nAll Ages Welcome – Space Limited! \nContact: Moriah (801) 889-7244 \nMust be a registered client or live within the same household or a registered client of UICSL.
URL:https://uicsl.org/event/walking-in-harmony/2025-06-05/
LOCATION:UT
ATTACH;FMTTYPE=image/png:https://uicsl.org/wp-content/uploads/2025/04/Hiking-in-Harmony-1.png
END:VEVENT
BEGIN:VEVENT
DTSTART;TZID=America/Denver:20250606T100000
DTEND;TZID=America/Denver:20250606T113000
DTSTAMP:20260421T144727
CREATED:20250507T193007Z
LAST-MODIFIED:20250507T193007Z
UID:10001723-1749204000-1749209400@uicsl.org
SUMMARY:Moving Warriors Open Gym
DESCRIPTION:For Native Elders 50+ on the 1st & 3rd Friday of Each Month \nMultiple activities available that include fun physical activities like casual basketball\, beachball volleyball\, music & hula hoops! \nWater & light refreshments provided. \nQuestions: Moriah (801)889-7244 \nMust be a registered client of UICSL.
URL:https://uicsl.org/event/moving-warriors-open-gym/2025-06-06/
LOCATION:Flat Iron Mesa Park\, 1765 E 8600 S\, Sandy\, UT\, 84093\, United States
ATTACH;FMTTYPE=image/png:https://uicsl.org/wp-content/uploads/2025/03/Moving-Warrior-2.png
END:VEVENT
END:VCALENDAR