BEGIN:VCALENDAR
VERSION:2.0
PRODID:-//Urban Indian Center of Salt Lake - ECPv6.15.20//NONSGML v1.0//EN
CALSCALE:GREGORIAN
METHOD:PUBLISH
X-ORIGINAL-URL:https://uicsl.org
X-WR-CALDESC:Events for Urban Indian Center of Salt Lake
REFRESH-INTERVAL;VALUE=DURATION:PT1H
X-Robots-Tag:noindex
X-PUBLISHED-TTL:PT1H
BEGIN:VTIMEZONE
TZID:America/Denver
BEGIN:DAYLIGHT
TZOFFSETFROM:-0700
TZOFFSETTO:-0600
TZNAME:MDT
DTSTART:20240310T090000
END:DAYLIGHT
BEGIN:STANDARD
TZOFFSETFROM:-0600
TZOFFSETTO:-0700
TZNAME:MST
DTSTART:20241103T080000
END:STANDARD
BEGIN:DAYLIGHT
TZOFFSETFROM:-0700
TZOFFSETTO:-0600
TZNAME:MDT
DTSTART:20250309T090000
END:DAYLIGHT
BEGIN:STANDARD
TZOFFSETFROM:-0600
TZOFFSETTO:-0700
TZNAME:MST
DTSTART:20251102T080000
END:STANDARD
BEGIN:DAYLIGHT
TZOFFSETFROM:-0700
TZOFFSETTO:-0600
TZNAME:MDT
DTSTART:20260308T090000
END:DAYLIGHT
BEGIN:STANDARD
TZOFFSETFROM:-0600
TZOFFSETTO:-0700
TZNAME:MST
DTSTART:20261101T080000
END:STANDARD
END:VTIMEZONE
BEGIN:VEVENT
DTSTART;TZID=America/Denver:20250331T170000
DTEND;TZID=America/Denver:20250331T190000
DTSTAMP:20260421T172401
CREATED:20250220T235609Z
LAST-MODIFIED:20250220T235801Z
UID:10001702-1743440400-1743447600@uicsl.org
SUMMARY:Girls on the Run
DESCRIPTION:For 3rd – 5th grade Native youth \narticipants will practice once a week for 8 weeks. Enjoy fun and engaging lessons\, team discussions\, and physical activities\, all led by trained and caring coaches. Participants will receive a GOTR shirt\, water bottle\, bag\, journal\, and all necessary lesson supplies. Celebrate accomplishments with an exciting End-of-Season 5K on May 31! \nREGISTER NOW – Contact Tetona \n(801)214-7662 OR TLONGHAIR@UICSL.ORG
URL:https://uicsl.org/event/girls-on-the-run/2025-03-31/
LOCATION:Flat Iron Mesa Park\, 1765 E 8600 S\, Sandy\, UT\, 84093\, United States
ATTACH;FMTTYPE=image/png:https://uicsl.org/wp-content/uploads/2025/02/GOTR.png
END:VEVENT
BEGIN:VEVENT
DTSTART;TZID=America/Denver:20250401T173000
DTEND;TZID=America/Denver:20250401T193000
DTSTAMP:20260421T172401
CREATED:20250314T174229Z
LAST-MODIFIED:20250508T142303Z
UID:10001727-1743528600-1743535800@uicsl.org
SUMMARY:OPEN MIC: Intergenerational Storytelling
DESCRIPTION:Presented by UtahPresents featuring Mickaela Allison \nJoin us for a special Native Intergenerational Storytelling Open Mic. \nQuestions\, Melissa Salquero at (801)585-5140 \nDinner Provided – RSVP is recommended but not needed. \nThis event is made possible with the special partnership with UtahPresents and Utah Humanities – Ideas in Action.
URL:https://uicsl.org/event/open-mic-intergenerational-storytelling/
LOCATION:Flat Iron Mesa Park\, 1765 E 8600 S\, Sandy\, UT\, 84093\, United States
ATTACH;FMTTYPE=image/png:https://uicsl.org/wp-content/uploads/2025/03/OpenMic.png
ORGANIZER;CN="Urban Indian Center of Salt Lake":MAILTO:info@iwic.org
END:VEVENT
BEGIN:VEVENT
DTSTART;TZID=America/Denver:20250402T173000
DTEND;TZID=America/Denver:20250402T193000
DTSTAMP:20260421T172401
CREATED:20250203T233539Z
LAST-MODIFIED:20250310T225148Z
UID:10001697-1743615000-1743622200@uicsl.org
SUMMARY:Diné Bizaad
DESCRIPTION:Questions: Rhonda “Honey” DuVall at (801) 214-7668 or rduvall@uicsl.org
URL:https://uicsl.org/event/dine-bizaad-3/2025-04-02/
LOCATION:Flat Iron Mesa Park\, 1765 E 8600 S\, Sandy\, UT\, 84093\, United States
ATTACH;FMTTYPE=image/png:https://uicsl.org/wp-content/uploads/2025/02/full-Rebalancing-Culture-Flyers.png
END:VEVENT
BEGIN:VEVENT
DTSTART;TZID=America/Denver:20250402T180000
DTEND;TZID=America/Denver:20250402T190000
DTSTAMP:20260421T172401
CREATED:20241230T174700Z
LAST-MODIFIED:20250409T173342Z
UID:10001669-1743616800-1743620400@uicsl.org
SUMMARY:In The Steps of Our Ancestors Running Group
DESCRIPTION:LOCATION CHANGE: We will be outside today! \nIn The Steps of Our Ancestors Running Group \nAll experience levels welcome \n\nkids ages 10+ welcome\nParent/guardian supervision required\nStrollers welcome\n\nMust be a registered client of UICSL.
URL:https://uicsl.org/event/in-the-steps-of-our-ancestors-running-group-4/2025-04-02/
LOCATION:Kearns Oquirrh Park\, 5624 Cougar Ln\, Kearns\, Utah\, 84118
ATTACH;FMTTYPE=image/png:https://uicsl.org/wp-content/uploads/2024/12/run-Location-Change.png
ORGANIZER;CN="Urban Indian Center of Salt Lake":MAILTO:info@iwic.org
END:VEVENT
BEGIN:VEVENT
DTSTART;TZID=America/Denver:20250403T180000
DTEND;TZID=America/Denver:20250403T190000
DTSTAMP:20260421T172401
CREATED:20250121T195532Z
LAST-MODIFIED:20250127T161809Z
UID:10001416-1743703200-1743706800@uicsl.org
SUMMARY:Junior Medicine Ball
DESCRIPTION:Beginner Class for Native Youth \nAges 1st- Grade to 8th Grade
URL:https://uicsl.org/event/junior-medicine-ball/2025-04-03/
LOCATION:Flat Iron Mesa Park\, 1765 E 8600 S\, Sandy\, UT\, 84093\, United States
ATTACH;FMTTYPE=image/png:https://uicsl.org/wp-content/uploads/2025/01/reg-closed-bball.png
ORGANIZER;CN="Urban Indian Center of Salt Lake":MAILTO:info@iwic.org
END:VEVENT
BEGIN:VEVENT
DTSTART;TZID=America/Denver:20250404T100000
DTEND;TZID=America/Denver:20250404T113000
DTSTAMP:20260421T172401
CREATED:20250312T190620Z
LAST-MODIFIED:20250325T183736Z
UID:10001724-1743760800-1743766200@uicsl.org
SUMMARY:Moving Warriors Open Gym
DESCRIPTION:For Native Elders 50+ on the 1st & 3rd Friday of Each Month \nMultiple activities available that include fun physical activities like casual basketball\, beachball volleyball\, music & hula hoops! \nWater & light refreshments provided. \nQuestions: Moriah (801)889-7244 \nMust be a registered client of UICSL.
URL:https://uicsl.org/event/moving-warriors-open-gym-2025-04-04/
LOCATION:Liberty Park\, 600 East Harvey Milk Blvd\, Salt Lake City\, Utah\, 84105
ATTACH;FMTTYPE=image/png:https://uicsl.org/wp-content/uploads/2025/03/locchange.png
END:VEVENT
BEGIN:VEVENT
DTSTART;TZID=America/Denver:20250404T120000
DTEND;TZID=America/Denver:20250404T130000
DTSTAMP:20260421T172401
CREATED:20250310T184939Z
LAST-MODIFIED:20250404T192039Z
UID:10001714-1743768000-1743771600@uicsl.org
SUMMARY:Spring Basket Giveaway
DESCRIPTION:Filled with Hygiene & cleaning Spring basket giveaway \nMeal Provided at Pick-Up \n\nFirst Come\, First Serve\nNo Holds\nNo Reservations \nOne Basket Per Family\nMust be Present to Receive Basket
URL:https://uicsl.org/event/spring-basket-giveaway/
LOCATION:Flat Iron Mesa Park\, 1765 E 8600 S\, Sandy\, UT\, 84093\, United States
ATTACH;FMTTYPE=image/png:https://uicsl.org/wp-content/uploads/2025/03/Spring-clean.png
END:VEVENT
BEGIN:VEVENT
DTSTART;TZID=America/Denver:20250407T170000
DTEND;TZID=America/Denver:20250407T190000
DTSTAMP:20260421T172401
CREATED:20250220T235609Z
LAST-MODIFIED:20250220T235801Z
UID:10001703-1744045200-1744052400@uicsl.org
SUMMARY:Girls on the Run
DESCRIPTION:For 3rd – 5th grade Native youth \narticipants will practice once a week for 8 weeks. Enjoy fun and engaging lessons\, team discussions\, and physical activities\, all led by trained and caring coaches. Participants will receive a GOTR shirt\, water bottle\, bag\, journal\, and all necessary lesson supplies. Celebrate accomplishments with an exciting End-of-Season 5K on May 31! \nREGISTER NOW – Contact Tetona \n(801)214-7662 OR TLONGHAIR@UICSL.ORG
URL:https://uicsl.org/event/girls-on-the-run/2025-04-07/
LOCATION:Flat Iron Mesa Park\, 1765 E 8600 S\, Sandy\, UT\, 84093\, United States
ATTACH;FMTTYPE=image/png:https://uicsl.org/wp-content/uploads/2025/02/GOTR.png
END:VEVENT
BEGIN:VEVENT
DTSTART;TZID=America/Denver:20250408T180000
DTEND;TZID=America/Denver:20250408T200000
DTSTAMP:20260421T172401
CREATED:20250319T172130Z
LAST-MODIFIED:20250319T172207Z
UID:10001729-1744135200-1744142400@uicsl.org
SUMMARY:Youth Culture Class
DESCRIPTION:  \nSchedule: \n\nApril 1: No Class\nApril 8: Drum Stick Making\nApril 15: Garden Talk\nApri 22: Handgames Demonstration\nApril 29: End of Year Celebration\n\nMust be a registered client of UICSL.
URL:https://uicsl.org/event/youth-culture-class-20/2025-04-08/
LOCATION:Flat Iron Mesa Park\, 1765 E 8600 S\, Sandy\, UT\, 84093\, United States
ATTACH;FMTTYPE=image/png:https://uicsl.org/wp-content/uploads/2025/03/Youth-Culture-Class.png
END:VEVENT
BEGIN:VEVENT
DTSTART;TZID=America/Denver:20250409T173000
DTEND;TZID=America/Denver:20250409T193000
DTSTAMP:20260421T172401
CREATED:20250203T233539Z
LAST-MODIFIED:20250310T225148Z
UID:10001698-1744219800-1744227000@uicsl.org
SUMMARY:Diné Bizaad
DESCRIPTION:Questions: Rhonda “Honey” DuVall at (801) 214-7668 or rduvall@uicsl.org
URL:https://uicsl.org/event/dine-bizaad-3/2025-04-09/
LOCATION:Flat Iron Mesa Park\, 1765 E 8600 S\, Sandy\, UT\, 84093\, United States
ATTACH;FMTTYPE=image/png:https://uicsl.org/wp-content/uploads/2025/02/full-Rebalancing-Culture-Flyers.png
END:VEVENT
BEGIN:VEVENT
DTSTART;TZID=America/Denver:20250409T180000
DTEND;TZID=America/Denver:20250409T190000
DTSTAMP:20260421T172401
CREATED:20241230T174700Z
LAST-MODIFIED:20250409T172841Z
UID:10001672-1744221600-1744225200@uicsl.org
SUMMARY:In The Steps of Our Ancestors Running Group
DESCRIPTION:In The Steps of Our Ancestors Running Group \nAll experience levels welcome \n\nkids ages 10+ welcome\nParent/guardian supervision required\nStrollers welcome\n\nMust be a registered client of UICSL.
URL:https://uicsl.org/event/in-the-steps-of-our-ancestors-running-group-4-2025-04-09/
LOCATION:Utah Olympic Oval Indoor Track\, 5662 South Cougar Lane (4800 West)\, Salt Lake City\, Utah\, 84118
ATTACH;FMTTYPE=image/png:https://uicsl.org/wp-content/uploads/2024/12/Winter-Indoor-Running.png
ORGANIZER;CN="Urban Indian Center of Salt Lake":MAILTO:info@iwic.org
END:VEVENT
BEGIN:VEVENT
DTSTART;TZID=America/Denver:20250410T083000
DTEND;TZID=America/Denver:20250410T130000
DTSTAMP:20260421T172401
CREATED:20240109T230329Z
LAST-MODIFIED:20250930T191049Z
UID:10001350-1744273800-1744290000@uicsl.org
SUMMARY:CLOSED until 1:00 PM
DESCRIPTION:We are closed until 1:00 PM \nRegular business hours resume Friday.
URL:https://uicsl.org/event/closed-until-100-pm-11/2025-04-10/
LOCATION:UT
ATTACH;FMTTYPE=image/png:https://uicsl.org/wp-content/uploads/2025/09/10-9-25_Staff-Meeting-Closure.png
END:VEVENT
BEGIN:VEVENT
DTSTART;TZID=America/Denver:20250410T170000
DTEND;TZID=America/Denver:20250410T190000
DTSTAMP:20260421T172401
CREATED:20250410T135947Z
LAST-MODIFIED:20250414T165244Z
UID:10001751-1744304400-1744311600@uicsl.org
SUMMARY:After Hour Clinic
DESCRIPTION:Upcoming Dates: \n\nApril 24\nMay 22\nJune 12\nJune 26\n\nCall to schedule an appointment at 801-486-4877 \nUniversity of Utah Physician Assistant Program has proudly
URL:https://uicsl.org/event/after-hour-clinic/2025-04-10/
LOCATION:UICSL Murray Clinic\, 5450 South Green Street\, Salt Lake City\, Utah\, 84123
ATTACH;FMTTYPE=image/png:https://uicsl.org/wp-content/uploads/2025/04/After-hour-clinic-2.png
END:VEVENT
BEGIN:VEVENT
DTSTART;TZID=America/Denver:20250411T120000
DTEND;TZID=America/Denver:20250411T140000
DTSTAMP:20260421T172401
CREATED:20250321T164043Z
LAST-MODIFIED:20250401T211216Z
UID:10001733-1744372800-1744380000@uicsl.org
SUMMARY:Elders Corner Meeting
DESCRIPTION:For Native elders 50+ \n\nApril 11: Elder Advocacy & Healing with Meg Singer\nApril 25: Medical Education with Sunnie Young\, RN & Edward Awing\, AGNP-C\n\nQuestions: Anita (801) 828-8524 \nMust be a registered client of UICSL.
URL:https://uicsl.org/event/elders-corner-meeting-31/2025-04-11/
LOCATION:Flat Iron Mesa Park\, 1765 E 8600 S\, Sandy\, UT\, 84093\, United States
ATTACH;FMTTYPE=image/png:https://uicsl.org/wp-content/uploads/2025/03/April-Elders-Corner-1.png
END:VEVENT
BEGIN:VEVENT
DTSTART;TZID=America/Denver:20250414T170000
DTEND;TZID=America/Denver:20250414T190000
DTSTAMP:20260421T172401
CREATED:20250129T185139Z
LAST-MODIFIED:20250129T185145Z
UID:10001686-1744650000-1744657200@uicsl.org
SUMMARY:Job Club
DESCRIPTION:Topic: Financial Literacy
URL:https://uicsl.org/event/job-club-7/
LOCATION:Flat Iron Mesa Park\, 1765 E 8600 S\, Sandy\, UT\, 84093\, United States
ATTACH;FMTTYPE=image/png:https://uicsl.org/wp-content/uploads/2025/01/Job-Club-April.png
END:VEVENT
BEGIN:VEVENT
DTSTART;TZID=America/Denver:20250414T170000
DTEND;TZID=America/Denver:20250414T190000
DTSTAMP:20260421T172401
CREATED:20250220T235609Z
LAST-MODIFIED:20250220T235801Z
UID:10001704-1744650000-1744657200@uicsl.org
SUMMARY:Girls on the Run
DESCRIPTION:For 3rd – 5th grade Native youth \narticipants will practice once a week for 8 weeks. Enjoy fun and engaging lessons\, team discussions\, and physical activities\, all led by trained and caring coaches. Participants will receive a GOTR shirt\, water bottle\, bag\, journal\, and all necessary lesson supplies. Celebrate accomplishments with an exciting End-of-Season 5K on May 31! \nREGISTER NOW – Contact Tetona \n(801)214-7662 OR TLONGHAIR@UICSL.ORG
URL:https://uicsl.org/event/girls-on-the-run/2025-04-14/
LOCATION:Flat Iron Mesa Park\, 1765 E 8600 S\, Sandy\, UT\, 84093\, United States
ATTACH;FMTTYPE=image/png:https://uicsl.org/wp-content/uploads/2025/02/GOTR.png
END:VEVENT
BEGIN:VEVENT
DTSTART;TZID=America/Denver:20250415T100000
DTEND;TZID=America/Denver:20250415T113000
DTSTAMP:20260421T172401
CREATED:20250324T165937Z
LAST-MODIFIED:20250324T165954Z
UID:10001735-1744711200-1744716600@uicsl.org
SUMMARY:Elders Coffee & Chat Hour
DESCRIPTION:
URL:https://uicsl.org/event/elders-coffee-chat-hour-4/
LOCATION:Flat Iron Mesa Park\, 1765 E 8600 S\, Sandy\, UT\, 84093\, United States
ATTACH;FMTTYPE=image/png:https://uicsl.org/wp-content/uploads/2025/03/Elders-Corner-coffee.png
END:VEVENT
BEGIN:VEVENT
DTSTART;TZID=America/Denver:20250415T180000
DTEND;TZID=America/Denver:20250415T200000
DTSTAMP:20260421T172401
CREATED:20250319T172130Z
LAST-MODIFIED:20250319T172207Z
UID:10001730-1744740000-1744747200@uicsl.org
SUMMARY:Youth Culture Class
DESCRIPTION:  \nSchedule: \n\nApril 1: No Class\nApril 8: Drum Stick Making\nApril 15: Garden Talk\nApri 22: Handgames Demonstration\nApril 29: End of Year Celebration\n\nMust be a registered client of UICSL.
URL:https://uicsl.org/event/youth-culture-class-20/2025-04-15/
LOCATION:Flat Iron Mesa Park\, 1765 E 8600 S\, Sandy\, UT\, 84093\, United States
ATTACH;FMTTYPE=image/png:https://uicsl.org/wp-content/uploads/2025/03/Youth-Culture-Class.png
END:VEVENT
BEGIN:VEVENT
DTSTART;TZID=America/Denver:20250416T180000
DTEND;TZID=America/Denver:20250416T190000
DTSTAMP:20260421T172401
CREATED:20241230T174700Z
LAST-MODIFIED:20250415T224012Z
UID:10001673-1744826400-1744830000@uicsl.org
SUMMARY:In The Steps of Our Ancestors Running Group
DESCRIPTION:  \nIn The Steps of Our Ancestors Running Group \nAll experience levels welcome \n\nkids ages 10+ welcome\nParent/guardian supervision required\nStrollers welcome\n\nMust be a registered client of UICSL.
URL:https://uicsl.org/event/in-the-steps-of-our-ancestors-running-group-4-2025-04-16/
LOCATION:Utah Olympic Oval Indoor Track\, 5662 South Cougar Lane (4800 West)\, Salt Lake City\, Utah\, 84118
ATTACH;FMTTYPE=image/png:https://uicsl.org/wp-content/uploads/2024/12/Winter-Indoor-Running-1.png
ORGANIZER;CN="Urban Indian Center of Salt Lake":MAILTO:info@iwic.org
END:VEVENT
BEGIN:VEVENT
DTSTART;TZID=America/Denver:20250418T100000
DTEND;TZID=America/Denver:20250418T113000
DTSTAMP:20260421T172401
CREATED:20250312T190620Z
LAST-MODIFIED:20250414T140720Z
UID:10001719-1744970400-1744975800@uicsl.org
SUMMARY:Moving Warriors Open Gym
DESCRIPTION:For Native Elders 50+ on the 1st & 3rd Friday of Each Month \nMultiple activities available that include fun physical activities like casual basketball\, beachball volleyball\, music & hula hoops! \nWater & light refreshments provided. \nQuestions: Moriah (801)889-7244 \nMust be a registered client of UICSL.
URL:https://uicsl.org/event/moving-warriors-open-gym/2025-04-18/
LOCATION:Flat Iron Mesa Park\, 1765 E 8600 S\, Sandy\, UT\, 84093\, United States
ATTACH;FMTTYPE=image/png:https://uicsl.org/wp-content/uploads/2025/03/Moving-Warrior-2.png
END:VEVENT
BEGIN:VEVENT
DTSTART;TZID=America/Denver:20250418T180000
DTEND;TZID=America/Denver:20250418T200000
DTSTAMP:20260421T172401
CREATED:20250401T180250Z
LAST-MODIFIED:20250402T144615Z
UID:10001736-1744999200-1745006400@uicsl.org
SUMMARY:Walking Stick Workshop
DESCRIPTION:In collaboration with the Walking in Harmony 7-week hiking series. \nQuestions: Moriah (801)889-7244 \nMust be a registered client or live within the same household of a registered client of  UICSL.
URL:https://uicsl.org/event/walking-stick-workshop/
LOCATION:Flat Iron Mesa Park\, 1765 E 8600 S\, Sandy\, UT\, 84093\, United States
ATTACH;FMTTYPE=image/png:https://uicsl.org/wp-content/uploads/2025/04/walking-stick-closed-FINAL-FLYER.png
END:VEVENT
BEGIN:VEVENT
DTSTART;TZID=America/Denver:20250421T170000
DTEND;TZID=America/Denver:20250421T190000
DTSTAMP:20260421T172401
CREATED:20250220T235609Z
LAST-MODIFIED:20250220T235801Z
UID:10001705-1745254800-1745262000@uicsl.org
SUMMARY:Girls on the Run
DESCRIPTION:For 3rd – 5th grade Native youth \narticipants will practice once a week for 8 weeks. Enjoy fun and engaging lessons\, team discussions\, and physical activities\, all led by trained and caring coaches. Participants will receive a GOTR shirt\, water bottle\, bag\, journal\, and all necessary lesson supplies. Celebrate accomplishments with an exciting End-of-Season 5K on May 31! \nREGISTER NOW – Contact Tetona \n(801)214-7662 OR TLONGHAIR@UICSL.ORG
URL:https://uicsl.org/event/girls-on-the-run/2025-04-21/
LOCATION:Flat Iron Mesa Park\, 1765 E 8600 S\, Sandy\, UT\, 84093\, United States
ATTACH;FMTTYPE=image/png:https://uicsl.org/wp-content/uploads/2025/02/GOTR.png
END:VEVENT
BEGIN:VEVENT
DTSTART;TZID=America/Denver:20250421T170000
DTEND;TZID=America/Denver:20250421T190000
DTSTAMP:20260421T172401
CREATED:20250408T223154Z
LAST-MODIFIED:20250408T230700Z
UID:10001755-1745254800-1745262000@uicsl.org
SUMMARY:Power In The Native Plate
DESCRIPTION:Cooking for Diabetes Prevention \nClass 1: Summer Pasta Salad \n  \nQuestions: Jessie Lagoo\, RD at (385)509-6104 or jlagoo@uicsl.org \n  \nMust be a registered client or live within the same household of a registered client of UICSL. 
URL:https://uicsl.org/event/power-in-the-native-plate/
LOCATION:Flat Iron Mesa Park\, 1765 E 8600 S\, Sandy\, UT\, 84093\, United States
ATTACH;FMTTYPE=image/png:https://uicsl.org/wp-content/uploads/2025/04/Power-In-the-Native-Plate.png
END:VEVENT
BEGIN:VEVENT
DTSTART;TZID=America/Denver:20250422T180000
DTEND;TZID=America/Denver:20250422T200000
DTSTAMP:20260421T172401
CREATED:20250319T172130Z
LAST-MODIFIED:20250319T172207Z
UID:10001731-1745344800-1745352000@uicsl.org
SUMMARY:Youth Culture Class
DESCRIPTION:  \nSchedule: \n\nApril 1: No Class\nApril 8: Drum Stick Making\nApril 15: Garden Talk\nApri 22: Handgames Demonstration\nApril 29: End of Year Celebration\n\nMust be a registered client of UICSL.
URL:https://uicsl.org/event/youth-culture-class-20/2025-04-22/
LOCATION:Flat Iron Mesa Park\, 1765 E 8600 S\, Sandy\, UT\, 84093\, United States
ATTACH;FMTTYPE=image/png:https://uicsl.org/wp-content/uploads/2025/03/Youth-Culture-Class.png
END:VEVENT
BEGIN:VEVENT
DTSTART;TZID=America/Denver:20250423T180000
DTEND;TZID=America/Denver:20250423T190000
DTSTAMP:20260421T172401
CREATED:20241230T174700Z
LAST-MODIFIED:20250409T173342Z
UID:10001670-1745431200-1745434800@uicsl.org
SUMMARY:In The Steps of Our Ancestors Running Group
DESCRIPTION:LOCATION CHANGE: We will be outside today! \nIn The Steps of Our Ancestors Running Group \nAll experience levels welcome \n\nkids ages 10+ welcome\nParent/guardian supervision required\nStrollers welcome\n\nMust be a registered client of UICSL.
URL:https://uicsl.org/event/in-the-steps-of-our-ancestors-running-group-4/2025-04-23/
LOCATION:Kearns Oquirrh Park\, 5624 Cougar Ln\, Kearns\, Utah\, 84118
ATTACH;FMTTYPE=image/png:https://uicsl.org/wp-content/uploads/2024/12/run-Location-Change.png
ORGANIZER;CN="Urban Indian Center of Salt Lake":MAILTO:info@iwic.org
END:VEVENT
BEGIN:VEVENT
DTSTART;TZID=America/Denver:20250424T100000
DTEND;TZID=America/Denver:20250424T233000
DTSTAMP:20260421T172401
CREATED:20250414T132803Z
LAST-MODIFIED:20250414T140409Z
UID:10001756-1745488800-1745537400@uicsl.org
SUMMARY:Unsheltered Relatives Support Group
DESCRIPTION:Refreshments and breakfast provided. \nQuestions: Heather Molyneaux at (385)509-3790 or hmolyneaux@uicsl.org \n  \nMust be a registered client of UICSL.
URL:https://uicsl.org/event/unsheltered-relatives-support-group-copy/
LOCATION:Flat Iron Mesa Park\, 1765 E 8600 S\, Sandy\, UT\, 84093\, United States
ATTACH;FMTTYPE=image/png:https://uicsl.org/wp-content/uploads/2025/04/april-Support-Circle.png
END:VEVENT
BEGIN:VEVENT
DTSTART;TZID=America/Denver:20250425T120000
DTEND;TZID=America/Denver:20250425T140000
DTSTAMP:20260421T172401
CREATED:20250321T164043Z
LAST-MODIFIED:20250401T211216Z
UID:10001734-1745582400-1745589600@uicsl.org
SUMMARY:Elders Corner Meeting
DESCRIPTION:For Native elders 50+ \n\nApril 11: Elder Advocacy & Healing with Meg Singer\nApril 25: Medical Education with Sunnie Young\, RN & Edward Awing\, AGNP-C\n\nQuestions: Anita (801) 828-8524 \nMust be a registered client of UICSL.
URL:https://uicsl.org/event/elders-corner-meeting-31/2025-04-25/
LOCATION:Flat Iron Mesa Park\, 1765 E 8600 S\, Sandy\, UT\, 84093\, United States
ATTACH;FMTTYPE=image/png:https://uicsl.org/wp-content/uploads/2025/03/April-Elders-Corner-1.png
END:VEVENT
BEGIN:VEVENT
DTSTART;TZID=America/Denver:20250427T070000
DTEND;TZID=America/Denver:20250427T100000
DTSTAMP:20260421T172401
CREATED:20250414T165001Z
LAST-MODIFIED:20250414T165331Z
UID:10001758-1745737200-1745748000@uicsl.org
SUMMARY:LIVE 90.9 KRCL Radio
DESCRIPTION:Hosted by  Living the Circle of Life with Dave John and co-host Rhonda ‘Honey’ DuVall \nBeardance songs provided by Ft. Duchesne Beardance Singers \nVoluntary dancers welcome \n  \nQuestions: Rhonda at (801)486-4877 \n 
URL:https://uicsl.org/event/live-90-9-krcl-radio/
LOCATION:Flat Iron Mesa Park\, 1765 E 8600 S\, Sandy\, UT\, 84093\, United States
ATTACH;FMTTYPE=image/png:https://uicsl.org/wp-content/uploads/2025/04/KRCL-Radio-Host.png
ORGANIZER;CN="Urban Indian Center of Salt Lake":MAILTO:info@iwic.org
END:VEVENT
BEGIN:VEVENT
DTSTART;TZID=America/Denver:20250428T170000
DTEND;TZID=America/Denver:20250428T190000
DTSTAMP:20260421T172401
CREATED:20250220T235609Z
LAST-MODIFIED:20250220T235801Z
UID:10001706-1745859600-1745866800@uicsl.org
SUMMARY:Girls on the Run
DESCRIPTION:For 3rd – 5th grade Native youth \narticipants will practice once a week for 8 weeks. Enjoy fun and engaging lessons\, team discussions\, and physical activities\, all led by trained and caring coaches. Participants will receive a GOTR shirt\, water bottle\, bag\, journal\, and all necessary lesson supplies. Celebrate accomplishments with an exciting End-of-Season 5K on May 31! \nREGISTER NOW – Contact Tetona \n(801)214-7662 OR TLONGHAIR@UICSL.ORG
URL:https://uicsl.org/event/girls-on-the-run/2025-04-28/
LOCATION:Flat Iron Mesa Park\, 1765 E 8600 S\, Sandy\, UT\, 84093\, United States
ATTACH;FMTTYPE=image/png:https://uicsl.org/wp-content/uploads/2025/02/GOTR.png
END:VEVENT
BEGIN:VEVENT
DTSTART;TZID=America/Denver:20250428T173000
DTEND;TZID=America/Denver:20250428T190000
DTSTAMP:20260421T172401
CREATED:20250421T160442Z
LAST-MODIFIED:20250421T160442Z
UID:10001757-1745861400-1745866800@uicsl.org
SUMMARY:Garden Club Info Session
DESCRIPTION:Join UICSL’s Garden Club to plant\, tend\, and harvest traditional foods and medicines together. No experience needed – just bring your hands and heart. Everyone welcome. \nSign up today! \n  \nContact: Jessie Lagoo\, RD at 385-509-6104 or jlagoo@uicsl.org
URL:https://uicsl.org/event/garden-club-info-session/
LOCATION:Flat Iron Mesa Park\, 1765 E 8600 S\, Sandy\, UT\, 84093\, United States
ATTACH;FMTTYPE=image/png:https://uicsl.org/wp-content/uploads/2025/04/Community-Garden-Info-Meeting2-.png
END:VEVENT
END:VCALENDAR