BEGIN:VCALENDAR
VERSION:2.0
PRODID:-//Urban Indian Center of Salt Lake - ECPv6.15.20//NONSGML v1.0//EN
CALSCALE:GREGORIAN
METHOD:PUBLISH
X-WR-CALNAME:Urban Indian Center of Salt Lake
X-ORIGINAL-URL:https://uicsl.org
X-WR-CALDESC:Events for Urban Indian Center of Salt Lake
REFRESH-INTERVAL;VALUE=DURATION:PT1H
X-Robots-Tag:noindex
X-PUBLISHED-TTL:PT1H
BEGIN:VTIMEZONE
TZID:America/Denver
BEGIN:DAYLIGHT
TZOFFSETFROM:-0700
TZOFFSETTO:-0600
TZNAME:MDT
DTSTART:20190310T090000
END:DAYLIGHT
BEGIN:STANDARD
TZOFFSETFROM:-0600
TZOFFSETTO:-0700
TZNAME:MST
DTSTART:20191103T080000
END:STANDARD
BEGIN:DAYLIGHT
TZOFFSETFROM:-0700
TZOFFSETTO:-0600
TZNAME:MDT
DTSTART:20200308T090000
END:DAYLIGHT
BEGIN:STANDARD
TZOFFSETFROM:-0600
TZOFFSETTO:-0700
TZNAME:MST
DTSTART:20201101T080000
END:STANDARD
BEGIN:DAYLIGHT
TZOFFSETFROM:-0700
TZOFFSETTO:-0600
TZNAME:MDT
DTSTART:20210314T090000
END:DAYLIGHT
BEGIN:STANDARD
TZOFFSETFROM:-0600
TZOFFSETTO:-0700
TZNAME:MST
DTSTART:20211107T080000
END:STANDARD
END:VTIMEZONE
BEGIN:VEVENT
DTSTART;TZID=America/Denver:20201210T190000
DTEND;TZID=America/Denver:20201210T190000
DTSTAMP:20260421T185028
CREATED:20210224T160846Z
LAST-MODIFIED:20210224T160846Z
UID:10000981-1607626800-1607626800@uicsl.org
SUMMARY:Native Youth Support Group Parent Info Session
DESCRIPTION:Parents of Native youth ages 10-17 and young adults ages 18-24 are invited to attend our Native Youth Support Group informative session at 7 p.m.\, Dec. 10\, via Zoom. Find out more about the group and meet our facilitator\, 2020-21 Dreamstarter\, Tia Yazzie!To register\, email Tia at tyazzie@iwi.org. Tia will send out the Zoom link the day of the event.\nAll parents/guardians will be entered into a raffle to win a Pendleton coffee mug.
URL:https://uicsl.org/event/native-youth-support-group-parent-info-session/
LOCATION:Utah
ATTACH;FMTTYPE=image/png:https://uicsl.org/wp-content/uploads/2020/12/Native-Youth.png
END:VEVENT
END:VCALENDAR