BEGIN:VCALENDAR
VERSION:2.0
PRODID:-//Urban Indian Center of Salt Lake - ECPv6.15.20//NONSGML v1.0//EN
CALSCALE:GREGORIAN
METHOD:PUBLISH
X-WR-CALNAME:Urban Indian Center of Salt Lake
X-ORIGINAL-URL:https://uicsl.org
X-WR-CALDESC:Events for Urban Indian Center of Salt Lake
REFRESH-INTERVAL;VALUE=DURATION:PT1H
X-Robots-Tag:noindex
X-PUBLISHED-TTL:PT1H
BEGIN:VTIMEZONE
TZID:America/Denver
BEGIN:DAYLIGHT
TZOFFSETFROM:-0700
TZOFFSETTO:-0600
TZNAME:MDT
DTSTART:20240310T090000
END:DAYLIGHT
BEGIN:STANDARD
TZOFFSETFROM:-0600
TZOFFSETTO:-0700
TZNAME:MST
DTSTART:20241103T080000
END:STANDARD
BEGIN:DAYLIGHT
TZOFFSETFROM:-0700
TZOFFSETTO:-0600
TZNAME:MDT
DTSTART:20250309T090000
END:DAYLIGHT
BEGIN:STANDARD
TZOFFSETFROM:-0600
TZOFFSETTO:-0700
TZNAME:MST
DTSTART:20251102T080000
END:STANDARD
BEGIN:DAYLIGHT
TZOFFSETFROM:-0700
TZOFFSETTO:-0600
TZNAME:MDT
DTSTART:20260308T090000
END:DAYLIGHT
BEGIN:STANDARD
TZOFFSETFROM:-0600
TZOFFSETTO:-0700
TZNAME:MST
DTSTART:20261101T080000
END:STANDARD
END:VTIMEZONE
BEGIN:VEVENT
DTSTART;TZID=America/Denver:20250619T180000
DTEND;TZID=America/Denver:20250619T190000
DTSTAMP:20260422T223242
CREATED:20250401T183410Z
LAST-MODIFIED:20250620T190013Z
UID:10001743-1750356000-1750359600@uicsl.org
SUMMARY:Walking in Harmony
DESCRIPTION:Walking in Harmony – 7 Hiking Series \nJoin us & community in learning about Utah’s Indigenous land\, plants\, and medicine on each trail. Share your laughter and stories while enjoying Mother Earth & Father Sky. \nAll Ages Welcome – Space Limited! \nContact: Moriah (801) 889-7244 \nMust be a registered client or live within the same household or a registered client of UICSL.
URL:https://uicsl.org/event/walking-in-harmony/2025-06-19/
LOCATION:UT
ATTACH;FMTTYPE=image/png:https://uicsl.org/wp-content/uploads/2025/04/Hiking-in-Harmony-1.png
END:VEVENT
BEGIN:VEVENT
DTSTART;TZID=America/Denver:20250620T100000
DTEND;TZID=America/Denver:20250620T113000
DTSTAMP:20260422T223242
CREATED:20250312T190620Z
LAST-MODIFIED:20250414T140720Z
UID:10001721-1750413600-1750419000@uicsl.org
SUMMARY:Moving Warriors Open Gym
DESCRIPTION:For Native Elders 50+ on the 1st & 3rd Friday of Each Month \nMultiple activities available that include fun physical activities like casual basketball\, beachball volleyball\, music & hula hoops! \nWater & light refreshments provided. \nQuestions: Moriah (801)889-7244 \nMust be a registered client of UICSL.
URL:https://uicsl.org/event/moving-warriors-open-gym/2025-06-20/
LOCATION:Flat Iron Mesa Park\, 1765 E 8600 S\, Sandy\, UT\, 84093\, United States
ATTACH;FMTTYPE=image/png:https://uicsl.org/wp-content/uploads/2025/03/Moving-Warrior-2.png
END:VEVENT
BEGIN:VEVENT
DTSTART;TZID=America/Denver:20250621T170000
DTEND;TZID=America/Denver:20250621T200000
DTSTAMP:20260422T223242
CREATED:20250609T203312Z
LAST-MODIFIED:20250609T203342Z
UID:10001798-1750525200-1750536000@uicsl.org
SUMMARY:Tuniyay Film Screening
DESCRIPTION:
URL:https://uicsl.org/event/tuniyay-film-screening/
LOCATION:Flat Iron Mesa Park\, 1765 E 8600 S\, Sandy\, UT\, 84093\, United States
ATTACH;FMTTYPE=image/png:https://uicsl.org/wp-content/uploads/2025/06/Film-Screening.png
ORGANIZER;CN="Urban Indian Center of Salt Lake":MAILTO:info@iwic.org
END:VEVENT
BEGIN:VEVENT
DTSTART;TZID=America/Denver:20250623T100000
DTEND;TZID=America/Denver:20250623T160000
DTSTAMP:20260422T223242
CREATED:20250509T154708Z
LAST-MODIFIED:20250513T170049Z
UID:10001785-1750672800-1750694400@uicsl.org
SUMMARY:Summer Youth Program
DESCRIPTION:Must be a registered client of UICSL \n  \nCall Tetona to register today – (801)214-7662
URL:https://uicsl.org/event/summer-youth-program-2/2025-06-23/
LOCATION:Flat Iron Mesa Park\, 1765 E 8600 S\, Sandy\, UT\, 84093\, United States
ATTACH;FMTTYPE=image/png:https://uicsl.org/wp-content/uploads/2025/05/closed-2025-summer-program.png
ORGANIZER;CN="Urban Indian Center of Salt Lake":MAILTO:info@iwic.org
END:VEVENT
BEGIN:VEVENT
DTSTART;TZID=America/Denver:20250623T173000
DTEND;TZID=America/Denver:20250623T190000
DTSTAMP:20260422T223242
CREATED:20250610T214301Z
LAST-MODIFIED:20250610T214301Z
UID:10001799-1750699800-1750705200@uicsl.org
SUMMARY:Power in the Native Plate
DESCRIPTION:Cooking for Diabetes Prevention \nClass: Smoothies Galore \nMore information: Jessie Lagoo\, RD at (385)509-6104 or jlagoo@uicsl.org
URL:https://uicsl.org/event/power-in-the-native-plate-2/
LOCATION:Flat Iron Mesa Park\, 1765 E 8600 S\, Sandy\, UT\, 84093\, United States
ATTACH;FMTTYPE=image/png:https://uicsl.org/wp-content/uploads/2025/06/Power-In-The-Native-Plate.png
ORGANIZER;CN="Urban Indian Center of Salt Lake":MAILTO:info@iwic.org
END:VEVENT
BEGIN:VEVENT
DTSTART;TZID=America/Denver:20250624T100000
DTEND;TZID=America/Denver:20250624T160000
DTSTAMP:20260422T223242
CREATED:20250509T154708Z
LAST-MODIFIED:20250513T170049Z
UID:10001786-1750759200-1750780800@uicsl.org
SUMMARY:Summer Youth Program
DESCRIPTION:Must be a registered client of UICSL \n  \nCall Tetona to register today – (801)214-7662
URL:https://uicsl.org/event/summer-youth-program-2/2025-06-24/
LOCATION:Flat Iron Mesa Park\, 1765 E 8600 S\, Sandy\, UT\, 84093\, United States
ATTACH;FMTTYPE=image/png:https://uicsl.org/wp-content/uploads/2025/05/closed-2025-summer-program.png
ORGANIZER;CN="Urban Indian Center of Salt Lake":MAILTO:info@iwic.org
END:VEVENT
BEGIN:VEVENT
DTSTART;TZID=America/Denver:20250625T100000
DTEND;TZID=America/Denver:20250625T160000
DTSTAMP:20260422T223242
CREATED:20250509T154708Z
LAST-MODIFIED:20250513T170049Z
UID:10001787-1750845600-1750867200@uicsl.org
SUMMARY:Summer Youth Program
DESCRIPTION:Must be a registered client of UICSL \n  \nCall Tetona to register today – (801)214-7662
URL:https://uicsl.org/event/summer-youth-program-2/2025-06-25/
LOCATION:Flat Iron Mesa Park\, 1765 E 8600 S\, Sandy\, UT\, 84093\, United States
ATTACH;FMTTYPE=image/png:https://uicsl.org/wp-content/uploads/2025/05/closed-2025-summer-program.png
ORGANIZER;CN="Urban Indian Center of Salt Lake":MAILTO:info@iwic.org
END:VEVENT
BEGIN:VEVENT
DTSTART;TZID=America/Denver:20250625T173000
DTEND;TZID=America/Denver:20250730T193000
DTSTAMP:20260422T223242
CREATED:20250811T230937Z
LAST-MODIFIED:20250811T230937Z
UID:10001818-1750872600-1753903800@uicsl.org
SUMMARY:Advanced Diné Bizaad
DESCRIPTION:A six-week course for advanced learners to build confidence using Diné Bizaad through real-life practice and cultural context. \nThis class is designed for participants with a foundational knowledge of Diné Bizaad who have completed both the Introductory and Intermediate courses. \nAs an advanced-level course\, the majority of instruction will be conducted in Diné Bizaad. The focus will be on applying the language in everyday conversation\, helping participants build confidence in speaking and understanding Diné Bizaad in real-world situations. \nIn addition to language development\, the course aims to deepen participants’ connection to Diné culture and traditional communication styles.
URL:https://uicsl.org/event/advance-dine-bizaad-3/
LOCATION:Flat Iron Mesa Park\, 1765 E 8600 S\, Sandy\, UT\, 84093\, United States
ATTACH;FMTTYPE=image/png:https://uicsl.org/wp-content/uploads/2025/06/Dine-Bizaad-Intermediate.png
ORGANIZER;CN="Urban Indian Center of Salt Lake":MAILTO:info@iwic.org
END:VEVENT
BEGIN:VEVENT
DTSTART;TZID=America/Denver:20250626T100000
DTEND;TZID=America/Denver:20250626T130000
DTSTAMP:20260422T223242
CREATED:20250421T162053Z
LAST-MODIFIED:20250611T211220Z
UID:10001760-1750932000-1750942800@uicsl.org
SUMMARY:Family Field Day
DESCRIPTION:Questions: Moriah 385.267.1721
URL:https://uicsl.org/event/family-field-day-3/
LOCATION:Murray Park Pavillion #4\, 406 E. Vine St. (4930 So.)\, Murray\, UT
ATTACH;FMTTYPE=image/png:https://uicsl.org/wp-content/uploads/2025/04/Family-Field-Day-1.png
END:VEVENT
BEGIN:VEVENT
DTSTART;TZID=America/Denver:20250626T100000
DTEND;TZID=America/Denver:20250626T160000
DTSTAMP:20260422T223242
CREATED:20250509T154708Z
LAST-MODIFIED:20250513T170049Z
UID:10001788-1750932000-1750953600@uicsl.org
SUMMARY:Summer Youth Program
DESCRIPTION:Must be a registered client of UICSL \n  \nCall Tetona to register today – (801)214-7662
URL:https://uicsl.org/event/summer-youth-program-2/2025-06-26/
LOCATION:Flat Iron Mesa Park\, 1765 E 8600 S\, Sandy\, UT\, 84093\, United States
ATTACH;FMTTYPE=image/png:https://uicsl.org/wp-content/uploads/2025/05/closed-2025-summer-program.png
ORGANIZER;CN="Urban Indian Center of Salt Lake":MAILTO:info@iwic.org
END:VEVENT
BEGIN:VEVENT
DTSTART;TZID=America/Denver:20250626T170000
DTEND;TZID=America/Denver:20250626T190000
DTSTAMP:20260422T223242
CREATED:20250410T135947Z
LAST-MODIFIED:20250414T165244Z
UID:10001754-1750957200-1750964400@uicsl.org
SUMMARY:After Hour Clinic
DESCRIPTION:Upcoming Dates: \n\nApril 24\nMay 22\nJune 12\nJune 26\n\nCall to schedule an appointment at 801-486-4877 \nUniversity of Utah Physician Assistant Program has proudly
URL:https://uicsl.org/event/after-hour-clinic/2025-06-26/
LOCATION:UICSL Murray Clinic\, 5450 South Green Street\, Salt Lake City\, Utah\, 84123
ATTACH;FMTTYPE=image/png:https://uicsl.org/wp-content/uploads/2025/04/After-hour-clinic-2.png
END:VEVENT
BEGIN:VEVENT
DTSTART;TZID=America/Denver:20250701T170000
DTEND;TZID=America/Denver:20250701T190000
DTSTAMP:20260422T223242
CREATED:20250819T225827Z
LAST-MODIFIED:20250826T150618Z
UID:10005350-1751389200-1751396400@uicsl.org
SUMMARY:UICSL Garden Club (Tuesday & Thursday)
DESCRIPTION:Learn to garden with your community. Garden tools provided\, just bring water\, closed-toe shoes\, and clothes you can get dirty in! \nMust be a registered client of the Urban Indian Center of Salt Lake or live within the same household as a registered client
URL:https://uicsl.org/event/uicsl-garden-club-2/2025-07-01/
LOCATION:Urban Indian Center Of Salt Lake – Main Building\, 120 w 1300 s\, salt lake city\, UT\, 84115\, United States
ATTACH;FMTTYPE=image/jpeg:https://uicsl.org/wp-content/uploads/2025/08/Garden-Club-e1755214868578.jpg
ORGANIZER;CN="Urban Indian Center of Salt Lake":MAILTO:info@iwic.org
END:VEVENT
BEGIN:VEVENT
DTSTART;TZID=America/Denver:20250701T170000
DTEND;TZID=America/Denver:20250701T190000
DTSTAMP:20260422T223242
CREATED:20251002T160406Z
LAST-MODIFIED:20251002T160406Z
UID:10005510-1751389200-1751396400@uicsl.org
SUMMARY:UICSL Garden Club (Tuesday & Thursday)
DESCRIPTION:Learn to garden with your community. Garden tools provided\, just bring water\, closed-toe shoes\, and clothes you can get dirty in! \nMust be a registered client of the Urban Indian Center of Salt Lake or live within the same household as a registered client
URL:https://uicsl.org/event/uicsl-garden-club-tuesday-thursday/2025-07-01/
LOCATION:Urban Indian Center Of Salt Lake – Main Building\, 120 w 1300 s\, salt lake city\, UT\, 84115\, United States
ATTACH;FMTTYPE=image/jpeg:https://uicsl.org/wp-content/uploads/2025/10/10-2-25_GardenClub-Ongoing-Class.jpg
ORGANIZER;CN="Urban Indian Center of Salt Lake":MAILTO:info@iwic.org
END:VEVENT
BEGIN:VEVENT
DTSTART;TZID=America/Denver:20250702T180000
DTEND;TZID=America/Denver:20250702T190000
DTSTAMP:20260422T223242
CREATED:20250630T182739Z
LAST-MODIFIED:20250630T182739Z
UID:10001873-1751479200-1751482800@uicsl.org
SUMMARY:In The Steps of Our Ancestors Running Group
DESCRIPTION:In The Steps of Our Ancestors Running Group \nAll experience levels welcome \n\nkids ages 10+ welcome\nParent/guardian supervision required\nStrollers welcome\n\nMust be a registered client of UICSL.
URL:https://uicsl.org/event/in-the-steps-of-our-ancestors-running-group-6/2025-07-02/
LOCATION:Utah Olympic Oval Indoor Track\, 5662 South Cougar Lane (4800 West)\, Salt Lake City\, Utah\, 84118
ATTACH;FMTTYPE=image/png:https://uicsl.org/wp-content/uploads/2025/06/Daylight-Savings-Indoor-Running-e1755218956206.png
ORGANIZER;CN="Urban Indian Center of Salt Lake":MAILTO:info@iwic.org
END:VEVENT
BEGIN:VEVENT
DTSTART;TZID=America/Denver:20250703T170000
DTEND;TZID=America/Denver:20250703T190000
DTSTAMP:20260422T223242
CREATED:20250819T225827Z
LAST-MODIFIED:20250826T150618Z
UID:10005351-1751562000-1751569200@uicsl.org
SUMMARY:UICSL Garden Club (Tuesday & Thursday)
DESCRIPTION:Learn to garden with your community. Garden tools provided\, just bring water\, closed-toe shoes\, and clothes you can get dirty in! \nMust be a registered client of the Urban Indian Center of Salt Lake or live within the same household as a registered client
URL:https://uicsl.org/event/uicsl-garden-club-2/2025-07-03/
LOCATION:Urban Indian Center Of Salt Lake – Main Building\, 120 w 1300 s\, salt lake city\, UT\, 84115\, United States
ATTACH;FMTTYPE=image/jpeg:https://uicsl.org/wp-content/uploads/2025/08/Garden-Club-e1755214868578.jpg
ORGANIZER;CN="Urban Indian Center of Salt Lake":MAILTO:info@iwic.org
END:VEVENT
BEGIN:VEVENT
DTSTART;TZID=America/Denver:20250703T170000
DTEND;TZID=America/Denver:20250703T190000
DTSTAMP:20260422T223242
CREATED:20251002T160406Z
LAST-MODIFIED:20251002T160406Z
UID:10005511-1751562000-1751569200@uicsl.org
SUMMARY:UICSL Garden Club (Tuesday & Thursday)
DESCRIPTION:Learn to garden with your community. Garden tools provided\, just bring water\, closed-toe shoes\, and clothes you can get dirty in! \nMust be a registered client of the Urban Indian Center of Salt Lake or live within the same household as a registered client
URL:https://uicsl.org/event/uicsl-garden-club-tuesday-thursday/2025-07-03/
LOCATION:Urban Indian Center Of Salt Lake – Main Building\, 120 w 1300 s\, salt lake city\, UT\, 84115\, United States
ATTACH;FMTTYPE=image/jpeg:https://uicsl.org/wp-content/uploads/2025/10/10-2-25_GardenClub-Ongoing-Class.jpg
ORGANIZER;CN="Urban Indian Center of Salt Lake":MAILTO:info@iwic.org
END:VEVENT
BEGIN:VEVENT
DTSTART;VALUE=DATE:20250704
DTEND;VALUE=DATE:20250705
DTSTAMP:20260422T223242
CREATED:20250630T165911Z
LAST-MODIFIED:20250630T182900Z
UID:10001871-1751587200-1751673599@uicsl.org
SUMMARY:Closed
DESCRIPTION:Regular business hours resume July 7
URL:https://uicsl.org/event/closed-33/
LOCATION:Flat Iron Mesa Park\, 1765 E 8600 S\, Sandy\, UT\, 84093\, United States
ATTACH;FMTTYPE=image/png:https://uicsl.org/wp-content/uploads/2025/06/Holiday-Hours-Real-Estate-Flyer.png
ORGANIZER;CN="Urban Indian Center of Salt Lake":MAILTO:info@iwic.org
END:VEVENT
BEGIN:VEVENT
DTSTART;TZID=America/Denver:20250707T100000
DTEND;TZID=America/Denver:20250717T160000
DTSTAMP:20260422T223242
CREATED:20250611T224257Z
LAST-MODIFIED:20250611T225711Z
UID:10001801-1751882400-1752768000@uicsl.org
SUMMARY:Teen Summer Program
DESCRIPTION:For Native Youth 7th – 11th Grade \nProgram consists of: \n\nCultural Arts & Crafts\nCollege Campus Tours\nHiking\nHealth Promotion/Disease Prevention\n\nTetona: 801-214-7662 or tlonghair@uicsl.org
URL:https://uicsl.org/event/teen-summer-program/
LOCATION:Flat Iron Mesa Park\, 1765 E 8600 S\, Sandy\, UT\, 84093\, United States
ATTACH;FMTTYPE=image/png:https://uicsl.org/wp-content/uploads/2025/06/Teen-Summer-Camp.png
ORGANIZER;CN="Urban Indian Center of Salt Lake":MAILTO:info@iwic.org
END:VEVENT
BEGIN:VEVENT
DTSTART;TZID=America/Denver:20250708T170000
DTEND;TZID=America/Denver:20250708T190000
DTSTAMP:20260422T223242
CREATED:20250819T225827Z
LAST-MODIFIED:20250826T150618Z
UID:10005352-1751994000-1752001200@uicsl.org
SUMMARY:UICSL Garden Club (Tuesday & Thursday)
DESCRIPTION:Learn to garden with your community. Garden tools provided\, just bring water\, closed-toe shoes\, and clothes you can get dirty in! \nMust be a registered client of the Urban Indian Center of Salt Lake or live within the same household as a registered client
URL:https://uicsl.org/event/uicsl-garden-club-2/2025-07-08/
LOCATION:Urban Indian Center Of Salt Lake – Main Building\, 120 w 1300 s\, salt lake city\, UT\, 84115\, United States
ATTACH;FMTTYPE=image/jpeg:https://uicsl.org/wp-content/uploads/2025/08/Garden-Club-e1755214868578.jpg
ORGANIZER;CN="Urban Indian Center of Salt Lake":MAILTO:info@iwic.org
END:VEVENT
BEGIN:VEVENT
DTSTART;TZID=America/Denver:20250708T170000
DTEND;TZID=America/Denver:20250708T190000
DTSTAMP:20260422T223242
CREATED:20251002T160406Z
LAST-MODIFIED:20251002T160406Z
UID:10005512-1751994000-1752001200@uicsl.org
SUMMARY:UICSL Garden Club (Tuesday & Thursday)
DESCRIPTION:Learn to garden with your community. Garden tools provided\, just bring water\, closed-toe shoes\, and clothes you can get dirty in! \nMust be a registered client of the Urban Indian Center of Salt Lake or live within the same household as a registered client
URL:https://uicsl.org/event/uicsl-garden-club-tuesday-thursday/2025-07-08/
LOCATION:Urban Indian Center Of Salt Lake – Main Building\, 120 w 1300 s\, salt lake city\, UT\, 84115\, United States
ATTACH;FMTTYPE=image/jpeg:https://uicsl.org/wp-content/uploads/2025/10/10-2-25_GardenClub-Ongoing-Class.jpg
ORGANIZER;CN="Urban Indian Center of Salt Lake":MAILTO:info@iwic.org
END:VEVENT
BEGIN:VEVENT
DTSTART;TZID=America/Denver:20250709T180000
DTEND;TZID=America/Denver:20250709T190000
DTSTAMP:20260422T223242
CREATED:20250630T182739Z
LAST-MODIFIED:20250630T182739Z
UID:10001874-1752084000-1752087600@uicsl.org
SUMMARY:In The Steps of Our Ancestors Running Group
DESCRIPTION:In The Steps of Our Ancestors Running Group \nAll experience levels welcome \n\nkids ages 10+ welcome\nParent/guardian supervision required\nStrollers welcome\n\nMust be a registered client of UICSL.
URL:https://uicsl.org/event/in-the-steps-of-our-ancestors-running-group-6/2025-07-09/
LOCATION:Utah Olympic Oval Indoor Track\, 5662 South Cougar Lane (4800 West)\, Salt Lake City\, Utah\, 84118
ATTACH;FMTTYPE=image/png:https://uicsl.org/wp-content/uploads/2025/06/Daylight-Savings-Indoor-Running-e1755218956206.png
ORGANIZER;CN="Urban Indian Center of Salt Lake":MAILTO:info@iwic.org
END:VEVENT
BEGIN:VEVENT
DTSTART;TZID=America/Denver:20250710T083000
DTEND;TZID=America/Denver:20250710T130000
DTSTAMP:20260422T223242
CREATED:20240109T230329Z
LAST-MODIFIED:20250930T191049Z
UID:10001353-1752136200-1752152400@uicsl.org
SUMMARY:CLOSED until 1:00 PM
DESCRIPTION:We are closed until 1:00 PM \nRegular business hours resume Friday.
URL:https://uicsl.org/event/closed-until-100-pm-11/2025-07-10/
LOCATION:UT
ATTACH;FMTTYPE=image/png:https://uicsl.org/wp-content/uploads/2025/09/10-9-25_Staff-Meeting-Closure.png
END:VEVENT
BEGIN:VEVENT
DTSTART;TZID=America/Denver:20250710T170000
DTEND;TZID=America/Denver:20250710T190000
DTSTAMP:20260422T223242
CREATED:20250819T225827Z
LAST-MODIFIED:20250826T150618Z
UID:10005353-1752166800-1752174000@uicsl.org
SUMMARY:UICSL Garden Club (Tuesday & Thursday)
DESCRIPTION:Learn to garden with your community. Garden tools provided\, just bring water\, closed-toe shoes\, and clothes you can get dirty in! \nMust be a registered client of the Urban Indian Center of Salt Lake or live within the same household as a registered client
URL:https://uicsl.org/event/uicsl-garden-club-2/2025-07-10/
LOCATION:Urban Indian Center Of Salt Lake – Main Building\, 120 w 1300 s\, salt lake city\, UT\, 84115\, United States
ATTACH;FMTTYPE=image/jpeg:https://uicsl.org/wp-content/uploads/2025/08/Garden-Club-e1755214868578.jpg
ORGANIZER;CN="Urban Indian Center of Salt Lake":MAILTO:info@iwic.org
END:VEVENT
BEGIN:VEVENT
DTSTART;TZID=America/Denver:20250710T170000
DTEND;TZID=America/Denver:20250710T190000
DTSTAMP:20260422T223242
CREATED:20251002T160406Z
LAST-MODIFIED:20251002T160406Z
UID:10005513-1752166800-1752174000@uicsl.org
SUMMARY:UICSL Garden Club (Tuesday & Thursday)
DESCRIPTION:Learn to garden with your community. Garden tools provided\, just bring water\, closed-toe shoes\, and clothes you can get dirty in! \nMust be a registered client of the Urban Indian Center of Salt Lake or live within the same household as a registered client
URL:https://uicsl.org/event/uicsl-garden-club-tuesday-thursday/2025-07-10/
LOCATION:Urban Indian Center Of Salt Lake – Main Building\, 120 w 1300 s\, salt lake city\, UT\, 84115\, United States
ATTACH;FMTTYPE=image/jpeg:https://uicsl.org/wp-content/uploads/2025/10/10-2-25_GardenClub-Ongoing-Class.jpg
ORGANIZER;CN="Urban Indian Center of Salt Lake":MAILTO:info@iwic.org
END:VEVENT
BEGIN:VEVENT
DTSTART;TZID=America/Denver:20250710T180000
DTEND;TZID=America/Denver:20250710T190000
DTSTAMP:20260422T223242
CREATED:20250620T184946Z
LAST-MODIFIED:20250702T151035Z
UID:10001804-1752170400-1752174000@uicsl.org
SUMMARY:Pickleball
DESCRIPTION:Jump into summer fun with an energizing evening of pickleball. Beginner-friendly class is perfect for anyone curious about the game – no experience needed and all levels welcome. bring a partner or come solo and get ready to laugh\, move\, and meet new relatives. \nMust be a registered client or live within the same household as a registered client of UICSL.
URL:https://uicsl.org/event/pickleball/2025-07-10/
LOCATION:Flat Iron Mesa Park\, 1765 E 8600 S\, Sandy\, UT\, 84093\, United States
ATTACH;FMTTYPE=image/png:https://uicsl.org/wp-content/uploads/2025/06/Pickleball-e1755214894200.png
ORGANIZER;CN="Urban Indian Center of Salt Lake":MAILTO:info@iwic.org
END:VEVENT
BEGIN:VEVENT
DTSTART;VALUE=DATE:20250711
DTEND;VALUE=DATE:20250713
DTSTAMP:20260422T223242
CREATED:20250709T202339Z
LAST-MODIFIED:20250709T202537Z
UID:10002576-1752192000-1752364799@uicsl.org
SUMMARY:Native Market Days
DESCRIPTION:Presented by American Indian Serves and UVU Native Excellence and Tribal Engagement.
URL:https://uicsl.org/event/native-market-days-2/
LOCATION:Utah Valley University\, Orem\, UT
ATTACH;FMTTYPE=image/png:https://uicsl.org/wp-content/uploads/2025/07/NMD25-Flyer-5x7-5-28-25-1-2.png
ORGANIZER;CN="Urban Indian Center of Salt Lake":MAILTO:info@iwic.org
END:VEVENT
BEGIN:VEVENT
DTSTART;TZID=America/Denver:20250711T120000
DTEND;TZID=America/Denver:20250711T140000
DTSTAMP:20260422T223242
CREATED:20250709T194111Z
LAST-MODIFIED:20250709T194111Z
UID:10002574-1752235200-1752242400@uicsl.org
SUMMARY:Elders Corner Meeting
DESCRIPTION:
URL:https://uicsl.org/event/elders-corner-meeting-33/
LOCATION:Flat Iron Mesa Park\, 1765 E 8600 S\, Sandy\, UT\, 84093\, United States
ATTACH;FMTTYPE=image/png:https://uicsl.org/wp-content/uploads/2025/07/Elders-Corner-79.png
ORGANIZER;CN="Urban Indian Center of Salt Lake":MAILTO:info@iwic.org
END:VEVENT
BEGIN:VEVENT
DTSTART;TZID=America/Denver:20250715T100000
DTEND;TZID=America/Denver:20250715T113000
DTSTAMP:20260422T223242
CREATED:20250625T185237Z
LAST-MODIFIED:20250625T185237Z
UID:10001812-1752573600-1752579000@uicsl.org
SUMMARY:Elder Coffee & Chat Hour
DESCRIPTION:
URL:https://uicsl.org/event/elder-coffee-chat-hour/
LOCATION:Flat Iron Mesa Park\, 1765 E 8600 S\, Sandy\, UT\, 84093\, United States
ATTACH;FMTTYPE=image/png:https://uicsl.org/wp-content/uploads/2025/06/Elders-Corner.png
ORGANIZER;CN="Urban Indian Center of Salt Lake":MAILTO:info@iwic.org
END:VEVENT
BEGIN:VEVENT
DTSTART;TZID=America/Denver:20250715T170000
DTEND;TZID=America/Denver:20250715T190000
DTSTAMP:20260422T223242
CREATED:20250819T225827Z
LAST-MODIFIED:20250826T150618Z
UID:10005354-1752598800-1752606000@uicsl.org
SUMMARY:UICSL Garden Club (Tuesday & Thursday)
DESCRIPTION:Learn to garden with your community. Garden tools provided\, just bring water\, closed-toe shoes\, and clothes you can get dirty in! \nMust be a registered client of the Urban Indian Center of Salt Lake or live within the same household as a registered client
URL:https://uicsl.org/event/uicsl-garden-club-2/2025-07-15/
LOCATION:Urban Indian Center Of Salt Lake – Main Building\, 120 w 1300 s\, salt lake city\, UT\, 84115\, United States
ATTACH;FMTTYPE=image/jpeg:https://uicsl.org/wp-content/uploads/2025/08/Garden-Club-e1755214868578.jpg
ORGANIZER;CN="Urban Indian Center of Salt Lake":MAILTO:info@iwic.org
END:VEVENT
BEGIN:VEVENT
DTSTART;TZID=America/Denver:20250715T170000
DTEND;TZID=America/Denver:20250715T190000
DTSTAMP:20260422T223242
CREATED:20251002T160406Z
LAST-MODIFIED:20251002T160406Z
UID:10005514-1752598800-1752606000@uicsl.org
SUMMARY:UICSL Garden Club (Tuesday & Thursday)
DESCRIPTION:Learn to garden with your community. Garden tools provided\, just bring water\, closed-toe shoes\, and clothes you can get dirty in! \nMust be a registered client of the Urban Indian Center of Salt Lake or live within the same household as a registered client
URL:https://uicsl.org/event/uicsl-garden-club-tuesday-thursday/2025-07-15/
LOCATION:Urban Indian Center Of Salt Lake – Main Building\, 120 w 1300 s\, salt lake city\, UT\, 84115\, United States
ATTACH;FMTTYPE=image/jpeg:https://uicsl.org/wp-content/uploads/2025/10/10-2-25_GardenClub-Ongoing-Class.jpg
ORGANIZER;CN="Urban Indian Center of Salt Lake":MAILTO:info@iwic.org
END:VEVENT
END:VCALENDAR