BEGIN:VCALENDAR
VERSION:2.0
PRODID:-//Urban Indian Center of Salt Lake - ECPv6.15.20//NONSGML v1.0//EN
CALSCALE:GREGORIAN
METHOD:PUBLISH
X-WR-CALNAME:Urban Indian Center of Salt Lake
X-ORIGINAL-URL:https://uicsl.org
X-WR-CALDESC:Events for Urban Indian Center of Salt Lake
REFRESH-INTERVAL;VALUE=DURATION:PT1H
X-Robots-Tag:noindex
X-PUBLISHED-TTL:PT1H
BEGIN:VTIMEZONE
TZID:America/Denver
BEGIN:DAYLIGHT
TZOFFSETFROM:-0700
TZOFFSETTO:-0600
TZNAME:MDT
DTSTART:20240310T090000
END:DAYLIGHT
BEGIN:STANDARD
TZOFFSETFROM:-0600
TZOFFSETTO:-0700
TZNAME:MST
DTSTART:20241103T080000
END:STANDARD
BEGIN:DAYLIGHT
TZOFFSETFROM:-0700
TZOFFSETTO:-0600
TZNAME:MDT
DTSTART:20250309T090000
END:DAYLIGHT
BEGIN:STANDARD
TZOFFSETFROM:-0600
TZOFFSETTO:-0700
TZNAME:MST
DTSTART:20251102T080000
END:STANDARD
BEGIN:DAYLIGHT
TZOFFSETFROM:-0700
TZOFFSETTO:-0600
TZNAME:MDT
DTSTART:20260308T090000
END:DAYLIGHT
BEGIN:STANDARD
TZOFFSETFROM:-0600
TZOFFSETTO:-0700
TZNAME:MST
DTSTART:20261101T080000
END:STANDARD
END:VTIMEZONE
BEGIN:VEVENT
DTSTART;TZID=America/Denver:20250721T090000
DTEND;TZID=America/Denver:20250731T090000
DTSTAMP:20260422T181427
CREATED:20250811T224518Z
LAST-MODIFIED:20250811T224518Z
UID:10002602-1753088400-1753952400@uicsl.org
SUMMARY:Junior Medicine Beginner Basketball Camp
DESCRIPTION:Must be a registered client of live within the same household of a registered client of UICSL. 
URL:https://uicsl.org/event/junior-medicine-beginner-basketball-camp-2-2/
LOCATION:Flat Iron Mesa Park\, 1765 E 8600 S\, Sandy\, UT\, 84093\, United States
ATTACH;FMTTYPE=image/png:https://uicsl.org/wp-content/uploads/2025/07/Fitness-Thursday.png
ORGANIZER;CN="Urban Indian Center of Salt Lake":MAILTO:info@iwic.org
END:VEVENT
BEGIN:VEVENT
DTSTART;TZID=America/Denver:20250722T170000
DTEND;TZID=America/Denver:20250722T190000
DTSTAMP:20260422T181427
CREATED:20250819T225827Z
LAST-MODIFIED:20250826T150618Z
UID:10005356-1753203600-1753210800@uicsl.org
SUMMARY:UICSL Garden Club (Tuesday & Thursday)
DESCRIPTION:Learn to garden with your community. Garden tools provided\, just bring water\, closed-toe shoes\, and clothes you can get dirty in! \nMust be a registered client of the Urban Indian Center of Salt Lake or live within the same household as a registered client
URL:https://uicsl.org/event/uicsl-garden-club-2/2025-07-22/
LOCATION:Urban Indian Center Of Salt Lake – Main Building\, 120 w 1300 s\, salt lake city\, UT\, 84115\, United States
ATTACH;FMTTYPE=image/jpeg:https://uicsl.org/wp-content/uploads/2025/08/Garden-Club-e1755214868578.jpg
ORGANIZER;CN="Urban Indian Center of Salt Lake":MAILTO:info@iwic.org
END:VEVENT
BEGIN:VEVENT
DTSTART;TZID=America/Denver:20250722T170000
DTEND;TZID=America/Denver:20250722T190000
DTSTAMP:20260422T181427
CREATED:20251002T160406Z
LAST-MODIFIED:20251002T160406Z
UID:10005516-1753203600-1753210800@uicsl.org
SUMMARY:UICSL Garden Club (Tuesday & Thursday)
DESCRIPTION:Learn to garden with your community. Garden tools provided\, just bring water\, closed-toe shoes\, and clothes you can get dirty in! \nMust be a registered client of the Urban Indian Center of Salt Lake or live within the same household as a registered client
URL:https://uicsl.org/event/uicsl-garden-club-tuesday-thursday/2025-07-22/
LOCATION:Urban Indian Center Of Salt Lake – Main Building\, 120 w 1300 s\, salt lake city\, UT\, 84115\, United States
ATTACH;FMTTYPE=image/jpeg:https://uicsl.org/wp-content/uploads/2025/10/10-2-25_GardenClub-Ongoing-Class.jpg
ORGANIZER;CN="Urban Indian Center of Salt Lake":MAILTO:info@iwic.org
END:VEVENT
BEGIN:VEVENT
DTSTART;TZID=America/Denver:20250723T180000
DTEND;TZID=America/Denver:20250723T190000
DTSTAMP:20260422T181427
CREATED:20250630T182739Z
LAST-MODIFIED:20250630T182739Z
UID:10001876-1753293600-1753297200@uicsl.org
SUMMARY:In The Steps of Our Ancestors Running Group
DESCRIPTION:In The Steps of Our Ancestors Running Group \nAll experience levels welcome \n\nkids ages 10+ welcome\nParent/guardian supervision required\nStrollers welcome\n\nMust be a registered client of UICSL.
URL:https://uicsl.org/event/in-the-steps-of-our-ancestors-running-group-6/2025-07-23/
LOCATION:Utah Olympic Oval Indoor Track\, 5662 South Cougar Lane (4800 West)\, Salt Lake City\, Utah\, 84118
ATTACH;FMTTYPE=image/png:https://uicsl.org/wp-content/uploads/2025/06/Daylight-Savings-Indoor-Running-e1755218956206.png
ORGANIZER;CN="Urban Indian Center of Salt Lake":MAILTO:info@iwic.org
END:VEVENT
BEGIN:VEVENT
DTSTART;VALUE=DATE:20250724
DTEND;VALUE=DATE:20250725
DTSTAMP:20260422T181427
CREATED:20250702T151625Z
LAST-MODIFIED:20250709T195423Z
UID:10002201-1753315200-1753401599@uicsl.org
SUMMARY:CLOSED
DESCRIPTION:regular business hours resume July 25
URL:https://uicsl.org/event/closed-34/
LOCATION:Flat Iron Mesa Park\, 1765 E 8600 S\, Sandy\, UT\, 84093\, United States
ATTACH;FMTTYPE=image/png:https://uicsl.org/wp-content/uploads/2025/07/july-24.png
ORGANIZER;CN="Urban Indian Center of Salt Lake":MAILTO:info@iwic.org
END:VEVENT
BEGIN:VEVENT
DTSTART;TZID=America/Denver:20250724T170000
DTEND;TZID=America/Denver:20250724T190000
DTSTAMP:20260422T181427
CREATED:20250819T225827Z
LAST-MODIFIED:20250826T150618Z
UID:10005357-1753376400-1753383600@uicsl.org
SUMMARY:UICSL Garden Club (Tuesday & Thursday)
DESCRIPTION:Learn to garden with your community. Garden tools provided\, just bring water\, closed-toe shoes\, and clothes you can get dirty in! \nMust be a registered client of the Urban Indian Center of Salt Lake or live within the same household as a registered client
URL:https://uicsl.org/event/uicsl-garden-club-2/2025-07-24/
LOCATION:Urban Indian Center Of Salt Lake – Main Building\, 120 w 1300 s\, salt lake city\, UT\, 84115\, United States
ATTACH;FMTTYPE=image/jpeg:https://uicsl.org/wp-content/uploads/2025/08/Garden-Club-e1755214868578.jpg
ORGANIZER;CN="Urban Indian Center of Salt Lake":MAILTO:info@iwic.org
END:VEVENT
BEGIN:VEVENT
DTSTART;TZID=America/Denver:20250724T170000
DTEND;TZID=America/Denver:20250724T190000
DTSTAMP:20260422T181427
CREATED:20251002T160406Z
LAST-MODIFIED:20251002T160406Z
UID:10005517-1753376400-1753383600@uicsl.org
SUMMARY:UICSL Garden Club (Tuesday & Thursday)
DESCRIPTION:Learn to garden with your community. Garden tools provided\, just bring water\, closed-toe shoes\, and clothes you can get dirty in! \nMust be a registered client of the Urban Indian Center of Salt Lake or live within the same household as a registered client
URL:https://uicsl.org/event/uicsl-garden-club-tuesday-thursday/2025-07-24/
LOCATION:Urban Indian Center Of Salt Lake – Main Building\, 120 w 1300 s\, salt lake city\, UT\, 84115\, United States
ATTACH;FMTTYPE=image/jpeg:https://uicsl.org/wp-content/uploads/2025/10/10-2-25_GardenClub-Ongoing-Class.jpg
ORGANIZER;CN="Urban Indian Center of Salt Lake":MAILTO:info@iwic.org
END:VEVENT
BEGIN:VEVENT
DTSTART;TZID=America/Denver:20250729T170000
DTEND;TZID=America/Denver:20250729T190000
DTSTAMP:20260422T181427
CREATED:20250819T225827Z
LAST-MODIFIED:20250826T150618Z
UID:10005358-1753808400-1753815600@uicsl.org
SUMMARY:UICSL Garden Club (Tuesday & Thursday)
DESCRIPTION:Learn to garden with your community. Garden tools provided\, just bring water\, closed-toe shoes\, and clothes you can get dirty in! \nMust be a registered client of the Urban Indian Center of Salt Lake or live within the same household as a registered client
URL:https://uicsl.org/event/uicsl-garden-club-2/2025-07-29/
LOCATION:Urban Indian Center Of Salt Lake – Main Building\, 120 w 1300 s\, salt lake city\, UT\, 84115\, United States
ATTACH;FMTTYPE=image/jpeg:https://uicsl.org/wp-content/uploads/2025/08/Garden-Club-e1755214868578.jpg
ORGANIZER;CN="Urban Indian Center of Salt Lake":MAILTO:info@iwic.org
END:VEVENT
BEGIN:VEVENT
DTSTART;TZID=America/Denver:20250729T170000
DTEND;TZID=America/Denver:20250729T190000
DTSTAMP:20260422T181427
CREATED:20251002T160406Z
LAST-MODIFIED:20251002T160406Z
UID:10005518-1753808400-1753815600@uicsl.org
SUMMARY:UICSL Garden Club (Tuesday & Thursday)
DESCRIPTION:Learn to garden with your community. Garden tools provided\, just bring water\, closed-toe shoes\, and clothes you can get dirty in! \nMust be a registered client of the Urban Indian Center of Salt Lake or live within the same household as a registered client
URL:https://uicsl.org/event/uicsl-garden-club-tuesday-thursday/2025-07-29/
LOCATION:Urban Indian Center Of Salt Lake – Main Building\, 120 w 1300 s\, salt lake city\, UT\, 84115\, United States
ATTACH;FMTTYPE=image/jpeg:https://uicsl.org/wp-content/uploads/2025/10/10-2-25_GardenClub-Ongoing-Class.jpg
ORGANIZER;CN="Urban Indian Center of Salt Lake":MAILTO:info@iwic.org
END:VEVENT
BEGIN:VEVENT
DTSTART;TZID=America/Denver:20250730T180000
DTEND;TZID=America/Denver:20250730T190000
DTSTAMP:20260422T181427
CREATED:20250630T182739Z
LAST-MODIFIED:20250630T182739Z
UID:10001877-1753898400-1753902000@uicsl.org
SUMMARY:In The Steps of Our Ancestors Running Group
DESCRIPTION:In The Steps of Our Ancestors Running Group \nAll experience levels welcome \n\nkids ages 10+ welcome\nParent/guardian supervision required\nStrollers welcome\n\nMust be a registered client of UICSL.
URL:https://uicsl.org/event/in-the-steps-of-our-ancestors-running-group-6/2025-07-30/
LOCATION:Utah Olympic Oval Indoor Track\, 5662 South Cougar Lane (4800 West)\, Salt Lake City\, Utah\, 84118
ATTACH;FMTTYPE=image/png:https://uicsl.org/wp-content/uploads/2025/06/Daylight-Savings-Indoor-Running-e1755218956206.png
ORGANIZER;CN="Urban Indian Center of Salt Lake":MAILTO:info@iwic.org
END:VEVENT
BEGIN:VEVENT
DTSTART;TZID=America/Denver:20250731T170000
DTEND;TZID=America/Denver:20250731T190000
DTSTAMP:20260422T181427
CREATED:20250819T225827Z
LAST-MODIFIED:20250826T150618Z
UID:10005359-1753981200-1753988400@uicsl.org
SUMMARY:UICSL Garden Club (Tuesday & Thursday)
DESCRIPTION:Learn to garden with your community. Garden tools provided\, just bring water\, closed-toe shoes\, and clothes you can get dirty in! \nMust be a registered client of the Urban Indian Center of Salt Lake or live within the same household as a registered client
URL:https://uicsl.org/event/uicsl-garden-club-2/2025-07-31/
LOCATION:Urban Indian Center Of Salt Lake – Main Building\, 120 w 1300 s\, salt lake city\, UT\, 84115\, United States
ATTACH;FMTTYPE=image/jpeg:https://uicsl.org/wp-content/uploads/2025/08/Garden-Club-e1755214868578.jpg
ORGANIZER;CN="Urban Indian Center of Salt Lake":MAILTO:info@iwic.org
END:VEVENT
BEGIN:VEVENT
DTSTART;TZID=America/Denver:20250731T170000
DTEND;TZID=America/Denver:20250731T190000
DTSTAMP:20260422T181427
CREATED:20251002T160406Z
LAST-MODIFIED:20251002T160406Z
UID:10005519-1753981200-1753988400@uicsl.org
SUMMARY:UICSL Garden Club (Tuesday & Thursday)
DESCRIPTION:Learn to garden with your community. Garden tools provided\, just bring water\, closed-toe shoes\, and clothes you can get dirty in! \nMust be a registered client of the Urban Indian Center of Salt Lake or live within the same household as a registered client
URL:https://uicsl.org/event/uicsl-garden-club-tuesday-thursday/2025-07-31/
LOCATION:Urban Indian Center Of Salt Lake – Main Building\, 120 w 1300 s\, salt lake city\, UT\, 84115\, United States
ATTACH;FMTTYPE=image/jpeg:https://uicsl.org/wp-content/uploads/2025/10/10-2-25_GardenClub-Ongoing-Class.jpg
ORGANIZER;CN="Urban Indian Center of Salt Lake":MAILTO:info@iwic.org
END:VEVENT
BEGIN:VEVENT
DTSTART;TZID=America/Denver:20250731T180000
DTEND;TZID=America/Denver:20250731T190000
DTSTAMP:20260422T181427
CREATED:20250620T184946Z
LAST-MODIFIED:20250702T151035Z
UID:10001807-1753984800-1753988400@uicsl.org
SUMMARY:Pickleball
DESCRIPTION:Jump into summer fun with an energizing evening of pickleball. Beginner-friendly class is perfect for anyone curious about the game – no experience needed and all levels welcome. bring a partner or come solo and get ready to laugh\, move\, and meet new relatives. \nMust be a registered client or live within the same household as a registered client of UICSL.
URL:https://uicsl.org/event/pickleball/2025-07-31/
LOCATION:Flat Iron Mesa Park\, 1765 E 8600 S\, Sandy\, UT\, 84093\, United States
ATTACH;FMTTYPE=image/png:https://uicsl.org/wp-content/uploads/2025/06/Pickleball-e1755214894200.png
ORGANIZER;CN="Urban Indian Center of Salt Lake":MAILTO:info@iwic.org
END:VEVENT
BEGIN:VEVENT
DTSTART;TZID=America/Denver:20250802T090000
DTEND;TZID=America/Denver:20250802T120000
DTSTAMP:20260422T181427
CREATED:20250602T154501Z
LAST-MODIFIED:20250813T015722Z
UID:10001796-1754125200-1754136000@uicsl.org
SUMMARY:Back to School Fair
DESCRIPTION:More Information Coming Soon
URL:https://uicsl.org/event/back-to-school-fair-2/
LOCATION:Flat Iron Mesa Park\, 1765 E 8600 S\, Sandy\, UT\, 84093\, United States
ATTACH;FMTTYPE=image/png:https://uicsl.org/wp-content/uploads/2025/06/Back-to-School-Facebook-Post-e1755050226871.png
ORGANIZER;CN="Urban Indian Center of Salt Lake":MAILTO:info@iwic.org
END:VEVENT
BEGIN:VEVENT
DTSTART;TZID=America/Denver:20250805T170000
DTEND;TZID=America/Denver:20250805T190000
DTSTAMP:20260422T181427
CREATED:20250819T225827Z
LAST-MODIFIED:20250826T150618Z
UID:10005360-1754413200-1754420400@uicsl.org
SUMMARY:UICSL Garden Club (Tuesday & Thursday)
DESCRIPTION:Learn to garden with your community. Garden tools provided\, just bring water\, closed-toe shoes\, and clothes you can get dirty in! \nMust be a registered client of the Urban Indian Center of Salt Lake or live within the same household as a registered client
URL:https://uicsl.org/event/uicsl-garden-club-2/2025-08-05/
LOCATION:Urban Indian Center Of Salt Lake – Main Building\, 120 w 1300 s\, salt lake city\, UT\, 84115\, United States
ATTACH;FMTTYPE=image/jpeg:https://uicsl.org/wp-content/uploads/2025/08/Garden-Club-e1755214868578.jpg
ORGANIZER;CN="Urban Indian Center of Salt Lake":MAILTO:info@iwic.org
END:VEVENT
BEGIN:VEVENT
DTSTART;TZID=America/Denver:20250805T170000
DTEND;TZID=America/Denver:20250805T190000
DTSTAMP:20260422T181427
CREATED:20251002T160406Z
LAST-MODIFIED:20251002T160406Z
UID:10005520-1754413200-1754420400@uicsl.org
SUMMARY:UICSL Garden Club (Tuesday & Thursday)
DESCRIPTION:Learn to garden with your community. Garden tools provided\, just bring water\, closed-toe shoes\, and clothes you can get dirty in! \nMust be a registered client of the Urban Indian Center of Salt Lake or live within the same household as a registered client
URL:https://uicsl.org/event/uicsl-garden-club-tuesday-thursday/2025-08-05/
LOCATION:Urban Indian Center Of Salt Lake – Main Building\, 120 w 1300 s\, salt lake city\, UT\, 84115\, United States
ATTACH;FMTTYPE=image/jpeg:https://uicsl.org/wp-content/uploads/2025/10/10-2-25_GardenClub-Ongoing-Class.jpg
ORGANIZER;CN="Urban Indian Center of Salt Lake":MAILTO:info@iwic.org
END:VEVENT
BEGIN:VEVENT
DTSTART;TZID=America/Denver:20250806T180000
DTEND;TZID=America/Denver:20250806T190000
DTSTAMP:20260422T181427
CREATED:20250630T182739Z
LAST-MODIFIED:20250630T182739Z
UID:10001878-1754503200-1754506800@uicsl.org
SUMMARY:In The Steps of Our Ancestors Running Group
DESCRIPTION:In The Steps of Our Ancestors Running Group \nAll experience levels welcome \n\nkids ages 10+ welcome\nParent/guardian supervision required\nStrollers welcome\n\nMust be a registered client of UICSL.
URL:https://uicsl.org/event/in-the-steps-of-our-ancestors-running-group-6/2025-08-06/
LOCATION:Utah Olympic Oval Indoor Track\, 5662 South Cougar Lane (4800 West)\, Salt Lake City\, Utah\, 84118
ATTACH;FMTTYPE=image/png:https://uicsl.org/wp-content/uploads/2025/06/Daylight-Savings-Indoor-Running-e1755218956206.png
ORGANIZER;CN="Urban Indian Center of Salt Lake":MAILTO:info@iwic.org
END:VEVENT
BEGIN:VEVENT
DTSTART;TZID=America/Denver:20250807T170000
DTEND;TZID=America/Denver:20250807T190000
DTSTAMP:20260422T181427
CREATED:20250819T225827Z
LAST-MODIFIED:20250826T150618Z
UID:10005361-1754586000-1754593200@uicsl.org
SUMMARY:UICSL Garden Club (Tuesday & Thursday)
DESCRIPTION:Learn to garden with your community. Garden tools provided\, just bring water\, closed-toe shoes\, and clothes you can get dirty in! \nMust be a registered client of the Urban Indian Center of Salt Lake or live within the same household as a registered client
URL:https://uicsl.org/event/uicsl-garden-club-2/2025-08-07/
LOCATION:Urban Indian Center Of Salt Lake – Main Building\, 120 w 1300 s\, salt lake city\, UT\, 84115\, United States
ATTACH;FMTTYPE=image/jpeg:https://uicsl.org/wp-content/uploads/2025/08/Garden-Club-e1755214868578.jpg
ORGANIZER;CN="Urban Indian Center of Salt Lake":MAILTO:info@iwic.org
END:VEVENT
BEGIN:VEVENT
DTSTART;TZID=America/Denver:20250807T170000
DTEND;TZID=America/Denver:20250807T190000
DTSTAMP:20260422T181427
CREATED:20251002T160406Z
LAST-MODIFIED:20251002T160406Z
UID:10005521-1754586000-1754593200@uicsl.org
SUMMARY:UICSL Garden Club (Tuesday & Thursday)
DESCRIPTION:Learn to garden with your community. Garden tools provided\, just bring water\, closed-toe shoes\, and clothes you can get dirty in! \nMust be a registered client of the Urban Indian Center of Salt Lake or live within the same household as a registered client
URL:https://uicsl.org/event/uicsl-garden-club-tuesday-thursday/2025-08-07/
LOCATION:Urban Indian Center Of Salt Lake – Main Building\, 120 w 1300 s\, salt lake city\, UT\, 84115\, United States
ATTACH;FMTTYPE=image/jpeg:https://uicsl.org/wp-content/uploads/2025/10/10-2-25_GardenClub-Ongoing-Class.jpg
ORGANIZER;CN="Urban Indian Center of Salt Lake":MAILTO:info@iwic.org
END:VEVENT
BEGIN:VEVENT
DTSTART;TZID=America/Denver:20250807T180000
DTEND;TZID=America/Denver:20250807T190000
DTSTAMP:20260422T181427
CREATED:20250620T184946Z
LAST-MODIFIED:20250702T151035Z
UID:10001808-1754589600-1754593200@uicsl.org
SUMMARY:Pickleball
DESCRIPTION:Jump into summer fun with an energizing evening of pickleball. Beginner-friendly class is perfect for anyone curious about the game – no experience needed and all levels welcome. bring a partner or come solo and get ready to laugh\, move\, and meet new relatives. \nMust be a registered client or live within the same household as a registered client of UICSL.
URL:https://uicsl.org/event/pickleball/2025-08-07/
LOCATION:Flat Iron Mesa Park\, 1765 E 8600 S\, Sandy\, UT\, 84093\, United States
ATTACH;FMTTYPE=image/png:https://uicsl.org/wp-content/uploads/2025/06/Pickleball-e1755214894200.png
ORGANIZER;CN="Urban Indian Center of Salt Lake":MAILTO:info@iwic.org
END:VEVENT
BEGIN:VEVENT
DTSTART;TZID=America/Denver:20250812T100000
DTEND;TZID=America/Denver:20250812T113000
DTSTAMP:20260422T181427
CREATED:20250811T235518Z
LAST-MODIFIED:20250814T233947Z
UID:10002898-1754992800-1754998200@uicsl.org
SUMMARY:Elders Coffee & Chat
DESCRIPTION:Join us in a welcoming space where our Elders come together to share wisdom\, laughter\, and stories over a warm cup. This is a time to connect\, be heard\, and honor the strength and knowledge that lives in our community.
URL:https://uicsl.org/event/elders-coffee-chat/
LOCATION:Urban Indian Center Of Salt Lake – Main Building\, 120 w 1300 s\, salt lake city\, UT\, 84115\, United States
ATTACH;FMTTYPE=image/png:https://uicsl.org/wp-content/uploads/2025/08/Coffee-and-Chat-2-e1755214777565.png
ORGANIZER;CN="Urban Indian Center of Salt Lake":MAILTO:info@iwic.org
END:VEVENT
BEGIN:VEVENT
DTSTART;TZID=America/Denver:20250812T170000
DTEND;TZID=America/Denver:20250812T190000
DTSTAMP:20260422T181427
CREATED:20250819T225827Z
LAST-MODIFIED:20250826T150618Z
UID:10005362-1755018000-1755025200@uicsl.org
SUMMARY:UICSL Garden Club (Tuesday & Thursday)
DESCRIPTION:Learn to garden with your community. Garden tools provided\, just bring water\, closed-toe shoes\, and clothes you can get dirty in! \nMust be a registered client of the Urban Indian Center of Salt Lake or live within the same household as a registered client
URL:https://uicsl.org/event/uicsl-garden-club-2/2025-08-12/
LOCATION:Urban Indian Center Of Salt Lake – Main Building\, 120 w 1300 s\, salt lake city\, UT\, 84115\, United States
ATTACH;FMTTYPE=image/jpeg:https://uicsl.org/wp-content/uploads/2025/08/Garden-Club-e1755214868578.jpg
ORGANIZER;CN="Urban Indian Center of Salt Lake":MAILTO:info@iwic.org
END:VEVENT
BEGIN:VEVENT
DTSTART;TZID=America/Denver:20250812T170000
DTEND;TZID=America/Denver:20250812T190000
DTSTAMP:20260422T181427
CREATED:20251002T160406Z
LAST-MODIFIED:20251002T160406Z
UID:10005522-1755018000-1755025200@uicsl.org
SUMMARY:UICSL Garden Club (Tuesday & Thursday)
DESCRIPTION:Learn to garden with your community. Garden tools provided\, just bring water\, closed-toe shoes\, and clothes you can get dirty in! \nMust be a registered client of the Urban Indian Center of Salt Lake or live within the same household as a registered client
URL:https://uicsl.org/event/uicsl-garden-club-tuesday-thursday/2025-08-12/
LOCATION:Urban Indian Center Of Salt Lake – Main Building\, 120 w 1300 s\, salt lake city\, UT\, 84115\, United States
ATTACH;FMTTYPE=image/jpeg:https://uicsl.org/wp-content/uploads/2025/10/10-2-25_GardenClub-Ongoing-Class.jpg
ORGANIZER;CN="Urban Indian Center of Salt Lake":MAILTO:info@iwic.org
END:VEVENT
BEGIN:VEVENT
DTSTART;TZID=America/Denver:20250813T180000
DTEND;TZID=America/Denver:20250813T190000
DTSTAMP:20260422T181427
CREATED:20250630T182739Z
LAST-MODIFIED:20250630T182739Z
UID:10001879-1755108000-1755111600@uicsl.org
SUMMARY:In The Steps of Our Ancestors Running Group
DESCRIPTION:In The Steps of Our Ancestors Running Group \nAll experience levels welcome \n\nkids ages 10+ welcome\nParent/guardian supervision required\nStrollers welcome\n\nMust be a registered client of UICSL.
URL:https://uicsl.org/event/in-the-steps-of-our-ancestors-running-group-6/2025-08-13/
LOCATION:Utah Olympic Oval Indoor Track\, 5662 South Cougar Lane (4800 West)\, Salt Lake City\, Utah\, 84118
ATTACH;FMTTYPE=image/png:https://uicsl.org/wp-content/uploads/2025/06/Daylight-Savings-Indoor-Running-e1755218956206.png
ORGANIZER;CN="Urban Indian Center of Salt Lake":MAILTO:info@iwic.org
END:VEVENT
BEGIN:VEVENT
DTSTART;TZID=America/Denver:20250814T083000
DTEND;TZID=America/Denver:20250814T130000
DTSTAMP:20260422T181427
CREATED:20240109T230329Z
LAST-MODIFIED:20250930T191049Z
UID:10001354-1755160200-1755176400@uicsl.org
SUMMARY:CLOSED until 1:00 PM
DESCRIPTION:We are closed until 1:00 PM \nRegular business hours resume Friday.
URL:https://uicsl.org/event/closed-until-100-pm-11/2025-08-14/
LOCATION:UT
ATTACH;FMTTYPE=image/png:https://uicsl.org/wp-content/uploads/2025/09/10-9-25_Staff-Meeting-Closure.png
END:VEVENT
BEGIN:VEVENT
DTSTART;TZID=America/Denver:20250814T170000
DTEND;TZID=America/Denver:20250814T190000
DTSTAMP:20260422T181427
CREATED:20250819T225827Z
LAST-MODIFIED:20250826T150618Z
UID:10005363-1755190800-1755198000@uicsl.org
SUMMARY:UICSL Garden Club (Tuesday & Thursday)
DESCRIPTION:Learn to garden with your community. Garden tools provided\, just bring water\, closed-toe shoes\, and clothes you can get dirty in! \nMust be a registered client of the Urban Indian Center of Salt Lake or live within the same household as a registered client
URL:https://uicsl.org/event/uicsl-garden-club-2/2025-08-14/
LOCATION:Urban Indian Center Of Salt Lake – Main Building\, 120 w 1300 s\, salt lake city\, UT\, 84115\, United States
ATTACH;FMTTYPE=image/jpeg:https://uicsl.org/wp-content/uploads/2025/08/Garden-Club-e1755214868578.jpg
ORGANIZER;CN="Urban Indian Center of Salt Lake":MAILTO:info@iwic.org
END:VEVENT
BEGIN:VEVENT
DTSTART;TZID=America/Denver:20250814T170000
DTEND;TZID=America/Denver:20250814T190000
DTSTAMP:20260422T181427
CREATED:20251002T160406Z
LAST-MODIFIED:20251002T160406Z
UID:10005523-1755190800-1755198000@uicsl.org
SUMMARY:UICSL Garden Club (Tuesday & Thursday)
DESCRIPTION:Learn to garden with your community. Garden tools provided\, just bring water\, closed-toe shoes\, and clothes you can get dirty in! \nMust be a registered client of the Urban Indian Center of Salt Lake or live within the same household as a registered client
URL:https://uicsl.org/event/uicsl-garden-club-tuesday-thursday/2025-08-14/
LOCATION:Urban Indian Center Of Salt Lake – Main Building\, 120 w 1300 s\, salt lake city\, UT\, 84115\, United States
ATTACH;FMTTYPE=image/jpeg:https://uicsl.org/wp-content/uploads/2025/10/10-2-25_GardenClub-Ongoing-Class.jpg
ORGANIZER;CN="Urban Indian Center of Salt Lake":MAILTO:info@iwic.org
END:VEVENT
BEGIN:VEVENT
DTSTART;TZID=America/Denver:20250814T180000
DTEND;TZID=America/Denver:20250814T190000
DTSTAMP:20260422T181427
CREATED:20250812T004424Z
LAST-MODIFIED:20250814T234143Z
UID:10001809-1755194400-1755198000@uicsl.org
SUMMARY:Pickleball
DESCRIPTION:Jump into summer fun with an energizing evening of pickleball. Beginner-friendly class is perfect for anyone curious about the game – no experience needed and all levels welcome. bring a partner or come solo and get ready to laugh\, move\, and meet new relatives. \nMust be a registered client or live within the same household as a registered client of UICSL.
URL:https://uicsl.org/event/pickleball-2/
LOCATION:Flat Iron Mesa Park\, 1765 E 8600 S\, Sandy\, UT\, 84093\, United States
ATTACH;FMTTYPE=image/png:https://uicsl.org/wp-content/uploads/2025/06/Pickleball-e1755214894200.png
ORGANIZER;CN="Urban Indian Center of Salt Lake":MAILTO:info@iwic.org
END:VEVENT
BEGIN:VEVENT
DTSTART;TZID=America/Denver:20250819T073000
DTEND;TZID=America/Denver:20250819T083000
DTSTAMP:20260422T181427
CREATED:20250819T231121Z
LAST-MODIFIED:20251002T155452Z
UID:10005343-1755588600-1755592200@uicsl.org
SUMMARY:Sunrise Strength Training
DESCRIPTION:Questions: Moriah (801) 889-7244 \nMust be a registered client or live within the same household of a registered client of UICSL. 
URL:https://uicsl.org/event/sunrise-strength-training/2025-08-19/
LOCATION:Urban Indian Center Of Salt Lake – Main Building\, 120 w 1300 s\, salt lake city\, UT\, 84115\, United States
ATTACH;FMTTYPE=image/png:https://uicsl.org/wp-content/uploads/2025/06/SUNRISE-STRENGTH-TRAINING-e1755214141858.png
ORGANIZER;CN="Urban Indian Center of Salt Lake":MAILTO:info@iwic.org
END:VEVENT
BEGIN:VEVENT
DTSTART;TZID=America/Denver:20250819T170000
DTEND;TZID=America/Denver:20250819T190000
DTSTAMP:20260422T181427
CREATED:20250819T225827Z
LAST-MODIFIED:20250826T150618Z
UID:10005364-1755622800-1755630000@uicsl.org
SUMMARY:UICSL Garden Club (Tuesday & Thursday)
DESCRIPTION:Learn to garden with your community. Garden tools provided\, just bring water\, closed-toe shoes\, and clothes you can get dirty in! \nMust be a registered client of the Urban Indian Center of Salt Lake or live within the same household as a registered client
URL:https://uicsl.org/event/uicsl-garden-club-2/2025-08-19/
LOCATION:Urban Indian Center Of Salt Lake – Main Building\, 120 w 1300 s\, salt lake city\, UT\, 84115\, United States
ATTACH;FMTTYPE=image/jpeg:https://uicsl.org/wp-content/uploads/2025/08/Garden-Club-e1755214868578.jpg
ORGANIZER;CN="Urban Indian Center of Salt Lake":MAILTO:info@iwic.org
END:VEVENT
END:VCALENDAR