BEGIN:VCALENDAR
VERSION:2.0
PRODID:-//Urban Indian Center of Salt Lake - ECPv6.15.20//NONSGML v1.0//EN
CALSCALE:GREGORIAN
METHOD:PUBLISH
X-ORIGINAL-URL:https://uicsl.org
X-WR-CALDESC:Events for Urban Indian Center of Salt Lake
REFRESH-INTERVAL;VALUE=DURATION:PT1H
X-Robots-Tag:noindex
X-PUBLISHED-TTL:PT1H
BEGIN:VTIMEZONE
TZID:America/Denver
BEGIN:DAYLIGHT
TZOFFSETFROM:-0700
TZOFFSETTO:-0600
TZNAME:MDT
DTSTART:20250309T090000
END:DAYLIGHT
BEGIN:STANDARD
TZOFFSETFROM:-0600
TZOFFSETTO:-0700
TZNAME:MST
DTSTART:20251102T080000
END:STANDARD
BEGIN:DAYLIGHT
TZOFFSETFROM:-0700
TZOFFSETTO:-0600
TZNAME:MDT
DTSTART:20260308T090000
END:DAYLIGHT
BEGIN:STANDARD
TZOFFSETFROM:-0600
TZOFFSETTO:-0700
TZNAME:MST
DTSTART:20261101T080000
END:STANDARD
BEGIN:DAYLIGHT
TZOFFSETFROM:-0700
TZOFFSETTO:-0600
TZNAME:MDT
DTSTART:20270314T090000
END:DAYLIGHT
BEGIN:STANDARD
TZOFFSETFROM:-0600
TZOFFSETTO:-0700
TZNAME:MST
DTSTART:20271107T080000
END:STANDARD
END:VTIMEZONE
BEGIN:VEVENT
DTSTART;TZID=America/Denver:20260417T100000
DTEND;TZID=America/Denver:20260417T113000
DTSTAMP:20260422T071143
CREATED:20260316T192019Z
LAST-MODIFIED:20260316T192019Z
UID:10007135-1776420000-1776425400@uicsl.org
SUMMARY:Moving Warriors
DESCRIPTION:Honor your health and find your flow! 🏹✨ \nCalling all Native Elders (50+)! It’s time to nourish your mind\, body\, spirit\, and emotions with Moving Warriors. Join us for mornings filled with “New Ways to Move\,” laughter\, and community connection. Whether you’re looking to stay active or just want to enjoy the company of good friends\, there’s a place for you here. \n\n\nWhen: April 3rd & April 17th \n\n\nTime: 10:00 am – 11:30 am \n\n\nWhere: 120 W 1300 S\, Salt Lake City\, UT \n\n\nNote: Water and light refreshments will be provided. \n\n\nPlease note: This program is available to registered clients of the Urban Indian Center of Salt Lake or those living in the same household as a registered client.
URL:https://uicsl.org/event/moving-warriors-9/2026-04-17/
LOCATION:Urban Indian Center Of Salt Lake – Main Building\, 120 w 1300 s\, salt lake city\, UT\, 84115\, United States
CATEGORIES:Community Health,Elders
ATTACH;FMTTYPE=image/png:https://uicsl.org/wp-content/uploads/2026/03/4-3-26_MovingWarriors-1.png
ORGANIZER;CN="Urban Indian Center of Salt Lake":MAILTO:info@iwic.org
END:VEVENT
BEGIN:VEVENT
DTSTART;TZID=America/Denver:20260414T100000
DTEND;TZID=America/Denver:20260414T113000
DTSTAMP:20260422T071143
CREATED:20260331T161837Z
LAST-MODIFIED:20260331T161837Z
UID:10007266-1776160800-1776166200@uicsl.org
SUMMARY:Elders Coffee & Chat Hour
DESCRIPTION:Elders Coffee & Chat Hour \nWe are pleased to announce the upcoming Elders Coffee & Chat Hour\, hosted by the Urban Indian Center of Salt Lake. This is an excellent opportunity for Native Elders in our community to connect and enjoy conversation. \n\n\nDate: Tuesday\, April 14\, 2026 \n\n\nTime: 10:00 AM – 11:30 AM \n\n\nLocation: Urban Indian Center of Salt Lake\, 120 West 1300 South \n\n\nDetails: For Native Elders 50+. A light snack will be provided. \n\n\nRSVP: Please contact Anita at (801) 214-7664 to confirm your attendance. Must be a registered client of the Urban Indian Center of Salt Lake. \nWe look forward to a warm morning of community and connection.
URL:https://uicsl.org/event/elders-coffee-chat-hour-12/
LOCATION:Urban Indian Center Of Salt Lake – Main Building\, 120 w 1300 s\, salt lake city\, UT\, 84115\, United States
CATEGORIES:Elders
ATTACH;FMTTYPE=image/png:https://uicsl.org/wp-content/uploads/2026/03/4-14-26-CoffeeChat_FINAL.png
ORGANIZER;CN="Urban Indian Center of Salt Lake":MAILTO:info@iwic.org
END:VEVENT
BEGIN:VEVENT
DTSTART;TZID=America/Denver:20260410T120000
DTEND;TZID=America/Denver:20260410T140000
DTSTAMP:20260422T071143
CREATED:20260325T165557Z
LAST-MODIFIED:20260325T165557Z
UID:10007263-1775822400-1775829600@uicsl.org
SUMMARY:Elders Corner Meeting
DESCRIPTION:Calling all our Native Elders (50+). \nWe are pleased to invite our community Elders (50+) to join us for our upcoming Elders Corner Meetings this April. These gatherings offer a space for connection\, cultural enrichment\, and community updates. \n\n\nWhen: Friday\, April 10 & Friday\, April 24 \n\n\nTime: 12:00 PM – 2:00 PM \n\n\nWhere: UICSL Main Hall (120 West 1300 South) \n\n\nApril Sessions: \n\n\nApril 10: Ute Cultural Presentation – A place for joy\, respect\, and renewal. \n\n\nApril 24: Warm Springs Alliance – Restoring a place of healing. \n\n\nImportant Details: \n\n\nLunch will be provided. \n\n\nSpace is limited. Please contact Anita at (801) 214-7664 to RSVP. \n\n\nNote: Attendees must be registered clients of the Urban Indian Center of Salt Lake.
URL:https://uicsl.org/event/elders-corner-meeting-40/2026-04-10/
LOCATION:Urban Indian Center Of Salt Lake – Main Building\, 120 w 1300 s\, salt lake city\, UT\, 84115\, United States
CATEGORIES:Elders
ATTACH;FMTTYPE=image/png:https://uicsl.org/wp-content/uploads/2026/03/3-13-26-Elders-Corner_FINAL3.png
ORGANIZER;CN="Urban Indian Center of Salt Lake":MAILTO:info@iwic.org
END:VEVENT
BEGIN:VEVENT
DTSTART;TZID=America/Denver:20260403T100000
DTEND;TZID=America/Denver:20260403T113000
DTSTAMP:20260422T071143
CREATED:20260316T192019Z
LAST-MODIFIED:20260316T192019Z
UID:10007134-1775210400-1775215800@uicsl.org
SUMMARY:Moving Warriors
DESCRIPTION:Honor your health and find your flow! 🏹✨ \nCalling all Native Elders (50+)! It’s time to nourish your mind\, body\, spirit\, and emotions with Moving Warriors. Join us for mornings filled with “New Ways to Move\,” laughter\, and community connection. Whether you’re looking to stay active or just want to enjoy the company of good friends\, there’s a place for you here. \n\n\nWhen: April 3rd & April 17th \n\n\nTime: 10:00 am – 11:30 am \n\n\nWhere: 120 W 1300 S\, Salt Lake City\, UT \n\n\nNote: Water and light refreshments will be provided. \n\n\nPlease note: This program is available to registered clients of the Urban Indian Center of Salt Lake or those living in the same household as a registered client.
URL:https://uicsl.org/event/moving-warriors-9/2026-04-03/
LOCATION:Urban Indian Center Of Salt Lake – Main Building\, 120 w 1300 s\, salt lake city\, UT\, 84115\, United States
CATEGORIES:Community Health,Elders
ATTACH;FMTTYPE=image/png:https://uicsl.org/wp-content/uploads/2026/03/4-3-26_MovingWarriors-1.png
ORGANIZER;CN="Urban Indian Center of Salt Lake":MAILTO:info@iwic.org
END:VEVENT
END:VCALENDAR