BEGIN:VCALENDAR
VERSION:2.0
PRODID:-//Urban Indian Center of Salt Lake - ECPv6.15.20//NONSGML v1.0//EN
CALSCALE:GREGORIAN
METHOD:PUBLISH
X-ORIGINAL-URL:https://uicsl.org
X-WR-CALDESC:Events for Urban Indian Center of Salt Lake
REFRESH-INTERVAL;VALUE=DURATION:PT1H
X-Robots-Tag:noindex
X-PUBLISHED-TTL:PT1H
BEGIN:VTIMEZONE
TZID:America/Denver
BEGIN:DAYLIGHT
TZOFFSETFROM:-0700
TZOFFSETTO:-0600
TZNAME:MDT
DTSTART:20250309T090000
END:DAYLIGHT
BEGIN:STANDARD
TZOFFSETFROM:-0600
TZOFFSETTO:-0700
TZNAME:MST
DTSTART:20251102T080000
END:STANDARD
BEGIN:DAYLIGHT
TZOFFSETFROM:-0700
TZOFFSETTO:-0600
TZNAME:MDT
DTSTART:20260308T090000
END:DAYLIGHT
BEGIN:STANDARD
TZOFFSETFROM:-0600
TZOFFSETTO:-0700
TZNAME:MST
DTSTART:20261101T080000
END:STANDARD
BEGIN:DAYLIGHT
TZOFFSETFROM:-0700
TZOFFSETTO:-0600
TZNAME:MDT
DTSTART:20270314T090000
END:DAYLIGHT
BEGIN:STANDARD
TZOFFSETFROM:-0600
TZOFFSETTO:-0700
TZNAME:MST
DTSTART:20271107T080000
END:STANDARD
END:VTIMEZONE
BEGIN:VEVENT
DTSTART;VALUE=DATE:20260427
DTEND;VALUE=DATE:20260428
DTSTAMP:20260422T041327
CREATED:20260316T190652Z
LAST-MODIFIED:20260316T190652Z
UID:10007125-1777248000-1777334399@uicsl.org
SUMMARY:Join the Circle of Health!
DESCRIPTION:Take the next step toward a healthier you with Circle of Health\, a diabetes prevention program. This group is designed to help adults become more active and choose foods that support long-term wellness. \nThis program is for adults who: \n\n\nHave been diagnosed with pre-diabetes. \n\n\nAre working toward a healthier weight. \n\n\nHave experienced diabetes during pregnancy. \n\n\nHave a family history of diabetes. \n\n\nHow to Join: \n\n\nRegistration: Call Fatima at 385-499-5898 to register for in-person or virtual options. \n\n\nRequirement: Must be a registered client or live in the same household as a registered client of the Urban Indian Center of Salt Lake.
URL:https://uicsl.org/event/join-the-circle-of-health-2/2026-04-27/
LOCATION:UT
CATEGORIES:Diabetes Prevention Program
ATTACH;FMTTYPE=image/jpeg:https://uicsl.org/wp-content/uploads/2026/03/Circle.jpg
ORGANIZER;CN="Urban Indian Center of Salt Lake":MAILTO:info@iwic.org
END:VEVENT
BEGIN:VEVENT
DTSTART;TZID=America/Denver:20260427T173000
DTEND;TZID=America/Denver:20260427T190000
DTSTAMP:20260422T041327
CREATED:20260318T181424Z
LAST-MODIFIED:20260318T181424Z
UID:10007201-1777311000-1777316400@uicsl.org
SUMMARY:Power in the Native Plate
DESCRIPTION:Roll Up Your Sleeves: Handmade Pasta Cooking Class on April 27th! \nThere is something deeply grounding about making a meal from scratch. We invite you to join the Urban Indian Center of Salt Lake for our upcoming Power in the Native Plate cooking class\, where we will be mastering the art of handmade pasta. \nIn this hands-on session\, you’ll learn the techniques to create fresh pasta dough and transform it into a delicious\, rustic roasted vegetable pasta dish. It’s a great opportunity to learn a new skill\, share a meal\, and connect with the community in the Main Hall. \nEvent Details: \n\n\nWhen: Monday\, April 27th\, 2026 \n\n\nTime: 5:30 PM – 7:00 PM \n\n\nWhere: UICSL Main Hall (120 W 1300 S\, SLC\, UT 84115) \n\n\nWhether you’re a seasoned home cook or a total beginner\, we’d love to see you there. Space is limited\, so be sure to mark your calendars! \nQuestions? Give us a call at 801-486-4877. \nNote: This event is open to registered clients of the Urban Indian Center of Salt Lake or those living in the same household as a registered client. \n#UICSL #NativePlate #DiabetesPrevention #HealthyEating #SLCCommunity #IndigenousHealth \n 
URL:https://uicsl.org/event/power-in-the-native-plate-4/
LOCATION:Urban Indian Center Of Salt Lake – Main Building\, 120 w 1300 s\, salt lake city\, UT\, 84115\, United States
CATEGORIES:Diabetes Prevention Program
ATTACH;FMTTYPE=image/png:https://uicsl.org/wp-content/uploads/2026/03/PNP_4.27.26_Final.png
ORGANIZER;CN="Urban Indian Center of Salt Lake":MAILTO:info@iwic.org
END:VEVENT
BEGIN:VEVENT
DTSTART;VALUE=DATE:20260504
DTEND;VALUE=DATE:20260505
DTSTAMP:20260422T041327
CREATED:20260316T190652Z
LAST-MODIFIED:20260316T190652Z
UID:10007126-1777852800-1777939199@uicsl.org
SUMMARY:Join the Circle of Health!
DESCRIPTION:Take the next step toward a healthier you with Circle of Health\, a diabetes prevention program. This group is designed to help adults become more active and choose foods that support long-term wellness. \nThis program is for adults who: \n\n\nHave been diagnosed with pre-diabetes. \n\n\nAre working toward a healthier weight. \n\n\nHave experienced diabetes during pregnancy. \n\n\nHave a family history of diabetes. \n\n\nHow to Join: \n\n\nRegistration: Call Fatima at 385-499-5898 to register for in-person or virtual options. \n\n\nRequirement: Must be a registered client or live in the same household as a registered client of the Urban Indian Center of Salt Lake.
URL:https://uicsl.org/event/join-the-circle-of-health-2/2026-05-04/
LOCATION:UT
CATEGORIES:Diabetes Prevention Program
ATTACH;FMTTYPE=image/jpeg:https://uicsl.org/wp-content/uploads/2026/03/Circle.jpg
ORGANIZER;CN="Urban Indian Center of Salt Lake":MAILTO:info@iwic.org
END:VEVENT
BEGIN:VEVENT
DTSTART;VALUE=DATE:20260511
DTEND;VALUE=DATE:20260512
DTSTAMP:20260422T041327
CREATED:20260316T190652Z
LAST-MODIFIED:20260316T190652Z
UID:10007127-1778457600-1778543999@uicsl.org
SUMMARY:Join the Circle of Health!
DESCRIPTION:Take the next step toward a healthier you with Circle of Health\, a diabetes prevention program. This group is designed to help adults become more active and choose foods that support long-term wellness. \nThis program is for adults who: \n\n\nHave been diagnosed with pre-diabetes. \n\n\nAre working toward a healthier weight. \n\n\nHave experienced diabetes during pregnancy. \n\n\nHave a family history of diabetes. \n\n\nHow to Join: \n\n\nRegistration: Call Fatima at 385-499-5898 to register for in-person or virtual options. \n\n\nRequirement: Must be a registered client or live in the same household as a registered client of the Urban Indian Center of Salt Lake.
URL:https://uicsl.org/event/join-the-circle-of-health-2/2026-05-11/
LOCATION:UT
CATEGORIES:Diabetes Prevention Program
ATTACH;FMTTYPE=image/jpeg:https://uicsl.org/wp-content/uploads/2026/03/Circle.jpg
ORGANIZER;CN="Urban Indian Center of Salt Lake":MAILTO:info@iwic.org
END:VEVENT
BEGIN:VEVENT
DTSTART;VALUE=DATE:20260518
DTEND;VALUE=DATE:20260519
DTSTAMP:20260422T041327
CREATED:20260316T190652Z
LAST-MODIFIED:20260316T190652Z
UID:10007128-1779062400-1779148799@uicsl.org
SUMMARY:Join the Circle of Health!
DESCRIPTION:Take the next step toward a healthier you with Circle of Health\, a diabetes prevention program. This group is designed to help adults become more active and choose foods that support long-term wellness. \nThis program is for adults who: \n\n\nHave been diagnosed with pre-diabetes. \n\n\nAre working toward a healthier weight. \n\n\nHave experienced diabetes during pregnancy. \n\n\nHave a family history of diabetes. \n\n\nHow to Join: \n\n\nRegistration: Call Fatima at 385-499-5898 to register for in-person or virtual options. \n\n\nRequirement: Must be a registered client or live in the same household as a registered client of the Urban Indian Center of Salt Lake.
URL:https://uicsl.org/event/join-the-circle-of-health-2/2026-05-18/
LOCATION:UT
CATEGORIES:Diabetes Prevention Program
ATTACH;FMTTYPE=image/jpeg:https://uicsl.org/wp-content/uploads/2026/03/Circle.jpg
ORGANIZER;CN="Urban Indian Center of Salt Lake":MAILTO:info@iwic.org
END:VEVENT
END:VCALENDAR