BEGIN:VCALENDAR
VERSION:2.0
PRODID:-//Urban Indian Center of Salt Lake - ECPv6.15.20//NONSGML v1.0//EN
CALSCALE:GREGORIAN
METHOD:PUBLISH
X-ORIGINAL-URL:https://uicsl.org
X-WR-CALDESC:Events for Urban Indian Center of Salt Lake
REFRESH-INTERVAL;VALUE=DURATION:PT1H
X-Robots-Tag:noindex
X-PUBLISHED-TTL:PT1H
BEGIN:VTIMEZONE
TZID:America/Denver
BEGIN:DAYLIGHT
TZOFFSETFROM:-0700
TZOFFSETTO:-0600
TZNAME:MDT
DTSTART:20250309T090000
END:DAYLIGHT
BEGIN:STANDARD
TZOFFSETFROM:-0600
TZOFFSETTO:-0700
TZNAME:MST
DTSTART:20251102T080000
END:STANDARD
BEGIN:DAYLIGHT
TZOFFSETFROM:-0700
TZOFFSETTO:-0600
TZNAME:MDT
DTSTART:20260308T090000
END:DAYLIGHT
BEGIN:STANDARD
TZOFFSETFROM:-0600
TZOFFSETTO:-0700
TZNAME:MST
DTSTART:20261101T080000
END:STANDARD
BEGIN:DAYLIGHT
TZOFFSETFROM:-0700
TZOFFSETTO:-0600
TZNAME:MDT
DTSTART:20270314T090000
END:DAYLIGHT
BEGIN:STANDARD
TZOFFSETFROM:-0600
TZOFFSETTO:-0700
TZNAME:MST
DTSTART:20271107T080000
END:STANDARD
END:VTIMEZONE
BEGIN:VEVENT
DTSTART;TZID=America/Denver:20260326T180000
DTEND;TZID=America/Denver:20260326T190000
DTSTAMP:20260422T084836
CREATED:20260203T172559Z
LAST-MODIFIED:20260331T182411Z
UID:10006916-1774548000-1774551600@uicsl.org
SUMMARY:Beginner Medicine Kickboxing
DESCRIPTION:Strengthen your body and empower your spirit! \nJoin the Urban Indian Center of Salt Lake for Fitness Thursday: Beginner Medicine Kickboxing. This beginner-friendly class is designed to help you relieve stress and build strength in a supportive environment. \n\n\nWhen: Every Thursday \n\n\nTime: 6:00 PM – 7:00 PM \n\n\nWhere: UICSL\, 120 W 1300 S \n\n\nWho: Ages 10+ \n\n\nDetails: \n\n\nRegistration is required. \n\n\nLimited space is available. \n\n\nMust be a registered UICSL client or live in the same household as one. \n\n\nScan the QR code on the flyer to RSVP or contact Moriah at (385) 267-1721 with any questions. See you in the ring! \nCLICK HERE TO REGISTER
URL:https://uicsl.org/event/beginner-medicine-kickboxing-3-2/2026-03-26/
LOCATION:Urban Indian Center Of Salt Lake – Main Building\, 120 w 1300 s\, salt lake city\, UT\, 84115\, United States
CATEGORIES:Community Health
ATTACH;FMTTYPE=image/jpeg:https://uicsl.org/wp-content/uploads/2026/02/2-26-26_FitnessThursday_MedicineKickBoxing_FINAL.jpg
ORGANIZER;CN="Urban Indian Center of Salt Lake":MAILTO:info@iwic.org
END:VEVENT
BEGIN:VEVENT
DTSTART;TZID=America/Denver:20260324T073000
DTEND;TZID=America/Denver:20260324T083000
DTSTAMP:20260422T084836
CREATED:20260305T203033Z
LAST-MODIFIED:20260323T180218Z
UID:10007217-1774337400-1774341000@uicsl.org
SUMMARY:Strength Sunrise Training
DESCRIPTION:The Urban Indian Center of Salt Lake invites community members to join Strength Sunrise Training\, a weekly morning fitness session focused on building strength\, wellness\, and connection. \nTuesdays | 7:30 AM – 8:30 AM\nUrban Indian Center of Salt Lake\n120 West 1300 South \nThis class welcomes participants of all fitness levels and provides a supportive space to start the day with movement and community. All equipment will be provided. \nEveryone is welcome\, and all levels of fitness are encouraged to attend. \nFor questions\, please contact Moriah at (801) 889-7244. \nPlease note: Participants must be a registered client of the Urban Indian Center of Salt Lake or live in the same household as a registered client.
URL:https://uicsl.org/event/strength-sunrise-training/2026-03-24/
LOCATION:Urban Indian Center Of Salt Lake – Main Building\, 120 w 1300 s\, salt lake city\, UT\, 84115\, United States
CATEGORIES:Community Health
ATTACH;FMTTYPE=image/png:https://uicsl.org/wp-content/uploads/2026/03/2-10-26-SUNRISE-STRENGTH-TRAINING.png
ORGANIZER;CN="Urban Indian Center of Salt Lake":MAILTO:info@iwic.org
END:VEVENT
BEGIN:VEVENT
DTSTART;VALUE=DATE:20260323
DTEND;VALUE=DATE:20260324
DTSTAMP:20260422T084836
CREATED:20260316T191436Z
LAST-MODIFIED:20260316T191436Z
UID:10007130-1774224000-1774310399@uicsl.org
SUMMARY:MARCH is Colorectal Cancer Awareness Month
DESCRIPTION:Protect Your Future for the Next Seven Generations 👣 \nStaying healthy isn’t just about us—it’s about being there for the graduations\, the dances\, and the stories yet to be told. March is Colorectal Cancer Awareness Month\, and we want to ensure our community stays strong and vibrant. \nDid you know that if found early\, colorectal cancer is 90% treatable? Taking a moment for a screening today protects your place in the circle for years to come. \n\n\nWho: Community members aged 45 or older. \n\n\nThe Action: Call the Urban Indian Center of Salt Lake at 801-486-4877 to schedule your screening appointment. \n\n\nLet’s look forward together.
URL:https://uicsl.org/event/march-is-colorectal-cancer-awareness-month/2026-03-23/
LOCATION:Urban Indian Center Murray Clinic\, 5450 S Green Street\, Murray\, UT\, 84123\, United States
CATEGORIES:Clinic Awareness,Community Health
ATTACH;FMTTYPE=image/png:https://uicsl.org/wp-content/uploads/2026/03/CRCAD_3.2026_Final.png
ORGANIZER;CN="Urban Indian Center of Salt Lake":MAILTO:info@iwic.org
END:VEVENT
BEGIN:VEVENT
DTSTART;TZID=America/Denver:20260320T100000
DTEND;TZID=America/Denver:20260320T113000
DTSTAMP:20260422T084836
CREATED:20260225T202221Z
LAST-MODIFIED:20260225T202221Z
UID:10006923-1774000800-1774006200@uicsl.org
SUMMARY:Moving Warriors
DESCRIPTION:We are calling all Native Elders (50+) to join us for Moving Warriors 2026! This isn’t just a workout; it’s a space to nourish your mind\, body\, spirit\, and emotion through movement and connection. \nCome for the “new ways to move\,” stay for the laughter and community. We’ll have water and light refreshments waiting for you! \n\n\nWhen: March 6th & 20th | 10:00 AM – 11:30 AM \n\n\nWhere: 120 W 1300 S\, Salt Lake City\, UT \n\n\nEligibility: Must be a registered UICSL client or live in the same household as one. \n\n\nLet’s keep our spirits high and our bodies moving. We can’t wait to see you there! \n\n 
URL:https://uicsl.org/event/moving-warriors-8/2026-03-20/
LOCATION:Urban Indian Center Of Salt Lake – Main Building\, 120 w 1300 s\, salt lake city\, UT\, 84115\, United States
CATEGORIES:Community Health
ATTACH;FMTTYPE=image/png:https://uicsl.org/wp-content/uploads/2026/02/3-6-26_MovingWarriors.png
ORGANIZER;CN="Urban Indian Center of Salt Lake":MAILTO:info@iwic.org
END:VEVENT
BEGIN:VEVENT
DTSTART;TZID=America/Denver:20260319T180000
DTEND;TZID=America/Denver:20260319T190000
DTSTAMP:20260422T084836
CREATED:20260203T172559Z
LAST-MODIFIED:20260331T182411Z
UID:10006915-1773943200-1773946800@uicsl.org
SUMMARY:Beginner Medicine Kickboxing
DESCRIPTION:Strengthen your body and empower your spirit! \nJoin the Urban Indian Center of Salt Lake for Fitness Thursday: Beginner Medicine Kickboxing. This beginner-friendly class is designed to help you relieve stress and build strength in a supportive environment. \n\n\nWhen: Every Thursday \n\n\nTime: 6:00 PM – 7:00 PM \n\n\nWhere: UICSL\, 120 W 1300 S \n\n\nWho: Ages 10+ \n\n\nDetails: \n\n\nRegistration is required. \n\n\nLimited space is available. \n\n\nMust be a registered UICSL client or live in the same household as one. \n\n\nScan the QR code on the flyer to RSVP or contact Moriah at (385) 267-1721 with any questions. See you in the ring! \nCLICK HERE TO REGISTER
URL:https://uicsl.org/event/beginner-medicine-kickboxing-3-2/2026-03-19/
LOCATION:Urban Indian Center Of Salt Lake – Main Building\, 120 w 1300 s\, salt lake city\, UT\, 84115\, United States
CATEGORIES:Community Health
ATTACH;FMTTYPE=image/jpeg:https://uicsl.org/wp-content/uploads/2026/02/2-26-26_FitnessThursday_MedicineKickBoxing_FINAL.jpg
ORGANIZER;CN="Urban Indian Center of Salt Lake":MAILTO:info@iwic.org
END:VEVENT
BEGIN:VEVENT
DTSTART;TZID=America/Denver:20260317T073000
DTEND;TZID=America/Denver:20260317T083000
DTSTAMP:20260422T084836
CREATED:20260305T203033Z
LAST-MODIFIED:20260323T180218Z
UID:10007216-1773732600-1773736200@uicsl.org
SUMMARY:Strength Sunrise Training
DESCRIPTION:The Urban Indian Center of Salt Lake invites community members to join Strength Sunrise Training\, a weekly morning fitness session focused on building strength\, wellness\, and connection. \nTuesdays | 7:30 AM – 8:30 AM\nUrban Indian Center of Salt Lake\n120 West 1300 South \nThis class welcomes participants of all fitness levels and provides a supportive space to start the day with movement and community. All equipment will be provided. \nEveryone is welcome\, and all levels of fitness are encouraged to attend. \nFor questions\, please contact Moriah at (801) 889-7244. \nPlease note: Participants must be a registered client of the Urban Indian Center of Salt Lake or live in the same household as a registered client.
URL:https://uicsl.org/event/strength-sunrise-training/2026-03-17/
LOCATION:Urban Indian Center Of Salt Lake – Main Building\, 120 w 1300 s\, salt lake city\, UT\, 84115\, United States
CATEGORIES:Community Health
ATTACH;FMTTYPE=image/png:https://uicsl.org/wp-content/uploads/2026/03/2-10-26-SUNRISE-STRENGTH-TRAINING.png
ORGANIZER;CN="Urban Indian Center of Salt Lake":MAILTO:info@iwic.org
END:VEVENT
BEGIN:VEVENT
DTSTART;VALUE=DATE:20260316
DTEND;VALUE=DATE:20260317
DTSTAMP:20260422T084836
CREATED:20260316T191436Z
LAST-MODIFIED:20260316T191436Z
UID:10007129-1773619200-1773705599@uicsl.org
SUMMARY:MARCH is Colorectal Cancer Awareness Month
DESCRIPTION:Protect Your Future for the Next Seven Generations 👣 \nStaying healthy isn’t just about us—it’s about being there for the graduations\, the dances\, and the stories yet to be told. March is Colorectal Cancer Awareness Month\, and we want to ensure our community stays strong and vibrant. \nDid you know that if found early\, colorectal cancer is 90% treatable? Taking a moment for a screening today protects your place in the circle for years to come. \n\n\nWho: Community members aged 45 or older. \n\n\nThe Action: Call the Urban Indian Center of Salt Lake at 801-486-4877 to schedule your screening appointment. \n\n\nLet’s look forward together.
URL:https://uicsl.org/event/march-is-colorectal-cancer-awareness-month/2026-03-16/
LOCATION:Urban Indian Center Murray Clinic\, 5450 S Green Street\, Murray\, UT\, 84123\, United States
CATEGORIES:Clinic Awareness,Community Health
ATTACH;FMTTYPE=image/png:https://uicsl.org/wp-content/uploads/2026/03/CRCAD_3.2026_Final.png
ORGANIZER;CN="Urban Indian Center of Salt Lake":MAILTO:info@iwic.org
END:VEVENT
BEGIN:VEVENT
DTSTART;TZID=America/Denver:20260312T180000
DTEND;TZID=America/Denver:20260312T190000
DTSTAMP:20260422T084836
CREATED:20260203T172559Z
LAST-MODIFIED:20260331T182411Z
UID:10006914-1773338400-1773342000@uicsl.org
SUMMARY:Beginner Medicine Kickboxing
DESCRIPTION:Strengthen your body and empower your spirit! \nJoin the Urban Indian Center of Salt Lake for Fitness Thursday: Beginner Medicine Kickboxing. This beginner-friendly class is designed to help you relieve stress and build strength in a supportive environment. \n\n\nWhen: Every Thursday \n\n\nTime: 6:00 PM – 7:00 PM \n\n\nWhere: UICSL\, 120 W 1300 S \n\n\nWho: Ages 10+ \n\n\nDetails: \n\n\nRegistration is required. \n\n\nLimited space is available. \n\n\nMust be a registered UICSL client or live in the same household as one. \n\n\nScan the QR code on the flyer to RSVP or contact Moriah at (385) 267-1721 with any questions. See you in the ring! \nCLICK HERE TO REGISTER
URL:https://uicsl.org/event/beginner-medicine-kickboxing-3-2/2026-03-12/
LOCATION:Urban Indian Center Of Salt Lake – Main Building\, 120 w 1300 s\, salt lake city\, UT\, 84115\, United States
CATEGORIES:Community Health
ATTACH;FMTTYPE=image/jpeg:https://uicsl.org/wp-content/uploads/2026/02/2-26-26_FitnessThursday_MedicineKickBoxing_FINAL.jpg
ORGANIZER;CN="Urban Indian Center of Salt Lake":MAILTO:info@iwic.org
END:VEVENT
BEGIN:VEVENT
DTSTART;TZID=America/Denver:20260310T073000
DTEND;TZID=America/Denver:20260310T083000
DTSTAMP:20260422T084836
CREATED:20260305T203033Z
LAST-MODIFIED:20260323T180218Z
UID:10007215-1773127800-1773131400@uicsl.org
SUMMARY:Strength Sunrise Training
DESCRIPTION:The Urban Indian Center of Salt Lake invites community members to join Strength Sunrise Training\, a weekly morning fitness session focused on building strength\, wellness\, and connection. \nTuesdays | 7:30 AM – 8:30 AM\nUrban Indian Center of Salt Lake\n120 West 1300 South \nThis class welcomes participants of all fitness levels and provides a supportive space to start the day with movement and community. All equipment will be provided. \nEveryone is welcome\, and all levels of fitness are encouraged to attend. \nFor questions\, please contact Moriah at (801) 889-7244. \nPlease note: Participants must be a registered client of the Urban Indian Center of Salt Lake or live in the same household as a registered client.
URL:https://uicsl.org/event/strength-sunrise-training/2026-03-10/
LOCATION:Urban Indian Center Of Salt Lake – Main Building\, 120 w 1300 s\, salt lake city\, UT\, 84115\, United States
CATEGORIES:Community Health
ATTACH;FMTTYPE=image/png:https://uicsl.org/wp-content/uploads/2026/03/2-10-26-SUNRISE-STRENGTH-TRAINING.png
ORGANIZER;CN="Urban Indian Center of Salt Lake":MAILTO:info@iwic.org
END:VEVENT
BEGIN:VEVENT
DTSTART;TZID=America/Denver:20260306T100000
DTEND;TZID=America/Denver:20260306T113000
DTSTAMP:20260422T084836
CREATED:20260225T202221Z
LAST-MODIFIED:20260225T202221Z
UID:10006922-1772791200-1772796600@uicsl.org
SUMMARY:Moving Warriors
DESCRIPTION:We are calling all Native Elders (50+) to join us for Moving Warriors 2026! This isn’t just a workout; it’s a space to nourish your mind\, body\, spirit\, and emotion through movement and connection. \nCome for the “new ways to move\,” stay for the laughter and community. We’ll have water and light refreshments waiting for you! \n\n\nWhen: March 6th & 20th | 10:00 AM – 11:30 AM \n\n\nWhere: 120 W 1300 S\, Salt Lake City\, UT \n\n\nEligibility: Must be a registered UICSL client or live in the same household as one. \n\n\nLet’s keep our spirits high and our bodies moving. We can’t wait to see you there! \n\n 
URL:https://uicsl.org/event/moving-warriors-8/2026-03-06/
LOCATION:Urban Indian Center Of Salt Lake – Main Building\, 120 w 1300 s\, salt lake city\, UT\, 84115\, United States
CATEGORIES:Community Health
ATTACH;FMTTYPE=image/png:https://uicsl.org/wp-content/uploads/2026/02/3-6-26_MovingWarriors.png
ORGANIZER;CN="Urban Indian Center of Salt Lake":MAILTO:info@iwic.org
END:VEVENT
BEGIN:VEVENT
DTSTART;TZID=America/Denver:20260305T180000
DTEND;TZID=America/Denver:20260305T190000
DTSTAMP:20260422T084836
CREATED:20260203T172559Z
LAST-MODIFIED:20260331T182411Z
UID:10006913-1772733600-1772737200@uicsl.org
SUMMARY:Beginner Medicine Kickboxing
DESCRIPTION:Strengthen your body and empower your spirit! \nJoin the Urban Indian Center of Salt Lake for Fitness Thursday: Beginner Medicine Kickboxing. This beginner-friendly class is designed to help you relieve stress and build strength in a supportive environment. \n\n\nWhen: Every Thursday \n\n\nTime: 6:00 PM – 7:00 PM \n\n\nWhere: UICSL\, 120 W 1300 S \n\n\nWho: Ages 10+ \n\n\nDetails: \n\n\nRegistration is required. \n\n\nLimited space is available. \n\n\nMust be a registered UICSL client or live in the same household as one. \n\n\nScan the QR code on the flyer to RSVP or contact Moriah at (385) 267-1721 with any questions. See you in the ring! \nCLICK HERE TO REGISTER
URL:https://uicsl.org/event/beginner-medicine-kickboxing-3-2/2026-03-05/
LOCATION:Urban Indian Center Of Salt Lake – Main Building\, 120 w 1300 s\, salt lake city\, UT\, 84115\, United States
CATEGORIES:Community Health
ATTACH;FMTTYPE=image/jpeg:https://uicsl.org/wp-content/uploads/2026/02/2-26-26_FitnessThursday_MedicineKickBoxing_FINAL.jpg
ORGANIZER;CN="Urban Indian Center of Salt Lake":MAILTO:info@iwic.org
END:VEVENT
BEGIN:VEVENT
DTSTART;TZID=America/Denver:20260226T180000
DTEND;TZID=America/Denver:20260226T190000
DTSTAMP:20260422T084836
CREATED:20260203T172559Z
LAST-MODIFIED:20260331T182411Z
UID:10006912-1772128800-1772132400@uicsl.org
SUMMARY:Beginner Medicine Kickboxing
DESCRIPTION:Strengthen your body and empower your spirit! \nJoin the Urban Indian Center of Salt Lake for Fitness Thursday: Beginner Medicine Kickboxing. This beginner-friendly class is designed to help you relieve stress and build strength in a supportive environment. \n\n\nWhen: Every Thursday \n\n\nTime: 6:00 PM – 7:00 PM \n\n\nWhere: UICSL\, 120 W 1300 S \n\n\nWho: Ages 10+ \n\n\nDetails: \n\n\nRegistration is required. \n\n\nLimited space is available. \n\n\nMust be a registered UICSL client or live in the same household as one. \n\n\nScan the QR code on the flyer to RSVP or contact Moriah at (385) 267-1721 with any questions. See you in the ring! \nCLICK HERE TO REGISTER
URL:https://uicsl.org/event/beginner-medicine-kickboxing-3-2/2026-02-26/
LOCATION:Urban Indian Center Of Salt Lake – Main Building\, 120 w 1300 s\, salt lake city\, UT\, 84115\, United States
CATEGORIES:Community Health
ATTACH;FMTTYPE=image/jpeg:https://uicsl.org/wp-content/uploads/2026/02/2-26-26_FitnessThursday_MedicineKickBoxing_FINAL.jpg
ORGANIZER;CN="Urban Indian Center of Salt Lake":MAILTO:info@iwic.org
END:VEVENT
BEGIN:VEVENT
DTSTART;TZID=America/Denver:20260219T180000
DTEND;TZID=America/Denver:20260219T190000
DTSTAMP:20260422T084836
CREATED:20260203T172559Z
LAST-MODIFIED:20260331T182411Z
UID:10006911-1771524000-1771527600@uicsl.org
SUMMARY:Beginner Medicine Kickboxing
DESCRIPTION:Strengthen your body and empower your spirit! \nJoin the Urban Indian Center of Salt Lake for Fitness Thursday: Beginner Medicine Kickboxing. This beginner-friendly class is designed to help you relieve stress and build strength in a supportive environment. \n\n\nWhen: Every Thursday \n\n\nTime: 6:00 PM – 7:00 PM \n\n\nWhere: UICSL\, 120 W 1300 S \n\n\nWho: Ages 10+ \n\n\nDetails: \n\n\nRegistration is required. \n\n\nLimited space is available. \n\n\nMust be a registered UICSL client or live in the same household as one. \n\n\nScan the QR code on the flyer to RSVP or contact Moriah at (385) 267-1721 with any questions. See you in the ring! \nCLICK HERE TO REGISTER
URL:https://uicsl.org/event/beginner-medicine-kickboxing-3-2/2026-02-19/
LOCATION:Urban Indian Center Of Salt Lake – Main Building\, 120 w 1300 s\, salt lake city\, UT\, 84115\, United States
CATEGORIES:Community Health
ATTACH;FMTTYPE=image/jpeg:https://uicsl.org/wp-content/uploads/2026/02/2-26-26_FitnessThursday_MedicineKickBoxing_FINAL.jpg
ORGANIZER;CN="Urban Indian Center of Salt Lake":MAILTO:info@iwic.org
END:VEVENT
BEGIN:VEVENT
DTSTART;TZID=America/Denver:20260212T180000
DTEND;TZID=America/Denver:20260212T190000
DTSTAMP:20260422T084836
CREATED:20260203T172559Z
LAST-MODIFIED:20260331T182411Z
UID:10005991-1770919200-1770922800@uicsl.org
SUMMARY:Beginner Medicine Kickboxing
DESCRIPTION:Strengthen your body and empower your spirit! \nJoin the Urban Indian Center of Salt Lake for Fitness Thursday: Beginner Medicine Kickboxing. This beginner-friendly class is designed to help you relieve stress and build strength in a supportive environment. \n\n\nWhen: Every Thursday \n\n\nTime: 6:00 PM – 7:00 PM \n\n\nWhere: UICSL\, 120 W 1300 S \n\n\nWho: Ages 10+ \n\n\nDetails: \n\n\nRegistration is required. \n\n\nLimited space is available. \n\n\nMust be a registered UICSL client or live in the same household as one. \n\n\nScan the QR code on the flyer to RSVP or contact Moriah at (385) 267-1721 with any questions. See you in the ring! \nCLICK HERE TO REGISTER
URL:https://uicsl.org/event/beginner-medicine-kickboxing-3-2/2026-02-12/
LOCATION:Urban Indian Center Of Salt Lake – Main Building\, 120 w 1300 s\, salt lake city\, UT\, 84115\, United States
CATEGORIES:Community Health
ATTACH;FMTTYPE=image/jpeg:https://uicsl.org/wp-content/uploads/2026/02/2-26-26_FitnessThursday_MedicineKickBoxing_FINAL.jpg
ORGANIZER;CN="Urban Indian Center of Salt Lake":MAILTO:info@iwic.org
END:VEVENT
BEGIN:VEVENT
DTSTART;TZID=America/Denver:20260205T180000
DTEND;TZID=America/Denver:20260205T190000
DTSTAMP:20260422T084836
CREATED:20260203T172559Z
LAST-MODIFIED:20260331T182411Z
UID:10005990-1770314400-1770318000@uicsl.org
SUMMARY:Beginner Medicine Kickboxing
DESCRIPTION:Strengthen your body and empower your spirit! \nJoin the Urban Indian Center of Salt Lake for Fitness Thursday: Beginner Medicine Kickboxing. This beginner-friendly class is designed to help you relieve stress and build strength in a supportive environment. \n\n\nWhen: Every Thursday \n\n\nTime: 6:00 PM – 7:00 PM \n\n\nWhere: UICSL\, 120 W 1300 S \n\n\nWho: Ages 10+ \n\n\nDetails: \n\n\nRegistration is required. \n\n\nLimited space is available. \n\n\nMust be a registered UICSL client or live in the same household as one. \n\n\nScan the QR code on the flyer to RSVP or contact Moriah at (385) 267-1721 with any questions. See you in the ring! \nCLICK HERE TO REGISTER
URL:https://uicsl.org/event/beginner-medicine-kickboxing-3-2/2026-02-05/2/
LOCATION:Urban Indian Center Of Salt Lake – Main Building\, 120 w 1300 s\, salt lake city\, UT\, 84115\, United States
CATEGORIES:Community Health
ATTACH;FMTTYPE=image/jpeg:https://uicsl.org/wp-content/uploads/2026/02/2-26-26_FitnessThursday_MedicineKickBoxing_FINAL.jpg
ORGANIZER;CN="Urban Indian Center of Salt Lake":MAILTO:info@iwic.org
END:VEVENT
BEGIN:VEVENT
DTSTART;TZID=America/Denver:20260205T080000
DTEND;TZID=America/Denver:20260205T170000
DTSTAMP:20260422T084836
CREATED:20260203T172559Z
LAST-MODIFIED:20260331T182411Z
UID:10007272-1770278400-1770310800@uicsl.org
SUMMARY:Beginner Medicine Kickboxing
DESCRIPTION:Strengthen your body and empower your spirit! \nJoin the Urban Indian Center of Salt Lake for Fitness Thursday: Beginner Medicine Kickboxing. This beginner-friendly class is designed to help you relieve stress and build strength in a supportive environment. \n\n\nWhen: Every Thursday \n\n\nTime: 6:00 PM – 7:00 PM \n\n\nWhere: UICSL\, 120 W 1300 S \n\n\nWho: Ages 10+ \n\n\nDetails: \n\n\nRegistration is required. \n\n\nLimited space is available. \n\n\nMust be a registered UICSL client or live in the same household as one. \n\n\nScan the QR code on the flyer to RSVP or contact Moriah at (385) 267-1721 with any questions. See you in the ring! \nCLICK HERE TO REGISTER
URL:https://uicsl.org/event/beginner-medicine-kickboxing-3-2/2026-02-05/1/
LOCATION:Urban Indian Center Of Salt Lake – Main Building\, 120 w 1300 s\, salt lake city\, UT\, 84115\, United States
CATEGORIES:Community Health
ATTACH;FMTTYPE=image/jpeg:https://uicsl.org/wp-content/uploads/2026/02/2-26-26_FitnessThursday_MedicineKickBoxing_FINAL.jpg
ORGANIZER;CN="Urban Indian Center of Salt Lake":MAILTO:info@iwic.org
END:VEVENT
END:VCALENDAR