BEGIN:VCALENDAR
VERSION:2.0
PRODID:-//Urban Indian Center of Salt Lake - ECPv6.15.20//NONSGML v1.0//EN
CALSCALE:GREGORIAN
METHOD:PUBLISH
X-ORIGINAL-URL:https://uicsl.org
X-WR-CALDESC:Events for Urban Indian Center of Salt Lake
REFRESH-INTERVAL;VALUE=DURATION:PT1H
X-Robots-Tag:noindex
X-PUBLISHED-TTL:PT1H
BEGIN:VTIMEZONE
TZID:America/Denver
BEGIN:DAYLIGHT
TZOFFSETFROM:-0700
TZOFFSETTO:-0600
TZNAME:MDT
DTSTART:20250309T090000
END:DAYLIGHT
BEGIN:STANDARD
TZOFFSETFROM:-0600
TZOFFSETTO:-0700
TZNAME:MST
DTSTART:20251102T080000
END:STANDARD
BEGIN:DAYLIGHT
TZOFFSETFROM:-0700
TZOFFSETTO:-0600
TZNAME:MDT
DTSTART:20260308T090000
END:DAYLIGHT
BEGIN:STANDARD
TZOFFSETFROM:-0600
TZOFFSETTO:-0700
TZNAME:MST
DTSTART:20261101T080000
END:STANDARD
BEGIN:DAYLIGHT
TZOFFSETFROM:-0700
TZOFFSETTO:-0600
TZNAME:MDT
DTSTART:20270314T090000
END:DAYLIGHT
BEGIN:STANDARD
TZOFFSETFROM:-0600
TZOFFSETTO:-0700
TZNAME:MST
DTSTART:20271107T080000
END:STANDARD
END:VTIMEZONE
BEGIN:VEVENT
DTSTART;TZID=America/Denver:20260423T180000
DTEND;TZID=America/Denver:20260423T190000
DTSTAMP:20260422T053230
CREATED:20260203T172559Z
LAST-MODIFIED:20260331T182411Z
UID:10007276-1776967200-1776970800@uicsl.org
SUMMARY:Beginner Medicine Kickboxing
DESCRIPTION:Strengthen your body and empower your spirit! \nJoin the Urban Indian Center of Salt Lake for Fitness Thursday: Beginner Medicine Kickboxing. This beginner-friendly class is designed to help you relieve stress and build strength in a supportive environment. \n\n\nWhen: Every Thursday \n\n\nTime: 6:00 PM – 7:00 PM \n\n\nWhere: UICSL\, 120 W 1300 S \n\n\nWho: Ages 10+ \n\n\nDetails: \n\n\nRegistration is required. \n\n\nLimited space is available. \n\n\nMust be a registered UICSL client or live in the same household as one. \n\n\nScan the QR code on the flyer to RSVP or contact Moriah at (385) 267-1721 with any questions. See you in the ring! \nCLICK HERE TO REGISTER
URL:https://uicsl.org/event/beginner-medicine-kickboxing-3-2/2026-04-23/
LOCATION:Urban Indian Center Of Salt Lake – Main Building\, 120 w 1300 s\, salt lake city\, UT\, 84115\, United States
CATEGORIES:Community Health
ATTACH;FMTTYPE=image/jpeg:https://uicsl.org/wp-content/uploads/2026/02/2-26-26_FitnessThursday_MedicineKickBoxing_FINAL.jpg
ORGANIZER;CN="Urban Indian Center of Salt Lake":MAILTO:info@iwic.org
END:VEVENT
BEGIN:VEVENT
DTSTART;TZID=America/Denver:20260428T073000
DTEND;TZID=America/Denver:20260428T083000
DTSTAMP:20260422T053230
CREATED:20260305T203033Z
LAST-MODIFIED:20260323T180218Z
UID:10007222-1777361400-1777365000@uicsl.org
SUMMARY:Strength Sunrise Training
DESCRIPTION:The Urban Indian Center of Salt Lake invites community members to join Strength Sunrise Training\, a weekly morning fitness session focused on building strength\, wellness\, and connection. \nTuesdays | 7:30 AM – 8:30 AM\nUrban Indian Center of Salt Lake\n120 West 1300 South \nThis class welcomes participants of all fitness levels and provides a supportive space to start the day with movement and community. All equipment will be provided. \nEveryone is welcome\, and all levels of fitness are encouraged to attend. \nFor questions\, please contact Moriah at (801) 889-7244. \nPlease note: Participants must be a registered client of the Urban Indian Center of Salt Lake or live in the same household as a registered client.
URL:https://uicsl.org/event/strength-sunrise-training/2026-04-28/
LOCATION:Urban Indian Center Of Salt Lake – Main Building\, 120 w 1300 s\, salt lake city\, UT\, 84115\, United States
CATEGORIES:Community Health
ATTACH;FMTTYPE=image/png:https://uicsl.org/wp-content/uploads/2026/03/2-10-26-SUNRISE-STRENGTH-TRAINING.png
ORGANIZER;CN="Urban Indian Center of Salt Lake":MAILTO:info@iwic.org
END:VEVENT
END:VCALENDAR