BEGIN:VCALENDAR
VERSION:2.0
PRODID:-//Urban Indian Center of Salt Lake - ECPv6.15.20//NONSGML v1.0//EN
CALSCALE:GREGORIAN
METHOD:PUBLISH
X-ORIGINAL-URL:https://uicsl.org
X-WR-CALDESC:Events for Urban Indian Center of Salt Lake
REFRESH-INTERVAL;VALUE=DURATION:PT1H
X-Robots-Tag:noindex
X-PUBLISHED-TTL:PT1H
BEGIN:VTIMEZONE
TZID:America/Denver
BEGIN:DAYLIGHT
TZOFFSETFROM:-0700
TZOFFSETTO:-0600
TZNAME:MDT
DTSTART:20250309T090000
END:DAYLIGHT
BEGIN:STANDARD
TZOFFSETFROM:-0600
TZOFFSETTO:-0700
TZNAME:MST
DTSTART:20251102T080000
END:STANDARD
BEGIN:DAYLIGHT
TZOFFSETFROM:-0700
TZOFFSETTO:-0600
TZNAME:MDT
DTSTART:20260308T090000
END:DAYLIGHT
BEGIN:STANDARD
TZOFFSETFROM:-0600
TZOFFSETTO:-0700
TZNAME:MST
DTSTART:20261101T080000
END:STANDARD
BEGIN:DAYLIGHT
TZOFFSETFROM:-0700
TZOFFSETTO:-0600
TZNAME:MDT
DTSTART:20270314T090000
END:DAYLIGHT
BEGIN:STANDARD
TZOFFSETFROM:-0600
TZOFFSETTO:-0700
TZNAME:MST
DTSTART:20271107T080000
END:STANDARD
END:VTIMEZONE
BEGIN:VEVENT
DTSTART;TZID=America/Denver:20260505T073000
DTEND;TZID=America/Denver:20260505T083000
DTSTAMP:20260422T070004
CREATED:20260305T203033Z
LAST-MODIFIED:20260323T180218Z
UID:10007223-1777966200-1777969800@uicsl.org
SUMMARY:Strength Sunrise Training
DESCRIPTION:The Urban Indian Center of Salt Lake invites community members to join Strength Sunrise Training\, a weekly morning fitness session focused on building strength\, wellness\, and connection. \nTuesdays | 7:30 AM – 8:30 AM\nUrban Indian Center of Salt Lake\n120 West 1300 South \nThis class welcomes participants of all fitness levels and provides a supportive space to start the day with movement and community. All equipment will be provided. \nEveryone is welcome\, and all levels of fitness are encouraged to attend. \nFor questions\, please contact Moriah at (801) 889-7244. \nPlease note: Participants must be a registered client of the Urban Indian Center of Salt Lake or live in the same household as a registered client.
URL:https://uicsl.org/event/strength-sunrise-training/2026-05-05/
LOCATION:Urban Indian Center Of Salt Lake – Main Building\, 120 w 1300 s\, salt lake city\, UT\, 84115\, United States
CATEGORIES:Community Health
ATTACH;FMTTYPE=image/png:https://uicsl.org/wp-content/uploads/2026/03/2-10-26-SUNRISE-STRENGTH-TRAINING.png
ORGANIZER;CN="Urban Indian Center of Salt Lake":MAILTO:info@iwic.org
END:VEVENT
BEGIN:VEVENT
DTSTART;TZID=America/Denver:20260507T060000
DTEND;TZID=America/Denver:20260507T190000
DTSTAMP:20260422T070004
CREATED:20260415T213450Z
LAST-MODIFIED:20260421T210222Z
UID:10007292-1778133600-1778180400@uicsl.org
SUMMARY:Movement is Medicine: Join Our Lacrosse Circle!
DESCRIPTION:Movement is Medicine: Join Our Lacrosse Circle!  \nMedicine Lacrosse is more than just a game—it’s a way to heal\, strengthen our bodies\, and connect with tradition. Our Fitness Thursdays series is back\, and we want YOU to be part of the team! \nWhether you’ve never picked up a stick before or you’re a seasoned player\, all levels are welcome. Let’s get our hearts pumping and our spirits high. \n\n\nWhen: Every Thursday starting May 7\, 2026 \n\n\nTime: 6:00 PM – 7:00 PM \n\n\nWhere: Urban Indian Center of Salt Lake (120 W 1300 S) \n\n\nWho: Ages 8+ (All fitness levels welcome!) \n\n\n⚠️ Note: Participants must be a registered client of UICSL or live in the same household as a registered client. \nReady to play? Scan the QR code on the flyer to register! Questions? Reach out to Moriah at (385) 267-1721.
URL:https://uicsl.org/event/movement-is-medicine-join-our-lacrosse-circle/2026-05-07/
LOCATION:Urban Indian Center Of Salt Lake – Main Building\, 120 w 1300 s\, salt lake city\, UT\, 84115\, United States
CATEGORIES:Community Health
ATTACH;FMTTYPE=image/png:https://uicsl.org/wp-content/uploads/2026/04/5-7-25_Medicine-Lacrosse_FINAL_6-week-program.png
ORGANIZER;CN="Urban Indian Center of Salt Lake":MAILTO:info@iwic.org
END:VEVENT
BEGIN:VEVENT
DTSTART;TZID=America/Denver:20260512T073000
DTEND;TZID=America/Denver:20260512T083000
DTSTAMP:20260422T070004
CREATED:20260305T203033Z
LAST-MODIFIED:20260323T180218Z
UID:10007224-1778571000-1778574600@uicsl.org
SUMMARY:Strength Sunrise Training
DESCRIPTION:The Urban Indian Center of Salt Lake invites community members to join Strength Sunrise Training\, a weekly morning fitness session focused on building strength\, wellness\, and connection. \nTuesdays | 7:30 AM – 8:30 AM\nUrban Indian Center of Salt Lake\n120 West 1300 South \nThis class welcomes participants of all fitness levels and provides a supportive space to start the day with movement and community. All equipment will be provided. \nEveryone is welcome\, and all levels of fitness are encouraged to attend. \nFor questions\, please contact Moriah at (801) 889-7244. \nPlease note: Participants must be a registered client of the Urban Indian Center of Salt Lake or live in the same household as a registered client.
URL:https://uicsl.org/event/strength-sunrise-training/2026-05-12/
LOCATION:Urban Indian Center Of Salt Lake – Main Building\, 120 w 1300 s\, salt lake city\, UT\, 84115\, United States
CATEGORIES:Community Health
ATTACH;FMTTYPE=image/png:https://uicsl.org/wp-content/uploads/2026/03/2-10-26-SUNRISE-STRENGTH-TRAINING.png
ORGANIZER;CN="Urban Indian Center of Salt Lake":MAILTO:info@iwic.org
END:VEVENT
BEGIN:VEVENT
DTSTART;TZID=America/Denver:20260514T060000
DTEND;TZID=America/Denver:20260514T190000
DTSTAMP:20260422T070004
CREATED:20260415T213450Z
LAST-MODIFIED:20260421T210222Z
UID:10007293-1778738400-1778785200@uicsl.org
SUMMARY:Movement is Medicine: Join Our Lacrosse Circle!
DESCRIPTION:Movement is Medicine: Join Our Lacrosse Circle!  \nMedicine Lacrosse is more than just a game—it’s a way to heal\, strengthen our bodies\, and connect with tradition. Our Fitness Thursdays series is back\, and we want YOU to be part of the team! \nWhether you’ve never picked up a stick before or you’re a seasoned player\, all levels are welcome. Let’s get our hearts pumping and our spirits high. \n\n\nWhen: Every Thursday starting May 7\, 2026 \n\n\nTime: 6:00 PM – 7:00 PM \n\n\nWhere: Urban Indian Center of Salt Lake (120 W 1300 S) \n\n\nWho: Ages 8+ (All fitness levels welcome!) \n\n\n⚠️ Note: Participants must be a registered client of UICSL or live in the same household as a registered client. \nReady to play? Scan the QR code on the flyer to register! Questions? Reach out to Moriah at (385) 267-1721.
URL:https://uicsl.org/event/movement-is-medicine-join-our-lacrosse-circle/2026-05-14/
LOCATION:Urban Indian Center Of Salt Lake – Main Building\, 120 w 1300 s\, salt lake city\, UT\, 84115\, United States
CATEGORIES:Community Health
ATTACH;FMTTYPE=image/png:https://uicsl.org/wp-content/uploads/2026/04/5-7-25_Medicine-Lacrosse_FINAL_6-week-program.png
ORGANIZER;CN="Urban Indian Center of Salt Lake":MAILTO:info@iwic.org
END:VEVENT
BEGIN:VEVENT
DTSTART;TZID=America/Denver:20260519T073000
DTEND;TZID=America/Denver:20260519T083000
DTSTAMP:20260422T070004
CREATED:20260305T203033Z
LAST-MODIFIED:20260323T180218Z
UID:10007225-1779175800-1779179400@uicsl.org
SUMMARY:Strength Sunrise Training
DESCRIPTION:The Urban Indian Center of Salt Lake invites community members to join Strength Sunrise Training\, a weekly morning fitness session focused on building strength\, wellness\, and connection. \nTuesdays | 7:30 AM – 8:30 AM\nUrban Indian Center of Salt Lake\n120 West 1300 South \nThis class welcomes participants of all fitness levels and provides a supportive space to start the day with movement and community. All equipment will be provided. \nEveryone is welcome\, and all levels of fitness are encouraged to attend. \nFor questions\, please contact Moriah at (801) 889-7244. \nPlease note: Participants must be a registered client of the Urban Indian Center of Salt Lake or live in the same household as a registered client.
URL:https://uicsl.org/event/strength-sunrise-training/2026-05-19/
LOCATION:Urban Indian Center Of Salt Lake – Main Building\, 120 w 1300 s\, salt lake city\, UT\, 84115\, United States
CATEGORIES:Community Health
ATTACH;FMTTYPE=image/png:https://uicsl.org/wp-content/uploads/2026/03/2-10-26-SUNRISE-STRENGTH-TRAINING.png
ORGANIZER;CN="Urban Indian Center of Salt Lake":MAILTO:info@iwic.org
END:VEVENT
BEGIN:VEVENT
DTSTART;TZID=America/Denver:20260521T060000
DTEND;TZID=America/Denver:20260521T190000
DTSTAMP:20260422T070004
CREATED:20260415T213450Z
LAST-MODIFIED:20260421T210222Z
UID:10007294-1779343200-1779390000@uicsl.org
SUMMARY:Movement is Medicine: Join Our Lacrosse Circle!
DESCRIPTION:Movement is Medicine: Join Our Lacrosse Circle!  \nMedicine Lacrosse is more than just a game—it’s a way to heal\, strengthen our bodies\, and connect with tradition. Our Fitness Thursdays series is back\, and we want YOU to be part of the team! \nWhether you’ve never picked up a stick before or you’re a seasoned player\, all levels are welcome. Let’s get our hearts pumping and our spirits high. \n\n\nWhen: Every Thursday starting May 7\, 2026 \n\n\nTime: 6:00 PM – 7:00 PM \n\n\nWhere: Urban Indian Center of Salt Lake (120 W 1300 S) \n\n\nWho: Ages 8+ (All fitness levels welcome!) \n\n\n⚠️ Note: Participants must be a registered client of UICSL or live in the same household as a registered client. \nReady to play? Scan the QR code on the flyer to register! Questions? Reach out to Moriah at (385) 267-1721.
URL:https://uicsl.org/event/movement-is-medicine-join-our-lacrosse-circle/2026-05-21/
LOCATION:Urban Indian Center Of Salt Lake – Main Building\, 120 w 1300 s\, salt lake city\, UT\, 84115\, United States
CATEGORIES:Community Health
ATTACH;FMTTYPE=image/png:https://uicsl.org/wp-content/uploads/2026/04/5-7-25_Medicine-Lacrosse_FINAL_6-week-program.png
ORGANIZER;CN="Urban Indian Center of Salt Lake":MAILTO:info@iwic.org
END:VEVENT
BEGIN:VEVENT
DTSTART;TZID=America/Denver:20260526T073000
DTEND;TZID=America/Denver:20260526T083000
DTSTAMP:20260422T070004
CREATED:20260305T203033Z
LAST-MODIFIED:20260323T180218Z
UID:10007226-1779780600-1779784200@uicsl.org
SUMMARY:Strength Sunrise Training
DESCRIPTION:The Urban Indian Center of Salt Lake invites community members to join Strength Sunrise Training\, a weekly morning fitness session focused on building strength\, wellness\, and connection. \nTuesdays | 7:30 AM – 8:30 AM\nUrban Indian Center of Salt Lake\n120 West 1300 South \nThis class welcomes participants of all fitness levels and provides a supportive space to start the day with movement and community. All equipment will be provided. \nEveryone is welcome\, and all levels of fitness are encouraged to attend. \nFor questions\, please contact Moriah at (801) 889-7244. \nPlease note: Participants must be a registered client of the Urban Indian Center of Salt Lake or live in the same household as a registered client.
URL:https://uicsl.org/event/strength-sunrise-training/2026-05-26/
LOCATION:Urban Indian Center Of Salt Lake – Main Building\, 120 w 1300 s\, salt lake city\, UT\, 84115\, United States
CATEGORIES:Community Health
ATTACH;FMTTYPE=image/png:https://uicsl.org/wp-content/uploads/2026/03/2-10-26-SUNRISE-STRENGTH-TRAINING.png
ORGANIZER;CN="Urban Indian Center of Salt Lake":MAILTO:info@iwic.org
END:VEVENT
BEGIN:VEVENT
DTSTART;TZID=America/Denver:20260528T060000
DTEND;TZID=America/Denver:20260528T190000
DTSTAMP:20260422T070004
CREATED:20260415T213450Z
LAST-MODIFIED:20260421T210222Z
UID:10007295-1779948000-1779994800@uicsl.org
SUMMARY:Movement is Medicine: Join Our Lacrosse Circle!
DESCRIPTION:Movement is Medicine: Join Our Lacrosse Circle!  \nMedicine Lacrosse is more than just a game—it’s a way to heal\, strengthen our bodies\, and connect with tradition. Our Fitness Thursdays series is back\, and we want YOU to be part of the team! \nWhether you’ve never picked up a stick before or you’re a seasoned player\, all levels are welcome. Let’s get our hearts pumping and our spirits high. \n\n\nWhen: Every Thursday starting May 7\, 2026 \n\n\nTime: 6:00 PM – 7:00 PM \n\n\nWhere: Urban Indian Center of Salt Lake (120 W 1300 S) \n\n\nWho: Ages 8+ (All fitness levels welcome!) \n\n\n⚠️ Note: Participants must be a registered client of UICSL or live in the same household as a registered client. \nReady to play? Scan the QR code on the flyer to register! Questions? Reach out to Moriah at (385) 267-1721.
URL:https://uicsl.org/event/movement-is-medicine-join-our-lacrosse-circle/2026-05-28/
LOCATION:Urban Indian Center Of Salt Lake – Main Building\, 120 w 1300 s\, salt lake city\, UT\, 84115\, United States
CATEGORIES:Community Health
ATTACH;FMTTYPE=image/png:https://uicsl.org/wp-content/uploads/2026/04/5-7-25_Medicine-Lacrosse_FINAL_6-week-program.png
ORGANIZER;CN="Urban Indian Center of Salt Lake":MAILTO:info@iwic.org
END:VEVENT
END:VCALENDAR