BEGIN:VCALENDAR
VERSION:2.0
PRODID:-//Urban Indian Center of Salt Lake - ECPv6.15.20//NONSGML v1.0//EN
CALSCALE:GREGORIAN
METHOD:PUBLISH
X-WR-CALNAME:Urban Indian Center of Salt Lake
X-ORIGINAL-URL:https://uicsl.org
X-WR-CALDESC:Events for Urban Indian Center of Salt Lake
REFRESH-INTERVAL;VALUE=DURATION:PT1H
X-Robots-Tag:noindex
X-PUBLISHED-TTL:PT1H
BEGIN:VTIMEZONE
TZID:America/Denver
BEGIN:DAYLIGHT
TZOFFSETFROM:-0700
TZOFFSETTO:-0600
TZNAME:MDT
DTSTART:20240310T090000
END:DAYLIGHT
BEGIN:STANDARD
TZOFFSETFROM:-0600
TZOFFSETTO:-0700
TZNAME:MST
DTSTART:20241103T080000
END:STANDARD
BEGIN:DAYLIGHT
TZOFFSETFROM:-0700
TZOFFSETTO:-0600
TZNAME:MDT
DTSTART:20250309T090000
END:DAYLIGHT
BEGIN:STANDARD
TZOFFSETFROM:-0600
TZOFFSETTO:-0700
TZNAME:MST
DTSTART:20251102T080000
END:STANDARD
BEGIN:DAYLIGHT
TZOFFSETFROM:-0700
TZOFFSETTO:-0600
TZNAME:MDT
DTSTART:20260308T090000
END:DAYLIGHT
BEGIN:STANDARD
TZOFFSETFROM:-0600
TZOFFSETTO:-0700
TZNAME:MST
DTSTART:20261101T080000
END:STANDARD
END:VTIMEZONE
BEGIN:VEVENT
DTSTART;TZID=America/Denver:20250321T100000
DTEND;TZID=America/Denver:20250321T113000
DTSTAMP:20260423T041247
CREATED:20250312T190620Z
LAST-MODIFIED:20250414T140720Z
UID:10001718-1742551200-1742556600@uicsl.org
SUMMARY:Moving Warriors Open Gym
DESCRIPTION:For Native Elders 50+ on the 1st & 3rd Friday of Each Month \nMultiple activities available that include fun physical activities like casual basketball\, beachball volleyball\, music & hula hoops! \nWater & light refreshments provided. \nQuestions: Moriah (801)889-7244 \nMust be a registered client of UICSL.
URL:https://uicsl.org/event/moving-warriors-open-gym/2025-03-21/
LOCATION:Flat Iron Mesa Park\, 1765 E 8600 S\, Sandy\, UT\, 84093\, United States
ATTACH;FMTTYPE=image/png:https://uicsl.org/wp-content/uploads/2025/03/Moving-Warrior-2.png
END:VEVENT
BEGIN:VEVENT
DTSTART;TZID=America/Denver:20250321T180000
DTEND;TZID=America/Denver:20250321T200000
DTSTAMP:20260423T041247
CREATED:20250203T232203Z
LAST-MODIFIED:20250203T232321Z
UID:10001692-1742580000-1742587200@uicsl.org
SUMMARY:Rock Painting
DESCRIPTION:A community gathering focused on exploring various techniques of rock painting and understanding its significance of Rock Painting.
URL:https://uicsl.org/event/rock-painting/
LOCATION:Flat Iron Mesa Park\, 1765 E 8600 S\, Sandy\, UT\, 84093\, United States
ATTACH;FMTTYPE=image/png:https://uicsl.org/wp-content/uploads/2025/02/Rebalancing-Culture-Flyers-2-copy.png
END:VEVENT
END:VCALENDAR