BEGIN:VCALENDAR
VERSION:2.0
PRODID:-//Urban Indian Center of Salt Lake - ECPv6.15.20//NONSGML v1.0//EN
CALSCALE:GREGORIAN
METHOD:PUBLISH
X-ORIGINAL-URL:https://uicsl.org
X-WR-CALDESC:Events for Urban Indian Center of Salt Lake
REFRESH-INTERVAL;VALUE=DURATION:PT1H
X-Robots-Tag:noindex
X-PUBLISHED-TTL:PT1H
BEGIN:VTIMEZONE
TZID:America/Denver
BEGIN:DAYLIGHT
TZOFFSETFROM:-0700
TZOFFSETTO:-0600
TZNAME:MDT
DTSTART:20240310T090000
END:DAYLIGHT
BEGIN:STANDARD
TZOFFSETFROM:-0600
TZOFFSETTO:-0700
TZNAME:MST
DTSTART:20241103T080000
END:STANDARD
BEGIN:DAYLIGHT
TZOFFSETFROM:-0700
TZOFFSETTO:-0600
TZNAME:MDT
DTSTART:20250309T090000
END:DAYLIGHT
BEGIN:STANDARD
TZOFFSETFROM:-0600
TZOFFSETTO:-0700
TZNAME:MST
DTSTART:20251102T080000
END:STANDARD
BEGIN:DAYLIGHT
TZOFFSETFROM:-0700
TZOFFSETTO:-0600
TZNAME:MDT
DTSTART:20260308T090000
END:DAYLIGHT
BEGIN:STANDARD
TZOFFSETFROM:-0600
TZOFFSETTO:-0700
TZNAME:MST
DTSTART:20261101T080000
END:STANDARD
END:VTIMEZONE
BEGIN:VEVENT
DTSTART;TZID=America/Denver:20250118T100000
DTEND;TZID=America/Denver:20250118T140000
DTSTAMP:20260421T045213
CREATED:20250113T223421Z
LAST-MODIFIED:20250115T161439Z
UID:10001680-1737194400-1737208800@uicsl.org
SUMMARY:Quill Work Workshop
DESCRIPTION:For 6th – 12th Grade Native Youth \n\nSnacks & Lunch Provided\nFirst Come\, First Serve\n\nCall to Register at (801)214-7662
URL:https://uicsl.org/event/quill-work-workshop/
LOCATION:Flat Iron Mesa Park\, 1765 E 8600 S\, Sandy\, UT\, 84093\, United States
ATTACH;FMTTYPE=image/png:https://uicsl.org/wp-content/uploads/2025/01/Quill-Work-Workshop-1.png
END:VEVENT
END:VCALENDAR