BEGIN:VCALENDAR
VERSION:2.0
PRODID:-//Urban Indian Center of Salt Lake - ECPv6.15.20//NONSGML v1.0//EN
CALSCALE:GREGORIAN
METHOD:PUBLISH
X-ORIGINAL-URL:https://uicsl.org
X-WR-CALDESC:Events for Urban Indian Center of Salt Lake
REFRESH-INTERVAL;VALUE=DURATION:PT1H
X-Robots-Tag:noindex
X-PUBLISHED-TTL:PT1H
BEGIN:VTIMEZONE
TZID:America/Denver
BEGIN:DAYLIGHT
TZOFFSETFROM:-0700
TZOFFSETTO:-0600
TZNAME:MDT
DTSTART:20230312T090000
END:DAYLIGHT
BEGIN:STANDARD
TZOFFSETFROM:-0600
TZOFFSETTO:-0700
TZNAME:MST
DTSTART:20231105T080000
END:STANDARD
BEGIN:DAYLIGHT
TZOFFSETFROM:-0700
TZOFFSETTO:-0600
TZNAME:MDT
DTSTART:20240310T090000
END:DAYLIGHT
BEGIN:STANDARD
TZOFFSETFROM:-0600
TZOFFSETTO:-0700
TZNAME:MST
DTSTART:20241103T080000
END:STANDARD
BEGIN:DAYLIGHT
TZOFFSETFROM:-0700
TZOFFSETTO:-0600
TZNAME:MDT
DTSTART:20250309T090000
END:DAYLIGHT
BEGIN:STANDARD
TZOFFSETFROM:-0600
TZOFFSETTO:-0700
TZNAME:MST
DTSTART:20251102T080000
END:STANDARD
END:VTIMEZONE
BEGIN:VEVENT
DTSTART;TZID=America/Denver:20241119T180000
DTEND;TZID=America/Denver:20241119T200000
DTSTAMP:20260421T093311
CREATED:20241029T175702Z
LAST-MODIFIED:20241120T163355Z
UID:10001610-1732039200-1732046400@uicsl.org
SUMMARY:Youth Culture Class
DESCRIPTION:November 5th\n\n\nFood Demonstration with Kristie\n\n\nNovember 11-12\n\nScience Experience\n\n\nNovember 16 (Saturday)\n\nChokecherry Presentation\n\n\nNovember 19\n\nBlue Corn Mush\n\n\nNovember 26\n\nPendelton Blanket Moccasins\n\n\n\nLight Snacks Provided \nFirst Come\, First Serve \nAdult/Guardian Supervision Required \n  \nContact: Tetona Longhair 801-214-7662 or tlonghair@uicsl.org \nMust be a registered client of the Urban Indian Center of Salt Lake
URL:https://uicsl.org/event/youth-culture-class-12/2024-11-19/
LOCATION:Flat Iron Mesa Park\, 1765 E 8600 S\, Sandy\, UT\, 84093\, United States
ATTACH;FMTTYPE=image/png:https://uicsl.org/wp-content/uploads/2024/10/Youth-Culture-ClassNov-2.png
END:VEVENT
BEGIN:VEVENT
DTSTART;TZID=America/Denver:20241119T180000
DTEND;TZID=America/Denver:20241119T200000
DTSTAMP:20260421T093311
CREATED:20241119T184105Z
LAST-MODIFIED:20241120T150011Z
UID:10001629-1732039200-1732046400@uicsl.org
SUMMARY:Youth Culture Class
DESCRIPTION:November 5th\n\n\nFood Demonstration with Kristie\n\n\nNovember 11-12\n\nScience Experience\n\n\nNovember 16 (Saturday)\n\nChokecherry Presentation\n\n\nNovember 19\n\nBlue Corn Mush\n\n\nNovember 26\n\nPendelton Blanket Moccasins\n\n\n\nLight Snacks Provided \nFirst Come\, First Serve \nAdult/Guardian Supervision Required \n  \nContact: Tetona Longhair 801-214-7662 or tlonghair@uicsl.org \nMust be a registered client of the Urban Indian Center of Salt Lake
URL:https://uicsl.org/event/youth-culture-class-13/
LOCATION:Flat Iron Mesa Park\, 1765 E 8600 S\, Sandy\, UT\, 84093\, United States
ATTACH;FMTTYPE=image/png:https://uicsl.org/wp-content/uploads/2024/11/Youth-Culture-ClassNov.png
END:VEVENT
END:VCALENDAR