BEGIN:VCALENDAR
VERSION:2.0
PRODID:-//Urban Indian Center of Salt Lake - ECPv6.15.20//NONSGML v1.0//EN
CALSCALE:GREGORIAN
METHOD:PUBLISH
X-ORIGINAL-URL:https://uicsl.org
X-WR-CALDESC:Events for Urban Indian Center of Salt Lake
REFRESH-INTERVAL;VALUE=DURATION:PT1H
X-Robots-Tag:noindex
X-PUBLISHED-TTL:PT1H
BEGIN:VTIMEZONE
TZID:America/Denver
BEGIN:DAYLIGHT
TZOFFSETFROM:-0700
TZOFFSETTO:-0600
TZNAME:MDT
DTSTART:20230312T090000
END:DAYLIGHT
BEGIN:STANDARD
TZOFFSETFROM:-0600
TZOFFSETTO:-0700
TZNAME:MST
DTSTART:20231105T080000
END:STANDARD
BEGIN:DAYLIGHT
TZOFFSETFROM:-0700
TZOFFSETTO:-0600
TZNAME:MDT
DTSTART:20240310T090000
END:DAYLIGHT
BEGIN:STANDARD
TZOFFSETFROM:-0600
TZOFFSETTO:-0700
TZNAME:MST
DTSTART:20241103T080000
END:STANDARD
BEGIN:DAYLIGHT
TZOFFSETFROM:-0700
TZOFFSETTO:-0600
TZNAME:MDT
DTSTART:20250309T090000
END:DAYLIGHT
BEGIN:STANDARD
TZOFFSETFROM:-0600
TZOFFSETTO:-0700
TZNAME:MST
DTSTART:20251102T080000
END:STANDARD
END:VTIMEZONE
BEGIN:VEVENT
DTSTART;TZID=America/Denver:20241018T150000
DTEND;TZID=America/Denver:20241018T180000
DTSTAMP:20260422T113915
CREATED:20241003T145010Z
LAST-MODIFIED:20241017T202731Z
UID:10001598-1729263600-1729274400@uicsl.org
SUMMARY:Boo to the Flu & Trunk-or-Treat
DESCRIPTION:Everyone’s invited for a spooky good time! \n\nFlu Vaccines (6 months+)\nFace Painting\nCarnival Games\nMusic\nCostume Contest\n\nMost Original Costume\nBest Costume\nSpookiest Costume\n\n\n\nQuestions: (801) 486-4877 \nMust be a registered client of UICSL to receive vaccination. Schedule vaccine appointments are required. 
URL:https://uicsl.org/event/boo-to-the-flu-4/
LOCATION:UICSL Murray Clinic\, 5450 South Green Street\, Salt Lake City\, Utah\, 84123
ATTACH;FMTTYPE=image/png:https://uicsl.org/wp-content/uploads/2024/10/POSTPONE.png
END:VEVENT
BEGIN:VEVENT
DTSTART;TZID=America/Denver:20241018T173000
DTEND;TZID=America/Denver:20241018T203000
DTSTAMP:20260422T113915
CREATED:20241015T165536Z
LAST-MODIFIED:20241015T165540Z
UID:10001604-1729272600-1729283400@uicsl.org
SUMMARY:Diné Relatives Resource Day
DESCRIPTION:Event Details: \n\n5:30 PM – Welcome & Prayers by Craig Sandoval\n5:45 PM – Purpose & Objectives by Thomas Cody\n6:00 PM – Networking Dinner\n6:45 PM – Division Updates by Division Representatives\n7:45 PM – Sunrise Yei Bi Chei Dancer Performing Healing Songs & Dances\n8:15 PM – Close\n\nIn partnership with Navajo Division of Children & Family Services
URL:https://uicsl.org/event/dine-relatives-resource-day/
LOCATION:Flat Iron Mesa Park\, 1765 E 8600 S\, Sandy\, UT\, 84093\, United States
ATTACH;FMTTYPE=image/png:https://uicsl.org/wp-content/uploads/2024/10/Dine-Relatives-Resource-Day.png
END:VEVENT
END:VCALENDAR