BEGIN:VCALENDAR
VERSION:2.0
PRODID:-//Urban Indian Center of Salt Lake - ECPv6.15.20//NONSGML v1.0//EN
CALSCALE:GREGORIAN
METHOD:PUBLISH
X-ORIGINAL-URL:https://uicsl.org
X-WR-CALDESC:Events for Urban Indian Center of Salt Lake
REFRESH-INTERVAL;VALUE=DURATION:PT1H
X-Robots-Tag:noindex
X-PUBLISHED-TTL:PT1H
BEGIN:VTIMEZONE
TZID:America/Denver
BEGIN:DAYLIGHT
TZOFFSETFROM:-0700
TZOFFSETTO:-0600
TZNAME:MDT
DTSTART:20230312T090000
END:DAYLIGHT
BEGIN:STANDARD
TZOFFSETFROM:-0600
TZOFFSETTO:-0700
TZNAME:MST
DTSTART:20231105T080000
END:STANDARD
BEGIN:DAYLIGHT
TZOFFSETFROM:-0700
TZOFFSETTO:-0600
TZNAME:MDT
DTSTART:20240310T090000
END:DAYLIGHT
BEGIN:STANDARD
TZOFFSETFROM:-0600
TZOFFSETTO:-0700
TZNAME:MST
DTSTART:20241103T080000
END:STANDARD
BEGIN:DAYLIGHT
TZOFFSETFROM:-0700
TZOFFSETTO:-0600
TZNAME:MDT
DTSTART:20250309T090000
END:DAYLIGHT
BEGIN:STANDARD
TZOFFSETFROM:-0600
TZOFFSETTO:-0700
TZNAME:MST
DTSTART:20251102T080000
END:STANDARD
END:VTIMEZONE
BEGIN:VEVENT
DTSTART;TZID=America/Denver:20241012T083000
DTEND;TZID=America/Denver:20241012T110000
DTSTAMP:20260421T200730
CREATED:20240627T212416Z
LAST-MODIFIED:20241008T200923Z
UID:10001538-1728721800-1728730800@uicsl.org
SUMMARY:Indigenous Peoples Day 5K Run/Walk
DESCRIPTION:UPDATE: Registration Full & Closed 10/8/24\n  \nIndigenous Peoples’ Day is a time to acknowledge the rich diversity and profound contributions of Native peoples and to recognize the ongoing struggle for recognition and visibility. We will honor this day by coming together with relatives to celebrate and uplift Indigenous histories and cultures through walking\, jogging\, and running. \n  \nQuestions (801) 889-7244 \n  \nMust be a registered client or live within the same household of a registered client of UICSL.
URL:https://uicsl.org/event/indigenous-peoples-day-5k-run-walk-2/
LOCATION:Galena Soo’nkahni Mounument\, Near 13400 South & Along Jordan river Parkway Trail\, Draper\, Utah
ATTACH;FMTTYPE=image/png:https://uicsl.org/wp-content/uploads/2024/06/web-Indigenous-Peoples-5K.png
END:VEVENT
END:VCALENDAR