BEGIN:VCALENDAR
VERSION:2.0
PRODID:-//Urban Indian Center of Salt Lake - ECPv6.15.20//NONSGML v1.0//EN
CALSCALE:GREGORIAN
METHOD:PUBLISH
X-WR-CALNAME:Urban Indian Center of Salt Lake
X-ORIGINAL-URL:https://uicsl.org
X-WR-CALDESC:Events for Urban Indian Center of Salt Lake
REFRESH-INTERVAL;VALUE=DURATION:PT1H
X-Robots-Tag:noindex
X-PUBLISHED-TTL:PT1H
BEGIN:VTIMEZONE
TZID:America/Denver
BEGIN:DAYLIGHT
TZOFFSETFROM:-0700
TZOFFSETTO:-0600
TZNAME:MDT
DTSTART:20230312T090000
END:DAYLIGHT
BEGIN:STANDARD
TZOFFSETFROM:-0600
TZOFFSETTO:-0700
TZNAME:MST
DTSTART:20231105T080000
END:STANDARD
BEGIN:DAYLIGHT
TZOFFSETFROM:-0700
TZOFFSETTO:-0600
TZNAME:MDT
DTSTART:20240310T090000
END:DAYLIGHT
BEGIN:STANDARD
TZOFFSETFROM:-0600
TZOFFSETTO:-0700
TZNAME:MST
DTSTART:20241103T080000
END:STANDARD
BEGIN:DAYLIGHT
TZOFFSETFROM:-0700
TZOFFSETTO:-0600
TZNAME:MDT
DTSTART:20250309T090000
END:DAYLIGHT
BEGIN:STANDARD
TZOFFSETFROM:-0600
TZOFFSETTO:-0700
TZNAME:MST
DTSTART:20251102T080000
END:STANDARD
END:VTIMEZONE
BEGIN:VEVENT
DTSTART;TZID=America/Denver:20240930T083000
DTEND;TZID=America/Denver:20240930T170000
DTSTAMP:20260421T105244
CREATED:20240805T203049Z
LAST-MODIFIED:20240812T221015Z
UID:10001578-1727685000-1727715600@uicsl.org
SUMMARY:Share the Warmth Donation Drive
DESCRIPTION:Donation Drive for New & Gently Used items as well as new hygiene/cleaning/food items \n  \nContact: Heather (385) 867-7741
URL:https://uicsl.org/event/share-the-warmth-donation-drive/2024-09-30/
LOCATION:Flat Iron Mesa Park\, 1765 E 8600 S\, Sandy\, UT\, 84093\, United States
ATTACH;FMTTYPE=image/png:https://uicsl.org/wp-content/uploads/2024/08/donation_drive_flyer.pdf-2.png
END:VEVENT
BEGIN:VEVENT
DTSTART;TZID=America/Denver:20240930T170000
DTEND;TZID=America/Denver:20240930T210000
DTSTAMP:20260421T105244
CREATED:20240904T195154Z
LAST-MODIFIED:20240904T232500Z
UID:10001588-1727715600-1727730000@uicsl.org
SUMMARY:EVERY CHILD MATTERS Awareness Walk & Gathering
DESCRIPTION:Orange Shirt Day\, also called the National Day for Truth and Reconciliation or the National Day of Remembrance\, honors the experiences and impacts of Indigenous boarding and residential school survivors. This day also acknowledges the Indigenous children who did not make it home and the generational trauma experienced by their families and communities. It serves as a call to action for truth and reconciliation\, encouraging ongoing efforts to address past injustices and support healing and understanding. \n  \nEVERYONE WELCOME TO ATTEND 1 SESSION OR BOTH \n  \n\nAwareness Walk: 5:00 PM \nWalk Begins @ 5:00 PM Starts: Liberty Park\, 600 Harvey Milk Blvd Ends: Urban Indian Center of Salt Lake (Meet on East side of park) \nTraditional attire encouraged \nGathering: 7:00 PM- 9:00 PM   Urban Indian Center of Salt Lake 120 West 1300 South \nKeynote Speaker: Meg Singer National Native American Boarding School Healing Coalition \nDinner Provided \nDoors Open: 6:30 PM \nMore information\, contact Kayla (385) 267-1716
URL:https://uicsl.org/event/every-child-matters-awareness-walk-gathering/
LOCATION:Liberty Park\, 600 East Harvey Milk Blvd\, Salt Lake City\, Utah\, 84105
ATTACH;FMTTYPE=image/png:https://uicsl.org/wp-content/uploads/2024/09/The-Date-Every-Child-Matters.png
END:VEVENT
END:VCALENDAR