BEGIN:VCALENDAR
VERSION:2.0
PRODID:-//Urban Indian Center of Salt Lake - ECPv6.15.20//NONSGML v1.0//EN
CALSCALE:GREGORIAN
METHOD:PUBLISH
X-WR-CALNAME:Urban Indian Center of Salt Lake
X-ORIGINAL-URL:https://uicsl.org
X-WR-CALDESC:Events for Urban Indian Center of Salt Lake
REFRESH-INTERVAL;VALUE=DURATION:PT1H
X-Robots-Tag:noindex
X-PUBLISHED-TTL:PT1H
BEGIN:VTIMEZONE
TZID:America/Denver
BEGIN:DAYLIGHT
TZOFFSETFROM:-0700
TZOFFSETTO:-0600
TZNAME:MDT
DTSTART:20230312T090000
END:DAYLIGHT
BEGIN:STANDARD
TZOFFSETFROM:-0600
TZOFFSETTO:-0700
TZNAME:MST
DTSTART:20231105T080000
END:STANDARD
BEGIN:DAYLIGHT
TZOFFSETFROM:-0700
TZOFFSETTO:-0600
TZNAME:MDT
DTSTART:20240310T090000
END:DAYLIGHT
BEGIN:STANDARD
TZOFFSETFROM:-0600
TZOFFSETTO:-0700
TZNAME:MST
DTSTART:20241103T080000
END:STANDARD
BEGIN:DAYLIGHT
TZOFFSETFROM:-0700
TZOFFSETTO:-0600
TZNAME:MDT
DTSTART:20250309T090000
END:DAYLIGHT
BEGIN:STANDARD
TZOFFSETFROM:-0600
TZOFFSETTO:-0700
TZNAME:MST
DTSTART:20251102T080000
END:STANDARD
END:VTIMEZONE
BEGIN:VEVENT
DTSTART;TZID=America/Denver:20240919T083000
DTEND;TZID=America/Denver:20240919T170000
DTSTAMP:20260421T153349
CREATED:20240805T203049Z
LAST-MODIFIED:20240812T221015Z
UID:10001571-1726734600-1726765200@uicsl.org
SUMMARY:Share the Warmth Donation Drive
DESCRIPTION:Donation Drive for New & Gently Used items as well as new hygiene/cleaning/food items \n  \nContact: Heather (385) 867-7741
URL:https://uicsl.org/event/share-the-warmth-donation-drive/2024-09-19/
LOCATION:Flat Iron Mesa Park\, 1765 E 8600 S\, Sandy\, UT\, 84093\, United States
ATTACH;FMTTYPE=image/png:https://uicsl.org/wp-content/uploads/2024/08/donation_drive_flyer.pdf-2.png
END:VEVENT
BEGIN:VEVENT
DTSTART;TZID=America/Denver:20240919T180000
DTEND;TZID=America/Denver:20240919T190000
DTSTAMP:20260421T153349
CREATED:20240913T211829Z
LAST-MODIFIED:20241029T191655Z
UID:10001288-1726768800-1726772400@uicsl.org
SUMMARY:All Nations Yoga Circle
DESCRIPTION:Native Fitness Thursdays are just got a whole lot more exciting with the ALL NATIONS YOGA CIRCLE!\nJoin us for an energizing strength training session led by Indigenous yoga instructors Fig (Ojibwa Descendant) and BJ Swimmer (Oglala Lakota).\n\nAdults & Youth Welcome\n\nLimited yoga mats available\, please bring your own or call Moriah.\n\nQuestions: Moriah (801) 889-7244
URL:https://uicsl.org/event/all-nations-yoga-circle-2/
LOCATION:Flat Iron Mesa Park\, 1765 E 8600 S\, Sandy\, UT\, 84093\, United States
ATTACH;FMTTYPE=image/png:https://uicsl.org/wp-content/uploads/2024/09/Yoga-Circle-2.png
END:VEVENT
BEGIN:VEVENT
DTSTART;TZID=America/Denver:20240919T180000
DTEND;TZID=America/Denver:20240919T210000
DTSTAMP:20260421T153349
CREATED:20240827T211653Z
LAST-MODIFIED:20240827T211658Z
UID:10001586-1726768800-1726779600@uicsl.org
SUMMARY:Welcome Week
DESCRIPTION:Indigenous Welcome to Our Immigrant & Refugee Friends \nJoin Millcreek in: \n\nDancing Feathers\nJambo Africa\nSkate Loop Legends\nDJ Nour Bilala\nSeveral Community Organizations\n\nFree Skating the whole night!
URL:https://uicsl.org/event/welcome-week/
LOCATION:Millcreek Common\, 1354 E. Chambers Ave (3205 So.)\, Millcreek\, Utah\, 84106
ATTACH;FMTTYPE=image/png:https://uicsl.org/wp-content/uploads/2024/08/Millcreek-Welcoming-Week-Event-3_Page_1.png
END:VEVENT
BEGIN:VEVENT
DTSTART;TZID=America/Denver:20240919T190000
DTEND;TZID=America/Denver:20240919T210000
DTSTAMP:20260421T153349
CREATED:20240916T192317Z
LAST-MODIFIED:20240916T205629Z
UID:10001291-1726772400-1726779600@uicsl.org
SUMMARY:Sweat Lodge
DESCRIPTION:Open for the Native Community \nCO-ED Sweat \nSweat Leader: Henry Howell \nDress Code \nMale: \n\nT-Shirts\nSwim Trunks\n\nFemale: \n\nT-Shirt\nShorts/Capris\nCeremony Skirt Preferred\n\nWhat to Bring: \n\nBath Towel\nWater Bottle\nHealthy Snacks
URL:https://uicsl.org/event/sweat-lodge/
LOCATION:Flat Iron Mesa Park\, 1765 E 8600 S\, Sandy\, UT\, 84093\, United States
ATTACH;FMTTYPE=image/png:https://uicsl.org/wp-content/uploads/2024/09/Sweat-Lodge.png
END:VEVENT
END:VCALENDAR