BEGIN:VCALENDAR
VERSION:2.0
PRODID:-//Urban Indian Center of Salt Lake - ECPv6.15.20//NONSGML v1.0//EN
CALSCALE:GREGORIAN
METHOD:PUBLISH
X-WR-CALNAME:Urban Indian Center of Salt Lake
X-ORIGINAL-URL:https://uicsl.org
X-WR-CALDESC:Events for Urban Indian Center of Salt Lake
REFRESH-INTERVAL;VALUE=DURATION:PT1H
X-Robots-Tag:noindex
X-PUBLISHED-TTL:PT1H
BEGIN:VTIMEZONE
TZID:America/Denver
BEGIN:DAYLIGHT
TZOFFSETFROM:-0700
TZOFFSETTO:-0600
TZNAME:MDT
DTSTART:20230312T090000
END:DAYLIGHT
BEGIN:STANDARD
TZOFFSETFROM:-0600
TZOFFSETTO:-0700
TZNAME:MST
DTSTART:20231105T080000
END:STANDARD
BEGIN:DAYLIGHT
TZOFFSETFROM:-0700
TZOFFSETTO:-0600
TZNAME:MDT
DTSTART:20240310T090000
END:DAYLIGHT
BEGIN:STANDARD
TZOFFSETFROM:-0600
TZOFFSETTO:-0700
TZNAME:MST
DTSTART:20241103T080000
END:STANDARD
BEGIN:DAYLIGHT
TZOFFSETFROM:-0700
TZOFFSETTO:-0600
TZNAME:MDT
DTSTART:20250309T090000
END:DAYLIGHT
BEGIN:STANDARD
TZOFFSETFROM:-0600
TZOFFSETTO:-0700
TZNAME:MST
DTSTART:20251102T080000
END:STANDARD
END:VTIMEZONE
BEGIN:VEVENT
DTSTART;TZID=America/Denver:20240918T083000
DTEND;TZID=America/Denver:20240918T170000
DTSTAMP:20260421T182430
CREATED:20240805T203049Z
LAST-MODIFIED:20240812T221015Z
UID:10001570-1726648200-1726678800@uicsl.org
SUMMARY:Share the Warmth Donation Drive
DESCRIPTION:Donation Drive for New & Gently Used items as well as new hygiene/cleaning/food items \n  \nContact: Heather (385) 867-7741
URL:https://uicsl.org/event/share-the-warmth-donation-drive/2024-09-18/
LOCATION:Flat Iron Mesa Park\, 1765 E 8600 S\, Sandy\, UT\, 84093\, United States
ATTACH;FMTTYPE=image/png:https://uicsl.org/wp-content/uploads/2024/08/donation_drive_flyer.pdf-2.png
END:VEVENT
BEGIN:VEVENT
DTSTART;TZID=America/Denver:20240918T173000
DTEND;TZID=America/Denver:20240918T190000
DTSTAMP:20260421T182430
CREATED:20240805T200615Z
LAST-MODIFIED:20240805T200625Z
UID:10001557-1726680600-1726686000@uicsl.org
SUMMARY:Dine' Bizaad
DESCRIPTION:Presented by Rebalancing Culture \nWe invite you to participate in our six-week workshop designed to support and guide you through our Advanced Navajo Language workshop. \n\nYouth: Ages 5-12\nTeen/Adult: Ages 13+\nSpace is Limited\nRegistration Required\n\nRegister here\n\n\n\nEveryone welcome to attend \nQuestions or RSVP: Rhonda DuVall (801)214-7668 or rduvall@uicsl.org \nSpecial thank you to Cambia Health Foundation and their partnership to make our events and programs possible. 
URL:https://uicsl.org/event/dine-bizaad-2/2024-09-18/
LOCATION:Flat Iron Mesa Park\, 1765 E 8600 S\, Sandy\, UT\, 84093\, United States
ATTACH;FMTTYPE=image/png:https://uicsl.org/wp-content/uploads/2024/08/ADVANCED-Dine-Bizaad.png
END:VEVENT
BEGIN:VEVENT
DTSTART;TZID=America/Denver:20240918T180000
DTEND;TZID=America/Denver:20240918T190000
DTSTAMP:20260421T182430
CREATED:20240603T221746Z
LAST-MODIFIED:20241120T163303Z
UID:10001495-1726682400-1726686000@uicsl.org
SUMMARY:In The Steps of Our Ancestors Running Group
DESCRIPTION:In The Steps of Our Ancestors Running Group \nAll experience levels welcome \n\nkids ages 10+ welcome\nParent/guardian supervision required\nStrollers welcome
URL:https://uicsl.org/event/in-the-steps-of-our-ancestors-running-group-5/2024-09-18/
LOCATION:Utah Olympic Oval Indoor Track\, 5662 South Cougar Lane (4800 West)\, Salt Lake City\, Utah\, 84118
ATTACH;FMTTYPE=image/png:https://uicsl.org/wp-content/uploads/2024/06/Winter-Indoor-Running-1.png
END:VEVENT
END:VCALENDAR