BEGIN:VCALENDAR
VERSION:2.0
PRODID:-//Urban Indian Center of Salt Lake - ECPv6.15.20//NONSGML v1.0//EN
CALSCALE:GREGORIAN
METHOD:PUBLISH
X-ORIGINAL-URL:https://uicsl.org
X-WR-CALDESC:Events for Urban Indian Center of Salt Lake
REFRESH-INTERVAL;VALUE=DURATION:PT1H
X-Robots-Tag:noindex
X-PUBLISHED-TTL:PT1H
BEGIN:VTIMEZONE
TZID:America/Denver
BEGIN:DAYLIGHT
TZOFFSETFROM:-0700
TZOFFSETTO:-0600
TZNAME:MDT
DTSTART:20230312T090000
END:DAYLIGHT
BEGIN:STANDARD
TZOFFSETFROM:-0600
TZOFFSETTO:-0700
TZNAME:MST
DTSTART:20231105T080000
END:STANDARD
BEGIN:DAYLIGHT
TZOFFSETFROM:-0700
TZOFFSETTO:-0600
TZNAME:MDT
DTSTART:20240310T090000
END:DAYLIGHT
BEGIN:STANDARD
TZOFFSETFROM:-0600
TZOFFSETTO:-0700
TZNAME:MST
DTSTART:20241103T080000
END:STANDARD
BEGIN:DAYLIGHT
TZOFFSETFROM:-0700
TZOFFSETTO:-0600
TZNAME:MDT
DTSTART:20250309T090000
END:DAYLIGHT
BEGIN:STANDARD
TZOFFSETFROM:-0600
TZOFFSETTO:-0700
TZNAME:MST
DTSTART:20251102T080000
END:STANDARD
END:VTIMEZONE
BEGIN:VEVENT
DTSTART;TZID=America/Denver:20240913T083000
DTEND;TZID=America/Denver:20240913T170000
DTSTAMP:20260421T105317
CREATED:20240805T203049Z
LAST-MODIFIED:20240812T221015Z
UID:10001567-1726216200-1726246800@uicsl.org
SUMMARY:Share the Warmth Donation Drive
DESCRIPTION:Donation Drive for New & Gently Used items as well as new hygiene/cleaning/food items \n  \nContact: Heather (385) 867-7741
URL:https://uicsl.org/event/share-the-warmth-donation-drive/2024-09-13/
LOCATION:Flat Iron Mesa Park\, 1765 E 8600 S\, Sandy\, UT\, 84093\, United States
ATTACH;FMTTYPE=image/png:https://uicsl.org/wp-content/uploads/2024/08/donation_drive_flyer.pdf-2.png
END:VEVENT
BEGIN:VEVENT
DTSTART;TZID=America/Denver:20240913T120000
DTEND;TZID=America/Denver:20240913T140000
DTSTAMP:20260421T105317
CREATED:20240904T205404Z
LAST-MODIFIED:20240904T211401Z
UID:10001589-1726228800-1726236000@uicsl.org
SUMMARY:Elders Corner Meeting
DESCRIPTION:For Native elder 50+ \nSept 13: Rethink your drink – Traditional Tea Party \nSept 27: Talking Circle – “Boarding School Healing” \nQuestions: Anita (801) 828-8524 \nMust be a registered client of UICSL.
URL:https://uicsl.org/event/elders-corner-meeting-24/
LOCATION:Flat Iron Mesa Park\, 1765 E 8600 S\, Sandy\, UT\, 84093\, United States
ATTACH;FMTTYPE=image/png:https://uicsl.org/wp-content/uploads/2024/09/September-Flyer.png
END:VEVENT
END:VCALENDAR