BEGIN:VCALENDAR
VERSION:2.0
PRODID:-//Urban Indian Center of Salt Lake - ECPv6.15.20//NONSGML v1.0//EN
CALSCALE:GREGORIAN
METHOD:PUBLISH
X-WR-CALNAME:Urban Indian Center of Salt Lake
X-ORIGINAL-URL:https://uicsl.org
X-WR-CALDESC:Events for Urban Indian Center of Salt Lake
REFRESH-INTERVAL;VALUE=DURATION:PT1H
X-Robots-Tag:noindex
X-PUBLISHED-TTL:PT1H
BEGIN:VTIMEZONE
TZID:America/Denver
BEGIN:DAYLIGHT
TZOFFSETFROM:-0700
TZOFFSETTO:-0600
TZNAME:MDT
DTSTART:20230312T090000
END:DAYLIGHT
BEGIN:STANDARD
TZOFFSETFROM:-0600
TZOFFSETTO:-0700
TZNAME:MST
DTSTART:20231105T080000
END:STANDARD
BEGIN:DAYLIGHT
TZOFFSETFROM:-0700
TZOFFSETTO:-0600
TZNAME:MDT
DTSTART:20240310T090000
END:DAYLIGHT
BEGIN:STANDARD
TZOFFSETFROM:-0600
TZOFFSETTO:-0700
TZNAME:MST
DTSTART:20241103T080000
END:STANDARD
BEGIN:DAYLIGHT
TZOFFSETFROM:-0700
TZOFFSETTO:-0600
TZNAME:MDT
DTSTART:20250309T090000
END:DAYLIGHT
BEGIN:STANDARD
TZOFFSETFROM:-0600
TZOFFSETTO:-0700
TZNAME:MST
DTSTART:20251102T080000
END:STANDARD
END:VTIMEZONE
BEGIN:VEVENT
DTSTART;TZID=America/Denver:20240912T083000
DTEND;TZID=America/Denver:20240912T130000
DTSTAMP:20260421T182430
CREATED:20240109T230329Z
LAST-MODIFIED:20250930T191049Z
UID:10001343-1726129800-1726146000@uicsl.org
SUMMARY:CLOSED until 1:00 PM
DESCRIPTION:We are closed until 1:00 PM \nRegular business hours resume Friday.
URL:https://uicsl.org/event/closed-until-100-pm-11/2024-09-12/
LOCATION:UT
ATTACH;FMTTYPE=image/png:https://uicsl.org/wp-content/uploads/2025/09/10-9-25_Staff-Meeting-Closure.png
END:VEVENT
BEGIN:VEVENT
DTSTART;TZID=America/Denver:20240912T083000
DTEND;TZID=America/Denver:20240912T170000
DTSTAMP:20260421T182430
CREATED:20240805T203049Z
LAST-MODIFIED:20240812T221015Z
UID:10001566-1726129800-1726160400@uicsl.org
SUMMARY:Share the Warmth Donation Drive
DESCRIPTION:Donation Drive for New & Gently Used items as well as new hygiene/cleaning/food items \n  \nContact: Heather (385) 867-7741
URL:https://uicsl.org/event/share-the-warmth-donation-drive/2024-09-12/
LOCATION:Flat Iron Mesa Park\, 1765 E 8600 S\, Sandy\, UT\, 84093\, United States
ATTACH;FMTTYPE=image/png:https://uicsl.org/wp-content/uploads/2024/08/donation_drive_flyer.pdf-2.png
END:VEVENT
BEGIN:VEVENT
DTSTART;TZID=America/Denver:20240912T180000
DTEND;TZID=America/Denver:20240912T193000
DTSTAMP:20260421T182430
CREATED:20240906T224811Z
LAST-MODIFIED:20240906T232414Z
UID:10001593-1726164000-1726169400@uicsl.org
SUMMARY:All Nations Yoga Circle
DESCRIPTION:RSVP at the link below \nYoga Mats to the first 20 participants to RSVP \nWater Bottles to the first 12 participants to RSVP and bring a friend \nFood Provided \nMore Information: Moriah (801)889-7244 \n  \nLocated on south side of park (Parley\, s Trail\, Salt Lake City\, UT 84106)
URL:https://uicsl.org/event/all-nations-yoga-circle/
LOCATION:Sugar House Park – Sego Lilly Pavilion\, 1330 East 2100 South\, Salt Lake City\, Utah\, 84106
ATTACH;FMTTYPE=image/png:https://uicsl.org/wp-content/uploads/2024/09/Yoga-Circle-1.png
END:VEVENT
END:VCALENDAR