BEGIN:VCALENDAR
VERSION:2.0
PRODID:-//Urban Indian Center of Salt Lake - ECPv6.15.20//NONSGML v1.0//EN
CALSCALE:GREGORIAN
METHOD:PUBLISH
X-WR-CALNAME:Urban Indian Center of Salt Lake
X-ORIGINAL-URL:https://uicsl.org
X-WR-CALDESC:Events for Urban Indian Center of Salt Lake
REFRESH-INTERVAL;VALUE=DURATION:PT1H
X-Robots-Tag:noindex
X-PUBLISHED-TTL:PT1H
BEGIN:VTIMEZONE
TZID:America/Denver
BEGIN:DAYLIGHT
TZOFFSETFROM:-0700
TZOFFSETTO:-0600
TZNAME:MDT
DTSTART:20230312T090000
END:DAYLIGHT
BEGIN:STANDARD
TZOFFSETFROM:-0600
TZOFFSETTO:-0700
TZNAME:MST
DTSTART:20231105T080000
END:STANDARD
BEGIN:DAYLIGHT
TZOFFSETFROM:-0700
TZOFFSETTO:-0600
TZNAME:MDT
DTSTART:20240310T090000
END:DAYLIGHT
BEGIN:STANDARD
TZOFFSETFROM:-0600
TZOFFSETTO:-0700
TZNAME:MST
DTSTART:20241103T080000
END:STANDARD
BEGIN:DAYLIGHT
TZOFFSETFROM:-0700
TZOFFSETTO:-0600
TZNAME:MDT
DTSTART:20250309T090000
END:DAYLIGHT
BEGIN:STANDARD
TZOFFSETFROM:-0600
TZOFFSETTO:-0700
TZNAME:MST
DTSTART:20251102T080000
END:STANDARD
END:VTIMEZONE
BEGIN:VEVENT
DTSTART;TZID=America/Denver:20240805T173000
DTEND;TZID=America/Denver:20240805T193000
DTSTAMP:20260421T075303
CREATED:20240731T183703Z
LAST-MODIFIED:20240802T000359Z
UID:10001551-1722879000-1722886200@uicsl.org
SUMMARY:Cooking In Indian Country
DESCRIPTION:Chef Lloyd George started his culinary journey at just 15 years old and has since trained at the prestigious Le Cordon Bleu. With a wealth of experience cooking across the United States\, Chef George brings a wealth of knowledge and passion to the kitchen. \nDon’t miss this chance to learn from a top chef! Sign up today for a cooking class with Chef Lloyd George at the Urban Indian Center of Salt Lake. \nJoin us for an unforgettable culinary experience and take your cooking skills to the next level. \n\nSpace is limited\nRSVP required to attend\n\nRSVP by calling Kristie at 801-214-7667 \nMust be a registered client of UICSL
URL:https://uicsl.org/event/cooking-in-indian-country-4/
LOCATION:Flat Iron Mesa Park\, 1765 E 8600 S\, Sandy\, UT\, 84093\, United States
ATTACH;FMTTYPE=image/png:https://uicsl.org/wp-content/uploads/2024/07/Native-Chef-Cooking-Series-2.png
END:VEVENT
END:VCALENDAR