BEGIN:VCALENDAR
VERSION:2.0
PRODID:-//Urban Indian Center of Salt Lake - ECPv6.15.20//NONSGML v1.0//EN
CALSCALE:GREGORIAN
METHOD:PUBLISH
X-ORIGINAL-URL:https://uicsl.org
X-WR-CALDESC:Events for Urban Indian Center of Salt Lake
REFRESH-INTERVAL;VALUE=DURATION:PT1H
X-Robots-Tag:noindex
X-PUBLISHED-TTL:PT1H
BEGIN:VTIMEZONE
TZID:America/Denver
BEGIN:DAYLIGHT
TZOFFSETFROM:-0700
TZOFFSETTO:-0600
TZNAME:MDT
DTSTART:20230312T090000
END:DAYLIGHT
BEGIN:STANDARD
TZOFFSETFROM:-0600
TZOFFSETTO:-0700
TZNAME:MST
DTSTART:20231105T080000
END:STANDARD
BEGIN:DAYLIGHT
TZOFFSETFROM:-0700
TZOFFSETTO:-0600
TZNAME:MDT
DTSTART:20240310T090000
END:DAYLIGHT
BEGIN:STANDARD
TZOFFSETFROM:-0600
TZOFFSETTO:-0700
TZNAME:MST
DTSTART:20241103T080000
END:STANDARD
BEGIN:DAYLIGHT
TZOFFSETFROM:-0700
TZOFFSETTO:-0600
TZNAME:MDT
DTSTART:20250309T090000
END:DAYLIGHT
BEGIN:STANDARD
TZOFFSETFROM:-0600
TZOFFSETTO:-0700
TZNAME:MST
DTSTART:20251102T080000
END:STANDARD
END:VTIMEZONE
BEGIN:VEVENT
DTSTART;TZID=America/Denver:20240717T060000
DTEND;TZID=America/Denver:20240717T190000
DTSTAMP:20260421T050238
CREATED:20240713T173315Z
LAST-MODIFIED:20240713T173338Z
UID:10001271-1721196000-1721242800@uicsl.org
SUMMARY:Meet & Greet
DESCRIPTION:Keynote Speaker: Verna Volker \nJoin us to hear Verna\, Founder of Native Women Running\, share how choosing a healthy lifestyle helped unbelievable dreams come true. \n  \nEveryone invited\, Do not have to be a registered client of UICSL. \nQuestions: Moriah (801) 889-7244 \n 
URL:https://uicsl.org/event/meet-greet/
LOCATION:Flat Iron Mesa Park\, 1765 E 8600 S\, Sandy\, UT\, 84093\, United States
ATTACH;FMTTYPE=image/png:https://uicsl.org/wp-content/uploads/2024/07/Meet-Greet-Verna-Volker.png
END:VEVENT
BEGIN:VEVENT
DTSTART;TZID=America/Denver:20240717T083000
DTEND;TZID=America/Denver:20240717T170000
DTSTAMP:20260421T050238
CREATED:20240606T003832Z
LAST-MODIFIED:20240702T203818Z
UID:10001522-1721205000-1721235600@uicsl.org
SUMMARY:Food Drive
DESCRIPTION:Canned & Non Perishables Only \nDrop off: \nUrban Indian Center of Salt Lake\n120 West 1300 South\nMonday-Friday\n8:30 AM – 5:00 PM\nQuestions: Heather Molyneaux (385) 509-3790
URL:https://uicsl.org/event/food-drive/2024-07-17/
LOCATION:Flat Iron Mesa Park\, 1765 E 8600 S\, Sandy\, UT\, 84093\, United States
ATTACH;FMTTYPE=image/png:https://uicsl.org/wp-content/uploads/2024/06/Food-Drive.png
END:VEVENT
END:VCALENDAR