BEGIN:VCALENDAR
VERSION:2.0
PRODID:-//Urban Indian Center of Salt Lake - ECPv6.15.20//NONSGML v1.0//EN
CALSCALE:GREGORIAN
METHOD:PUBLISH
X-ORIGINAL-URL:https://uicsl.org
X-WR-CALDESC:Events for Urban Indian Center of Salt Lake
REFRESH-INTERVAL;VALUE=DURATION:PT1H
X-Robots-Tag:noindex
X-PUBLISHED-TTL:PT1H
BEGIN:VTIMEZONE
TZID:America/Denver
BEGIN:DAYLIGHT
TZOFFSETFROM:-0700
TZOFFSETTO:-0600
TZNAME:MDT
DTSTART:20230312T090000
END:DAYLIGHT
BEGIN:STANDARD
TZOFFSETFROM:-0600
TZOFFSETTO:-0700
TZNAME:MST
DTSTART:20231105T080000
END:STANDARD
BEGIN:DAYLIGHT
TZOFFSETFROM:-0700
TZOFFSETTO:-0600
TZNAME:MDT
DTSTART:20240310T090000
END:DAYLIGHT
BEGIN:STANDARD
TZOFFSETFROM:-0600
TZOFFSETTO:-0700
TZNAME:MST
DTSTART:20241103T080000
END:STANDARD
BEGIN:DAYLIGHT
TZOFFSETFROM:-0700
TZOFFSETTO:-0600
TZNAME:MDT
DTSTART:20250309T090000
END:DAYLIGHT
BEGIN:STANDARD
TZOFFSETFROM:-0600
TZOFFSETTO:-0700
TZNAME:MST
DTSTART:20251102T080000
END:STANDARD
END:VTIMEZONE
BEGIN:VEVENT
DTSTART;TZID=America/Denver:20240712T083000
DTEND;TZID=America/Denver:20240712T170000
DTSTAMP:20260420T072817
CREATED:20240606T003832Z
LAST-MODIFIED:20240702T203818Z
UID:10001519-1720773000-1720803600@uicsl.org
SUMMARY:Food Drive
DESCRIPTION:Canned & Non Perishables Only \nDrop off: \nUrban Indian Center of Salt Lake\n120 West 1300 South\nMonday-Friday\n8:30 AM – 5:00 PM\nQuestions: Heather Molyneaux (385) 509-3790
URL:https://uicsl.org/event/food-drive/2024-07-12/
LOCATION:Flat Iron Mesa Park\, 1765 E 8600 S\, Sandy\, UT\, 84093\, United States
ATTACH;FMTTYPE=image/png:https://uicsl.org/wp-content/uploads/2024/06/Food-Drive.png
END:VEVENT
BEGIN:VEVENT
DTSTART;TZID=America/Denver:20240712T090000
DTEND;TZID=America/Denver:20240712T170000
DTSTAMP:20260420T072817
CREATED:20240404T162912Z
LAST-MODIFIED:20240709T184549Z
UID:10001436-1720774800-1720803600@uicsl.org
SUMMARY:Free Mammography
DESCRIPTION:for ages 40+ \nQuestions or to schedule an appointment by calling (801) 486-4877
URL:https://uicsl.org/event/free-mammography/2024-07-12/
LOCATION:Flat Iron Mesa Park\, 1765 E 8600 S\, Sandy\, UT\, 84093\, United States
ATTACH;FMTTYPE=image/png:https://uicsl.org/wp-content/uploads/2024/04/Mammography-flyer-3.png
END:VEVENT
BEGIN:VEVENT
DTSTART;TZID=America/Denver:20240712T120000
DTEND;TZID=America/Denver:20240712T140000
DTSTAMP:20260420T072817
CREATED:20240709T161244Z
LAST-MODIFIED:20240709T161902Z
UID:10001254-1720785600-1720792800@uicsl.org
SUMMARY:Elders Corner Meeting
DESCRIPTION:For Native Elders 50+ \n\nRSVP Required to Attend both events\n\nRSVP to Anita (801) 828-8524\n\n\n\nJuly 12:  \nTalking circle: Boarding School Healing \nMust be a registered client of UICSL.
URL:https://uicsl.org/event/elders-corner-meeting-22/
LOCATION:Flat Iron Mesa Park\, 1765 E 8600 S\, Sandy\, UT\, 84093\, United States
ATTACH;FMTTYPE=image/png:https://uicsl.org/wp-content/uploads/2024/07/July-EC-flyer-1.png
END:VEVENT
BEGIN:VEVENT
DTSTART;TZID=America/Denver:20240712T160000
DTEND;TZID=America/Denver:20240712T180000
DTSTAMP:20260420T072817
CREATED:20240622T013058Z
LAST-MODIFIED:20240622T013206Z
UID:10001528-1720800000-1720807200@uicsl.org
SUMMARY:Videography Workshop
DESCRIPTION:Presented by Rebalancing Culture \nJoin us for a three-part workshop focusing on the basics of videography. \n\nYouth: Ages 12-16\nLimited Space\nFirst Come\, First Serve\nRegistration Required\n\nRSVP HERE\n\n\n\nQuestions or RSVP: Rhonda DuVall (801) 214-7668 or rduvall@uicsl.org \nSponsored by: Syphop Youth Media Matters and Cambia Health Foundation
URL:https://uicsl.org/event/videography-workshop/2024-07-12/
LOCATION:UT
ATTACH;FMTTYPE=image/png:https://uicsl.org/wp-content/uploads/2024/06/Video-WORKSHOP-6.png
END:VEVENT
END:VCALENDAR