BEGIN:VCALENDAR
VERSION:2.0
PRODID:-//Urban Indian Center of Salt Lake - ECPv6.15.20//NONSGML v1.0//EN
CALSCALE:GREGORIAN
METHOD:PUBLISH
X-ORIGINAL-URL:https://uicsl.org
X-WR-CALDESC:Events for Urban Indian Center of Salt Lake
REFRESH-INTERVAL;VALUE=DURATION:PT1H
X-Robots-Tag:noindex
X-PUBLISHED-TTL:PT1H
BEGIN:VTIMEZONE
TZID:America/Denver
BEGIN:DAYLIGHT
TZOFFSETFROM:-0700
TZOFFSETTO:-0600
TZNAME:MDT
DTSTART:20230312T090000
END:DAYLIGHT
BEGIN:STANDARD
TZOFFSETFROM:-0600
TZOFFSETTO:-0700
TZNAME:MST
DTSTART:20231105T080000
END:STANDARD
BEGIN:DAYLIGHT
TZOFFSETFROM:-0700
TZOFFSETTO:-0600
TZNAME:MDT
DTSTART:20240310T090000
END:DAYLIGHT
BEGIN:STANDARD
TZOFFSETFROM:-0600
TZOFFSETTO:-0700
TZNAME:MST
DTSTART:20241103T080000
END:STANDARD
BEGIN:DAYLIGHT
TZOFFSETFROM:-0700
TZOFFSETTO:-0600
TZNAME:MDT
DTSTART:20250309T090000
END:DAYLIGHT
BEGIN:STANDARD
TZOFFSETFROM:-0600
TZOFFSETTO:-0700
TZNAME:MST
DTSTART:20251102T080000
END:STANDARD
END:VTIMEZONE
BEGIN:VEVENT
DTSTART;TZID=America/Denver:20240711T083000
DTEND;TZID=America/Denver:20240711T130000
DTSTAMP:20260420T072818
CREATED:20240109T230329Z
LAST-MODIFIED:20250930T191049Z
UID:10001341-1720686600-1720702800@uicsl.org
SUMMARY:CLOSED until 1:00 PM
DESCRIPTION:We are closed until 1:00 PM \nRegular business hours resume Friday.
URL:https://uicsl.org/event/closed-until-100-pm-11/2024-07-11/
LOCATION:UT
ATTACH;FMTTYPE=image/png:https://uicsl.org/wp-content/uploads/2025/09/10-9-25_Staff-Meeting-Closure.png
END:VEVENT
BEGIN:VEVENT
DTSTART;TZID=America/Denver:20240711T083000
DTEND;TZID=America/Denver:20240711T170000
DTSTAMP:20260420T072818
CREATED:20240606T003832Z
LAST-MODIFIED:20240702T203818Z
UID:10001518-1720686600-1720717200@uicsl.org
SUMMARY:Food Drive
DESCRIPTION:Canned & Non Perishables Only \nDrop off: \nUrban Indian Center of Salt Lake\n120 West 1300 South\nMonday-Friday\n8:30 AM – 5:00 PM\nQuestions: Heather Molyneaux (385) 509-3790
URL:https://uicsl.org/event/food-drive/2024-07-11/
LOCATION:Flat Iron Mesa Park\, 1765 E 8600 S\, Sandy\, UT\, 84093\, United States
ATTACH;FMTTYPE=image/png:https://uicsl.org/wp-content/uploads/2024/06/Food-Drive.png
END:VEVENT
BEGIN:VEVENT
DTSTART;TZID=America/Denver:20240711T100000
DTEND;TZID=America/Denver:20240711T160000
DTSTAMP:20260420T072818
CREATED:20240626T064456Z
LAST-MODIFIED:20240626T064508Z
UID:10001537-1720692000-1720713600@uicsl.org
SUMMARY:Summer Teen Program
DESCRIPTION:For Native youth grades 7-11 \nLimited space available \nActivities: \n\nFun Crafts\nField Trips\nDrawing\nSculpting\nCanvas Painting\nand More\n\nCall Tetona today to sign up at (801) 214-7662 or tlonghair@uicsl.org \nMust be a registered client of UICSL
URL:https://uicsl.org/event/summer-teen-program/2024-07-11/
LOCATION:Flat Iron Mesa Park\, 1765 E 8600 S\, Sandy\, UT\, 84093\, United States
ATTACH;FMTTYPE=image/png:https://uicsl.org/wp-content/uploads/2024/06/Teen-summer-program-.png
END:VEVENT
BEGIN:VEVENT
DTSTART;TZID=America/Denver:20240711T183000
DTEND;TZID=America/Denver:20240711T193000
DTSTAMP:20260420T072818
CREATED:20240701T210454Z
LAST-MODIFIED:20240701T210454Z
UID:10001539-1720722600-1720726200@uicsl.org
SUMMARY:Fitness Thursday: Strength Training-Self Defense
DESCRIPTION:Starting July 11 and continue for 8 weeks. \n\nRSVP Required\, click here\n\n20 Spots Available\nFirst Come\, First Serve\nMust Attend All Classes\n\n\nAges 13+\n\nAll Genders Welcome\n\n\n\nMember of household must be a registered client of UICSL.
URL:https://uicsl.org/event/fitness-thursday-strength-training-self-defense/2024-07-11/
LOCATION:Flat Iron Mesa Park\, 1765 E 8600 S\, Sandy\, UT\, 84093\, United States
ATTACH;FMTTYPE=image/png:https://uicsl.org/wp-content/uploads/2024/07/strength-training.png
END:VEVENT
END:VCALENDAR