BEGIN:VCALENDAR
VERSION:2.0
PRODID:-//Urban Indian Center of Salt Lake - ECPv6.15.20//NONSGML v1.0//EN
CALSCALE:GREGORIAN
METHOD:PUBLISH
X-WR-CALNAME:Urban Indian Center of Salt Lake
X-ORIGINAL-URL:https://uicsl.org
X-WR-CALDESC:Events for Urban Indian Center of Salt Lake
REFRESH-INTERVAL;VALUE=DURATION:PT1H
X-Robots-Tag:noindex
X-PUBLISHED-TTL:PT1H
BEGIN:VTIMEZONE
TZID:America/Denver
BEGIN:DAYLIGHT
TZOFFSETFROM:-0700
TZOFFSETTO:-0600
TZNAME:MDT
DTSTART:20230312T090000
END:DAYLIGHT
BEGIN:STANDARD
TZOFFSETFROM:-0600
TZOFFSETTO:-0700
TZNAME:MST
DTSTART:20231105T080000
END:STANDARD
BEGIN:DAYLIGHT
TZOFFSETFROM:-0700
TZOFFSETTO:-0600
TZNAME:MDT
DTSTART:20240310T090000
END:DAYLIGHT
BEGIN:STANDARD
TZOFFSETFROM:-0600
TZOFFSETTO:-0700
TZNAME:MST
DTSTART:20241103T080000
END:STANDARD
BEGIN:DAYLIGHT
TZOFFSETFROM:-0700
TZOFFSETTO:-0600
TZNAME:MDT
DTSTART:20250309T090000
END:DAYLIGHT
BEGIN:STANDARD
TZOFFSETFROM:-0600
TZOFFSETTO:-0700
TZNAME:MST
DTSTART:20251102T080000
END:STANDARD
END:VTIMEZONE
BEGIN:VEVENT
DTSTART;TZID=America/Denver:20240223T120000
DTEND;TZID=America/Denver:20240223T140000
DTSTAMP:20260420T104303
CREATED:20240209T163359Z
LAST-MODIFIED:20240212T151737Z
UID:10001382-1708689600-1708696800@uicsl.org
SUMMARY:Elders Corner
DESCRIPTION:For Native Elders 50+ \n\nFriday\, Feb 9: Bingo\nFriday\, February 23: Raw Hide Parfleche Pouch with Shelby Chapoose (Ute)\n\nRSVP required to attend\n\n\n\nRSVP: Anita (801)828-8524 \nMust be a registered client of Urban Indian Center of Salt Lake
URL:https://uicsl.org/event/elders-corner/2024-02-23/
LOCATION:Flat Iron Mesa Park\, 1765 E 8600 S\, Sandy\, UT\, 84093\, United States
ATTACH;FMTTYPE=image/png:https://uicsl.org/wp-content/uploads/2024/02/Elders-Corner-Meeting.png
END:VEVENT
BEGIN:VEVENT
DTSTART;TZID=America/Denver:20240223T180000
DTEND;TZID=America/Denver:20240223T200000
DTSTAMP:20260420T104303
CREATED:20240108T221144Z
LAST-MODIFIED:20240125T193200Z
UID:10001334-1708711200-1708718400@uicsl.org
SUMMARY:Rebalancing Culture: Introduction to Beading
DESCRIPTION:3 class workshop designed for beginners (Ages 13+) \n\nLimited space available\nfirst come\, first serve\n\nQuestions Rhonda DuVall (801)214-7668 or rduvall@uicsl.org \n  \nFebruary 2: Introduction Supply Preparation \nFebruary 9: Beginning to art of beading \nFebruary 23: Project Completion
URL:https://uicsl.org/event/introduction-to-beading/2024-02-23/
LOCATION:Flat Iron Mesa Park\, 1765 E 8600 S\, Sandy\, UT\, 84093\, United States
ATTACH;FMTTYPE=image/png:https://uicsl.org/wp-content/uploads/2024/01/FEBRUARY-Intro-to-Beading.png
END:VEVENT
BEGIN:VEVENT
DTSTART;TZID=America/Denver:20240223T180000
DTEND;TZID=America/Denver:20240223T200000
DTSTAMP:20260420T104303
CREATED:20240214T181944Z
LAST-MODIFIED:20240214T181944Z
UID:10001159-1708711200-1708718400@uicsl.org
SUMMARY:Native Youth Support Group
DESCRIPTION:Appreciating Our Loved Ones! \nJoin Native Youth Support Group to create Appreciation Cards for loved ones and make Blue Corn Cookies to keep or share. \nRSVP by clicking here. \n  \nMust be a registered client of live within the same household of a registered client of the Urban Indian Center of Salt Lake. 
URL:https://uicsl.org/event/native-youth-support-group-3/
LOCATION:Flat Iron Mesa Park\, 1765 E 8600 S\, Sandy\, UT\, 84093\, United States
ATTACH;FMTTYPE=image/png:https://uicsl.org/wp-content/uploads/2024/02/NYSG-Valentines-Day-Activity.png
END:VEVENT
END:VCALENDAR