BEGIN:VCALENDAR
VERSION:2.0
PRODID:-//Urban Indian Center of Salt Lake - ECPv6.15.20//NONSGML v1.0//EN
CALSCALE:GREGORIAN
METHOD:PUBLISH
X-ORIGINAL-URL:https://uicsl.org
X-WR-CALDESC:Events for Urban Indian Center of Salt Lake
REFRESH-INTERVAL;VALUE=DURATION:PT1H
X-Robots-Tag:noindex
X-PUBLISHED-TTL:PT1H
BEGIN:VTIMEZONE
TZID:America/Denver
BEGIN:DAYLIGHT
TZOFFSETFROM:-0700
TZOFFSETTO:-0600
TZNAME:MDT
DTSTART:20230312T090000
END:DAYLIGHT
BEGIN:STANDARD
TZOFFSETFROM:-0600
TZOFFSETTO:-0700
TZNAME:MST
DTSTART:20231105T080000
END:STANDARD
BEGIN:DAYLIGHT
TZOFFSETFROM:-0700
TZOFFSETTO:-0600
TZNAME:MDT
DTSTART:20240310T090000
END:DAYLIGHT
BEGIN:STANDARD
TZOFFSETFROM:-0600
TZOFFSETTO:-0700
TZNAME:MST
DTSTART:20241103T080000
END:STANDARD
BEGIN:DAYLIGHT
TZOFFSETFROM:-0700
TZOFFSETTO:-0600
TZNAME:MDT
DTSTART:20250309T090000
END:DAYLIGHT
BEGIN:STANDARD
TZOFFSETFROM:-0600
TZOFFSETTO:-0700
TZNAME:MST
DTSTART:20251102T080000
END:STANDARD
END:VTIMEZONE
BEGIN:VEVENT
DTSTART;TZID=America/Denver:20240216T080000
DTEND;TZID=America/Denver:20240216T120000
DTSTAMP:20260420T185426
CREATED:20240215T151016Z
LAST-MODIFIED:20240215T151048Z
UID:10001163-1708070400-1708084800@uicsl.org
SUMMARY:Navajo Nation Resource Fair
DESCRIPTION:THE NAVAJO FAMILY RESOURCE FAIR SERIES IS DESIGNED TO SHOWCASE\, EDUCATE\, AND INFORM URBAN DINÉ RELATIVES OF NAVAJO NATION \nInquire about the Navajo Homeowner Assistance Fund! \n\n Who can apply and what is the application process.\n\n  \nSpeak with Navajo Nation staff members! \n\nSpeak directly with staff members from the Navajo Office of Vital Records\, the Navajo Department of Workforce Development\,\nthe Navajo Division of Social Services\, and more…\n\n  \nNetwork among community members! \n\nSpecial Appearances by Navajo Nation President\, Dr. Buu Nygren and local leaders\n\nMore information call (928) 871-6851 \nAgenda:
URL:https://uicsl.org/event/navajo-nation-resource-fair/2024-02-16/
LOCATION:Utah Division of Indian Affairs\, 250 North 1950 West\, Salt Lake City\, UT\, 84116
ATTACH;FMTTYPE=image/png:https://uicsl.org/wp-content/uploads/2024/02/NavajoFamilyResourceFair.UT_.Flyer_.png
END:VEVENT
BEGIN:VEVENT
DTSTART;TZID=America/Denver:20240216T100000
DTEND;TZID=America/Denver:20240216T140000
DTSTAMP:20260420T185426
CREATED:20240212T150126Z
LAST-MODIFIED:20240212T150126Z
UID:10001141-1708077600-1708092000@uicsl.org
SUMMARY:Westminster Tax Clinic
DESCRIPTION:VITA Tax Clinic will be available at UICSL for free tax prep and e-filing!
URL:https://uicsl.org/event/westminster-tax-clinic/
LOCATION:Flat Iron Mesa Park\, 1765 E 8600 S\, Sandy\, UT\, 84093\, United States
ATTACH;FMTTYPE=image/png:https://uicsl.org/wp-content/uploads/2024/02/UICSL-Travelling-Clinic-Friday.png
END:VEVENT
BEGIN:VEVENT
DTSTART;TZID=America/Denver:20240216T170000
DTEND;TZID=America/Denver:20240216T190000
DTSTAMP:20260420T185426
CREATED:20240125T193456Z
LAST-MODIFIED:20240129T201359Z
UID:10001363-1708102800-1708110000@uicsl.org
SUMMARY:All Recovery Speaker Meeting with Derwin McCabe
DESCRIPTION:Derwin is a Navajo Nation tribal member from Leupp\, Arizona who has lived in Salt Lake City\, Utah for the last 13 years. As a member of the recovery community\, he has dedicated 9 years of his life to his healing journey. He has been an employee of the Native American Trading Post for 9 years\, sharing his voice of recovery. Please join us and listen to Derwin share his story of Hope\, Healing and Recovery. \nEveryone Welcome. \n*Alcohol and Drug Free Event \n 
URL:https://uicsl.org/event/all-recovery-speaker-meeting-with-derwin-mccabe/
LOCATION:Flat Iron Mesa Park\, 1765 E 8600 S\, Sandy\, UT\, 84093\, United States
ATTACH;FMTTYPE=image/png:https://uicsl.org/wp-content/uploads/2024/01/All-Recovery-Speaker-Meeting-1.png
END:VEVENT
END:VCALENDAR