BEGIN:VCALENDAR
VERSION:2.0
PRODID:-//Urban Indian Center of Salt Lake - ECPv6.15.20//NONSGML v1.0//EN
CALSCALE:GREGORIAN
METHOD:PUBLISH
X-WR-CALNAME:Urban Indian Center of Salt Lake
X-ORIGINAL-URL:https://uicsl.org
X-WR-CALDESC:Events for Urban Indian Center of Salt Lake
REFRESH-INTERVAL;VALUE=DURATION:PT1H
X-Robots-Tag:noindex
X-PUBLISHED-TTL:PT1H
BEGIN:VTIMEZONE
TZID:America/Denver
BEGIN:DAYLIGHT
TZOFFSETFROM:-0700
TZOFFSETTO:-0600
TZNAME:MDT
DTSTART:20220313T090000
END:DAYLIGHT
BEGIN:STANDARD
TZOFFSETFROM:-0600
TZOFFSETTO:-0700
TZNAME:MST
DTSTART:20221106T080000
END:STANDARD
BEGIN:DAYLIGHT
TZOFFSETFROM:-0700
TZOFFSETTO:-0600
TZNAME:MDT
DTSTART:20230312T090000
END:DAYLIGHT
BEGIN:STANDARD
TZOFFSETFROM:-0600
TZOFFSETTO:-0700
TZNAME:MST
DTSTART:20231105T080000
END:STANDARD
BEGIN:DAYLIGHT
TZOFFSETFROM:-0700
TZOFFSETTO:-0600
TZNAME:MDT
DTSTART:20240310T090000
END:DAYLIGHT
BEGIN:STANDARD
TZOFFSETFROM:-0600
TZOFFSETTO:-0700
TZNAME:MST
DTSTART:20241103T080000
END:STANDARD
END:VTIMEZONE
BEGIN:VEVENT
DTSTART;TZID=America/Denver:20231117T173000
DTEND;TZID=America/Denver:20231117T193000
DTSTAMP:20260421T105112
CREATED:20231006T202027Z
LAST-MODIFIED:20231030T171043Z
UID:10001258-1700242200-1700249400@uicsl.org
SUMMARY:Native Youth Support Group
DESCRIPTION:Event for Native Youth 10-17 \nEscape Room: Team activity that will use problem solving\, communication and strategizing skills \nLimited spots available \nRegistration Required and can be completed here. \nParticipants will meet at UICSL and shuttled to the location \nLight snacks provided \nQuestions: Kayla Frank\, kfrank@uicsl.org or (385) 267-1719 \nMust be a registered client of UICSL
URL:https://uicsl.org/event/native-youth-support-group-2/
LOCATION:Flat Iron Mesa Park\, 1765 E 8600 S\, Sandy\, UT\, 84093\, United States
ATTACH;FMTTYPE=image/png:https://uicsl.org/wp-content/uploads/2023/10/NYSG-Escape-Room-1.png
END:VEVENT
END:VCALENDAR