BEGIN:VCALENDAR
VERSION:2.0
PRODID:-//Urban Indian Center of Salt Lake - ECPv6.15.20//NONSGML v1.0//EN
CALSCALE:GREGORIAN
METHOD:PUBLISH
X-WR-CALNAME:Urban Indian Center of Salt Lake
X-ORIGINAL-URL:https://uicsl.org
X-WR-CALDESC:Events for Urban Indian Center of Salt Lake
REFRESH-INTERVAL;VALUE=DURATION:PT1H
X-Robots-Tag:noindex
X-PUBLISHED-TTL:PT1H
BEGIN:VTIMEZONE
TZID:America/Denver
BEGIN:DAYLIGHT
TZOFFSETFROM:-0700
TZOFFSETTO:-0600
TZNAME:MDT
DTSTART:20220313T090000
END:DAYLIGHT
BEGIN:STANDARD
TZOFFSETFROM:-0600
TZOFFSETTO:-0700
TZNAME:MST
DTSTART:20221106T080000
END:STANDARD
BEGIN:DAYLIGHT
TZOFFSETFROM:-0700
TZOFFSETTO:-0600
TZNAME:MDT
DTSTART:20230312T090000
END:DAYLIGHT
BEGIN:STANDARD
TZOFFSETFROM:-0600
TZOFFSETTO:-0700
TZNAME:MST
DTSTART:20231105T080000
END:STANDARD
BEGIN:DAYLIGHT
TZOFFSETFROM:-0700
TZOFFSETTO:-0600
TZNAME:MDT
DTSTART:20240310T090000
END:DAYLIGHT
BEGIN:STANDARD
TZOFFSETFROM:-0600
TZOFFSETTO:-0700
TZNAME:MST
DTSTART:20241103T080000
END:STANDARD
END:VTIMEZONE
BEGIN:VEVENT
DTSTART;TZID=America/Denver:20231102T183000
DTEND;TZID=America/Denver:20231102T193000
DTSTAMP:20260421T074100
CREATED:20231031T033330Z
LAST-MODIFIED:20231031T033511Z
UID:10001281-1698949800-1698953400@uicsl.org
SUMMARY:Zumba
DESCRIPTION:Zumba \nNovember 1st at 6:30 PM\, UICSL – 120 west 1300 south \nCostume encouraged \nBring a friend to be entered in the giveaway \n  \nMust be a registered client or live within the same household as a registered client of UICSL.  \nQuestions? Contact Moriah: (385) 267-1721
URL:https://uicsl.org/event/zumba-3/
LOCATION:UT
ATTACH;FMTTYPE=image/png:https://uicsl.org/wp-content/uploads/2023/10/Zumba-2.png
END:VEVENT
BEGIN:VEVENT
DTSTART;TZID=America/Denver:20231102T190000
DTEND;TZID=America/Denver:20231102T190000
DTSTAMP:20260421T074100
CREATED:20231030T182416Z
LAST-MODIFIED:20231030T182726Z
UID:10001279-1698951600-1698951600@uicsl.org
SUMMARY:Financial Literacy Class
DESCRIPTION:Topic: History of Monday in Native America \nA historical timeline of Monday and Native Americans. Learn the pathways to become financially independent. \nPlatform: Zoom \nReserve your seat today by texting “HISTORY” to (801) 648-2047 \nTime: 7:00 PM Mountain standard time (6:00 PM Arizona time)
URL:https://uicsl.org/event/financial-literacy-class/
LOCATION:Zoom
ATTACH;FMTTYPE=image/jpeg:https://uicsl.org/wp-content/uploads/2023/10/Nov-2-Presentation-UIC.jpg
END:VEVENT
END:VCALENDAR