BEGIN:VCALENDAR
VERSION:2.0
PRODID:-//Urban Indian Center of Salt Lake - ECPv6.15.20//NONSGML v1.0//EN
CALSCALE:GREGORIAN
METHOD:PUBLISH
X-WR-CALNAME:Urban Indian Center of Salt Lake
X-ORIGINAL-URL:https://uicsl.org
X-WR-CALDESC:Events for Urban Indian Center of Salt Lake
REFRESH-INTERVAL;VALUE=DURATION:PT1H
X-Robots-Tag:noindex
X-PUBLISHED-TTL:PT1H
BEGIN:VTIMEZONE
TZID:America/Denver
BEGIN:DAYLIGHT
TZOFFSETFROM:-0700
TZOFFSETTO:-0600
TZNAME:MDT
DTSTART:20220313T090000
END:DAYLIGHT
BEGIN:STANDARD
TZOFFSETFROM:-0600
TZOFFSETTO:-0700
TZNAME:MST
DTSTART:20221106T080000
END:STANDARD
BEGIN:DAYLIGHT
TZOFFSETFROM:-0700
TZOFFSETTO:-0600
TZNAME:MDT
DTSTART:20230312T090000
END:DAYLIGHT
BEGIN:STANDARD
TZOFFSETFROM:-0600
TZOFFSETTO:-0700
TZNAME:MST
DTSTART:20231105T080000
END:STANDARD
BEGIN:DAYLIGHT
TZOFFSETFROM:-0700
TZOFFSETTO:-0600
TZNAME:MDT
DTSTART:20240310T090000
END:DAYLIGHT
BEGIN:STANDARD
TZOFFSETFROM:-0600
TZOFFSETTO:-0700
TZNAME:MST
DTSTART:20241103T080000
END:STANDARD
END:VTIMEZONE
BEGIN:VEVENT
DTSTART;TZID=America/Denver:20231006T170000
DTEND;TZID=America/Denver:20231006T220000
DTSTAMP:20260421T074441
CREATED:20230602T204500Z
LAST-MODIFIED:20231002T204802Z
UID:10001209-1696611600-1696629600@uicsl.org
SUMMARY:4th Annual Two Spirit Powwow
DESCRIPTION:Non-Contest Social Powwow \nGrand Entry 5:00 PM\nOpening Blessing 5:00 PM\nIndigenous Fashion Show 7:00 PM\nClosing Song 9:55PM\n\nMaster of Ceremonies: Chelsea Mohawk\nArena Director: Dustin Shoemake\nHead Dancer: Michelle Allrunner Sanchez\nHead Dancer: Spirit Wildcat\nHost Drum: Scout Society\n\nFree Event\nNon-Contest Powwow\nMore Information: Jacob Crane\nJacob_2spowwow@uicsl .org\n\nVendor Market: 3:00 PM – 10:00 PM\nExhibition Dances\nNative Youth Hoop Dance\nFood Truck\nNo responsible for theft or damage of personal property. \nDrug\, alcohol and tobacco free event.  \n 
URL:https://uicsl.org/event/4th-annual-two-spirit-powwow/
LOCATION:Salt Lake Community College\, Taylorsville Campus\, Lifetime Activites Campus\, 4600 South Redwood Road\, Salt Lake City\, Utah\, 84119
ATTACH;FMTTYPE=image/png:https://uicsl.org/wp-content/uploads/2023/10/V1.png
ORGANIZER;CN="Urban Indian Center of Salt Lake":MAILTO:info@iwic.org
END:VEVENT
END:VCALENDAR