BEGIN:VCALENDAR
VERSION:2.0
PRODID:-//Urban Indian Center of Salt Lake - ECPv6.15.20//NONSGML v1.0//EN
CALSCALE:GREGORIAN
METHOD:PUBLISH
X-ORIGINAL-URL:https://uicsl.org
X-WR-CALDESC:Events for Urban Indian Center of Salt Lake
REFRESH-INTERVAL;VALUE=DURATION:PT1H
X-Robots-Tag:noindex
X-PUBLISHED-TTL:PT1H
BEGIN:VTIMEZONE
TZID:America/Denver
BEGIN:DAYLIGHT
TZOFFSETFROM:-0700
TZOFFSETTO:-0600
TZNAME:MDT
DTSTART:20220313T090000
END:DAYLIGHT
BEGIN:STANDARD
TZOFFSETFROM:-0600
TZOFFSETTO:-0700
TZNAME:MST
DTSTART:20221106T080000
END:STANDARD
BEGIN:DAYLIGHT
TZOFFSETFROM:-0700
TZOFFSETTO:-0600
TZNAME:MDT
DTSTART:20230312T090000
END:DAYLIGHT
BEGIN:STANDARD
TZOFFSETFROM:-0600
TZOFFSETTO:-0700
TZNAME:MST
DTSTART:20231105T080000
END:STANDARD
BEGIN:DAYLIGHT
TZOFFSETFROM:-0700
TZOFFSETTO:-0600
TZNAME:MDT
DTSTART:20240310T090000
END:DAYLIGHT
BEGIN:STANDARD
TZOFFSETFROM:-0600
TZOFFSETTO:-0700
TZNAME:MST
DTSTART:20241103T080000
END:STANDARD
END:VTIMEZONE
BEGIN:VEVENT
DTSTART;TZID=America/Denver:20230922T083000
DTEND;TZID=America/Denver:20230922T170000
DTSTAMP:20260421T094146
CREATED:20230831T195054Z
LAST-MODIFIED:20230831T195102Z
UID:10001243-1695371400-1695402000@uicsl.org
SUMMARY:Share The Warmth
DESCRIPTION:We need your help!  \nDonation Drive \nDrop off: September 20-22 | 8:30 AM – 5:00 PM \nNew & Gently Used Items Needed: \n\nCoats\nWinter Shoes/Boots\nGloves and Hats\nSocks (new)\nWarm Pants\nBelts\nSleeping Bags\nBlankets & Sheets\nUnderwear – Mens & Women (New)\n\n\n\nShampoo & Conditioner\nLaundry Soap\nDish Soap\nWipes\nNon-Perishable Food Items\nFeminine Hygiene Products\nToilet Paper\nToothbrushes & Toothpaste\n\nQuestions: Heather (385) 867-7741
URL:https://uicsl.org/event/share-the-warmth/2023-09-22/
LOCATION:Flat Iron Mesa Park\, 1765 E 8600 S\, Sandy\, UT\, 84093\, United States
ATTACH;FMTTYPE=image/png:https://uicsl.org/wp-content/uploads/2023/08/donation_drive_flyer.pdf.png
END:VEVENT
BEGIN:VEVENT
DTSTART;TZID=America/Denver:20230922T120000
DTEND;TZID=America/Denver:20230922T140000
DTSTAMP:20260421T094146
CREATED:20230830T170345Z
LAST-MODIFIED:20230830T170352Z
UID:10001233-1695384000-1695391200@uicsl.org
SUMMARY:Elders Corner Meeting
DESCRIPTION:Calling all Native Elders 50+ \nFriday\, September 22nd \n12:00 PM – 2:00 PM \nScam Prevention Education \n\nLunch provided\nPlease bring your water bottle\n\nRSVP Required \nContact Toni Williams (801) 634-2150 \nMust be a registered client of UICSL
URL:https://uicsl.org/event/elders-corner-meeting-14/
LOCATION:Flat Iron Mesa Park\, 1765 E 8600 S\, Sandy\, UT\, 84093\, United States
ATTACH;FMTTYPE=image/png:https://uicsl.org/wp-content/uploads/2023/08/2.png
END:VEVENT
END:VCALENDAR