BEGIN:VCALENDAR
VERSION:2.0
PRODID:-//Urban Indian Center of Salt Lake - ECPv6.15.20//NONSGML v1.0//EN
CALSCALE:GREGORIAN
METHOD:PUBLISH
X-ORIGINAL-URL:https://uicsl.org
X-WR-CALDESC:Events for Urban Indian Center of Salt Lake
REFRESH-INTERVAL;VALUE=DURATION:PT1H
X-Robots-Tag:noindex
X-PUBLISHED-TTL:PT1H
BEGIN:VTIMEZONE
TZID:America/Denver
BEGIN:DAYLIGHT
TZOFFSETFROM:-0700
TZOFFSETTO:-0600
TZNAME:MDT
DTSTART:20220313T090000
END:DAYLIGHT
BEGIN:STANDARD
TZOFFSETFROM:-0600
TZOFFSETTO:-0700
TZNAME:MST
DTSTART:20221106T080000
END:STANDARD
BEGIN:DAYLIGHT
TZOFFSETFROM:-0700
TZOFFSETTO:-0600
TZNAME:MDT
DTSTART:20230312T090000
END:DAYLIGHT
BEGIN:STANDARD
TZOFFSETFROM:-0600
TZOFFSETTO:-0700
TZNAME:MST
DTSTART:20231105T080000
END:STANDARD
BEGIN:DAYLIGHT
TZOFFSETFROM:-0700
TZOFFSETTO:-0600
TZNAME:MDT
DTSTART:20240310T090000
END:DAYLIGHT
BEGIN:STANDARD
TZOFFSETFROM:-0600
TZOFFSETTO:-0700
TZNAME:MST
DTSTART:20241103T080000
END:STANDARD
END:VTIMEZONE
BEGIN:VEVENT
DTSTART;TZID=America/Denver:20230802T180000
DTEND;TZID=America/Denver:20230802T190000
DTSTAMP:20260421T105236
CREATED:20230719T154545Z
LAST-MODIFIED:20230802T213527Z
UID:10001224-1690999200-1691002800@uicsl.org
SUMMARY:In The Steps of Our Ancestors Running Group
DESCRIPTION:ITS TOO HOT\, MEET US INSIDE! \nIn The Steps of Our Ancestors Running Group! \n 6:00 PM – 7:00 PM \nOlympic Oval Track Indoor Track\, 5662 So. Cougar Lane (4800 West)\, Kearns\, UT 84118 \nFree Entry 6:00 PM – 6:10 PM for registered client of UICSL and their household members. \nAll experience levels are welcome. \n\nKids 10+ welcome to participate\nStrollers are welcome\nParent/guardian supervision required\n\nHave questions or want more info? Contact Moriah at (801) 889-7244
URL:https://uicsl.org/event/in-the-steps-of-our-ancestors-running-group-3/2023-08-02/
LOCATION:Utah Olympic Oval Indoor Track\, 5662 South Cougar Lane (4800 West)\, Salt Lake City\, Utah\, 84118
ATTACH;FMTTYPE=image/png:https://uicsl.org/wp-content/uploads/2023/07/All-ages-experience-levels-welcome-2-2.png
END:VEVENT
END:VCALENDAR