BEGIN:VCALENDAR
VERSION:2.0
PRODID:-//Urban Indian Center of Salt Lake - ECPv6.15.20//NONSGML v1.0//EN
CALSCALE:GREGORIAN
METHOD:PUBLISH
X-ORIGINAL-URL:https://uicsl.org
X-WR-CALDESC:Events for Urban Indian Center of Salt Lake
REFRESH-INTERVAL;VALUE=DURATION:PT1H
X-Robots-Tag:noindex
X-PUBLISHED-TTL:PT1H
BEGIN:VTIMEZONE
TZID:America/Denver
BEGIN:DAYLIGHT
TZOFFSETFROM:-0700
TZOFFSETTO:-0600
TZNAME:MDT
DTSTART:20220313T090000
END:DAYLIGHT
BEGIN:STANDARD
TZOFFSETFROM:-0600
TZOFFSETTO:-0700
TZNAME:MST
DTSTART:20221106T080000
END:STANDARD
BEGIN:DAYLIGHT
TZOFFSETFROM:-0700
TZOFFSETTO:-0600
TZNAME:MDT
DTSTART:20230312T090000
END:DAYLIGHT
BEGIN:STANDARD
TZOFFSETFROM:-0600
TZOFFSETTO:-0700
TZNAME:MST
DTSTART:20231105T080000
END:STANDARD
BEGIN:DAYLIGHT
TZOFFSETFROM:-0700
TZOFFSETTO:-0600
TZNAME:MDT
DTSTART:20240310T090000
END:DAYLIGHT
BEGIN:STANDARD
TZOFFSETFROM:-0600
TZOFFSETTO:-0700
TZNAME:MST
DTSTART:20241103T080000
END:STANDARD
END:VTIMEZONE
BEGIN:VEVENT
DTSTART;TZID=America/Denver:20230609T120000
DTEND;TZID=America/Denver:20230609T140000
DTSTAMP:20260421T134438
CREATED:20230602T212035Z
LAST-MODIFIED:20230602T212605Z
UID:10001211-1686312000-1686319200@uicsl.org
SUMMARY:Elders Corner Meeting for Native Elders 50+
DESCRIPTION:Elders Corner Meeting for Native Elders 50+ \nJune 9th & 23rd from 12:00 PM – 2:00 PM \nUICSL Main Hall\, 120 West 1300 South \n\nSnacks provided\nPlease bring your own water bottle\n\nMore information or sign up by contacting Toni Williams (801) 634-2150 \nMust be a registered client of Urban Indian Center of Salt Lake
URL:https://uicsl.org/event/elders-corner-meeting-for-native-elders-50/2023-06-09/
LOCATION:Flat Iron Mesa Park\, 1765 E 8600 S\, Sandy\, UT\, 84093\, United States
ATTACH;FMTTYPE=image/png:https://uicsl.org/wp-content/uploads/2023/06/Elders-Corner-Meeting-Facebook-Post-4.png
ORGANIZER;CN="Urban Indian Center of Salt Lake":MAILTO:info@iwic.org
END:VEVENT
BEGIN:VEVENT
DTSTART;TZID=America/Denver:20230609T140000
DTEND;TZID=America/Denver:20230609T170000
DTSTAMP:20260421T134438
CREATED:20230509T201259Z
LAST-MODIFIED:20230509T201259Z
UID:10001040-1686319200-1686330000@uicsl.org
SUMMARY:Closed
DESCRIPTION:We will close at 2:00 PM for our employer summer activity. \nRegular business hours resume June 12th.
URL:https://uicsl.org/event/closed-7/
LOCATION:UT
ATTACH;FMTTYPE=image/png:https://uicsl.org/wp-content/uploads/2023/05/Holiday-Hours-6-copy-2.png
END:VEVENT
END:VCALENDAR