BEGIN:VCALENDAR
VERSION:2.0
PRODID:-//Urban Indian Center of Salt Lake - ECPv6.15.20//NONSGML v1.0//EN
CALSCALE:GREGORIAN
METHOD:PUBLISH
X-ORIGINAL-URL:https://uicsl.org
X-WR-CALDESC:Events for Urban Indian Center of Salt Lake
REFRESH-INTERVAL;VALUE=DURATION:PT1H
X-Robots-Tag:noindex
X-PUBLISHED-TTL:PT1H
BEGIN:VTIMEZONE
TZID:America/Denver
BEGIN:DAYLIGHT
TZOFFSETFROM:-0700
TZOFFSETTO:-0600
TZNAME:MDT
DTSTART:20220313T090000
END:DAYLIGHT
BEGIN:STANDARD
TZOFFSETFROM:-0600
TZOFFSETTO:-0700
TZNAME:MST
DTSTART:20221106T080000
END:STANDARD
BEGIN:DAYLIGHT
TZOFFSETFROM:-0700
TZOFFSETTO:-0600
TZNAME:MDT
DTSTART:20230312T090000
END:DAYLIGHT
BEGIN:STANDARD
TZOFFSETFROM:-0600
TZOFFSETTO:-0700
TZNAME:MST
DTSTART:20231105T080000
END:STANDARD
BEGIN:DAYLIGHT
TZOFFSETFROM:-0700
TZOFFSETTO:-0600
TZNAME:MDT
DTSTART:20240310T090000
END:DAYLIGHT
BEGIN:STANDARD
TZOFFSETFROM:-0600
TZOFFSETTO:-0700
TZNAME:MST
DTSTART:20241103T080000
END:STANDARD
END:VTIMEZONE
BEGIN:VEVENT
DTSTART;TZID=America/Denver:20230531T173000
DTEND;TZID=America/Denver:20230531T193000
DTSTAMP:20260421T133632
CREATED:20230509T135042Z
LAST-MODIFIED:20230509T143302Z
UID:10001036-1685554200-1685561400@uicsl.org
SUMMARY:Fight Against Diabetes - 4 part series
DESCRIPTION:Supporting Native Americans in the Fight Against Diabetes! \nLearn how to manage your diabetes in a small group setting. \nEvery Wednesday \nBeginning May 17th – 5:30 PM – 7:30 PM\, UICSL – 120 West 1300 South \n\nMay 17: Food\nMay 24: Activity\nMay 31: Medicine\nJune 7: Emotion\n\nEach session will include a meal and movement to help control blood sugars \nRegistration Required. \nFor more information or to sign up\, contact Kristie: (801) 214-7667 \nMust be a registered client or live within the sam household of a registered client of UICSL
URL:https://uicsl.org/event/fight-against-diabetes-4-part-series/2023-05-31/
LOCATION:Flat Iron Mesa Park\, 1765 E 8600 S\, Sandy\, UT\, 84093\, United States
ATTACH;FMTTYPE=image/png:https://uicsl.org/wp-content/uploads/2023/05/DIABETES-PROGRAM-MAY-2023.png
ORGANIZER;CN="Urban Indian Center of Salt Lake":MAILTO:info@iwic.org
END:VEVENT
END:VCALENDAR