BEGIN:VCALENDAR
VERSION:2.0
PRODID:-//Urban Indian Center of Salt Lake - ECPv6.15.20//NONSGML v1.0//EN
CALSCALE:GREGORIAN
METHOD:PUBLISH
X-ORIGINAL-URL:https://uicsl.org
X-WR-CALDESC:Events for Urban Indian Center of Salt Lake
REFRESH-INTERVAL;VALUE=DURATION:PT1H
X-Robots-Tag:noindex
X-PUBLISHED-TTL:PT1H
BEGIN:VTIMEZONE
TZID:America/Denver
BEGIN:DAYLIGHT
TZOFFSETFROM:-0700
TZOFFSETTO:-0600
TZNAME:MDT
DTSTART:20220313T090000
END:DAYLIGHT
BEGIN:STANDARD
TZOFFSETFROM:-0600
TZOFFSETTO:-0700
TZNAME:MST
DTSTART:20221106T080000
END:STANDARD
BEGIN:DAYLIGHT
TZOFFSETFROM:-0700
TZOFFSETTO:-0600
TZNAME:MDT
DTSTART:20230312T090000
END:DAYLIGHT
BEGIN:STANDARD
TZOFFSETFROM:-0600
TZOFFSETTO:-0700
TZNAME:MST
DTSTART:20231105T080000
END:STANDARD
BEGIN:DAYLIGHT
TZOFFSETFROM:-0700
TZOFFSETTO:-0600
TZNAME:MDT
DTSTART:20240310T090000
END:DAYLIGHT
BEGIN:STANDARD
TZOFFSETFROM:-0600
TZOFFSETTO:-0700
TZNAME:MST
DTSTART:20241103T080000
END:STANDARD
END:VTIMEZONE
BEGIN:VEVENT
DTSTART;TZID=America/Denver:20230520T110000
DTEND;TZID=America/Denver:20230520T130000
DTSTAMP:20260421T180857
CREATED:20230505T185957Z
LAST-MODIFIED:20230505T190713Z
UID:10001023-1684580400-1684587600@uicsl.org
SUMMARY:Hand Drum Workshop - Drumming for Wellness
DESCRIPTION:Sign up today for our Hand Drum Workshop that will be instructed by Jacob Crane from Cultural Fire Events  \nDrumming for Wellness – Saturday\, May 20th – 11:00 AM – 1:00 PM (Youth and Family)  \nContact Eryon at (801) 486-4877 ext. 0178 or egreenburg@iwic.org \n\nOpen to registered clients of UICSL \nLimited space \nRegistration required\n\n 
URL:https://uicsl.org/event/hand-drum-workshop-calling-our-spirit-back-copy/
LOCATION:Flat Iron Mesa Park\, 1765 E 8600 S\, Sandy\, UT\, 84093\, United States
ATTACH;FMTTYPE=image/png:https://uicsl.org/wp-content/uploads/2023/05/Hand-Drum-Workshop.png
END:VEVENT
END:VCALENDAR