BEGIN:VCALENDAR
VERSION:2.0
PRODID:-//Urban Indian Center of Salt Lake - ECPv6.15.20//NONSGML v1.0//EN
CALSCALE:GREGORIAN
METHOD:PUBLISH
X-WR-CALNAME:Urban Indian Center of Salt Lake
X-ORIGINAL-URL:https://uicsl.org
X-WR-CALDESC:Events for Urban Indian Center of Salt Lake
REFRESH-INTERVAL;VALUE=DURATION:PT1H
X-Robots-Tag:noindex
X-PUBLISHED-TTL:PT1H
BEGIN:VTIMEZONE
TZID:America/Denver
BEGIN:DAYLIGHT
TZOFFSETFROM:-0700
TZOFFSETTO:-0600
TZNAME:MDT
DTSTART:20220313T090000
END:DAYLIGHT
BEGIN:STANDARD
TZOFFSETFROM:-0600
TZOFFSETTO:-0700
TZNAME:MST
DTSTART:20221106T080000
END:STANDARD
BEGIN:DAYLIGHT
TZOFFSETFROM:-0700
TZOFFSETTO:-0600
TZNAME:MDT
DTSTART:20230312T090000
END:DAYLIGHT
BEGIN:STANDARD
TZOFFSETFROM:-0600
TZOFFSETTO:-0700
TZNAME:MST
DTSTART:20231105T080000
END:STANDARD
BEGIN:DAYLIGHT
TZOFFSETFROM:-0700
TZOFFSETTO:-0600
TZNAME:MDT
DTSTART:20240310T090000
END:DAYLIGHT
BEGIN:STANDARD
TZOFFSETFROM:-0600
TZOFFSETTO:-0700
TZNAME:MST
DTSTART:20241103T080000
END:STANDARD
END:VTIMEZONE
BEGIN:VEVENT
DTSTART;TZID=America/Denver:20230512T120000
DTEND;TZID=America/Denver:20230512T140000
DTSTAMP:20260421T182414
CREATED:20230427T145608Z
LAST-MODIFIED:20230427T145652Z
UID:10001017-1683892800-1683900000@uicsl.org
SUMMARY:Elders Corner Meeting
DESCRIPTION:Elders Corner Meeting for Native Elders 50+ \nMay 12th from 12:00 PM – 2:00 PM \nUICSL Main Hall\, 120 West 1300 South \n\nSnacks provided\nPlease bring water bottle\n\nMore information or sign up by contacting Toni Williams (801) 634-2150 \nMust be a registered client of Urban Indian Center of Salt Lake
URL:https://uicsl.org/event/elders-corner-meeting-10/2023-05-12/
LOCATION:Flat Iron Mesa Park\, 1765 E 8600 S\, Sandy\, UT\, 84093\, United States
ATTACH;FMTTYPE=image/png:https://uicsl.org/wp-content/uploads/2023/04/Elders-Corner-Meeting-Facebook-Post.png
END:VEVENT
BEGIN:VEVENT
DTSTART;TZID=America/Denver:20230512T160000
DTEND;TZID=America/Denver:20230512T180000
DTSTAMP:20260421T182414
CREATED:20230505T185948Z
LAST-MODIFIED:20230505T185948Z
UID:10001020-1683907200-1683914400@uicsl.org
SUMMARY:Hand Drum Workshop - Calling Our Spirit Back
DESCRIPTION:Sign up today for our Hand Drum Workshop that will be instructed by Jacob Crane from Cultural Fire Events  \n Calling Our Spirit Back – Friday\, May 12th – 4:00-6:00 PM (Sobriety and Recovery) \nContact Jerad at (801) 486-4877 ext. 0142 or jtodacheenie@iwic.org  \n\nOpen to registered clients of UICSL \nLimited space \nRegistration required
URL:https://uicsl.org/event/hand-drum-workshop-calling-our-spirit-back/
LOCATION:Flat Iron Mesa Park\, 1765 E 8600 S\, Sandy\, UT\, 84093\, United States
ATTACH;FMTTYPE=image/png:https://uicsl.org/wp-content/uploads/2023/05/Hand-Drum-Workshop.png
END:VEVENT
END:VCALENDAR