BEGIN:VCALENDAR
VERSION:2.0
PRODID:-//Urban Indian Center of Salt Lake - ECPv6.15.20//NONSGML v1.0//EN
CALSCALE:GREGORIAN
METHOD:PUBLISH
X-ORIGINAL-URL:https://uicsl.org
X-WR-CALDESC:Events for Urban Indian Center of Salt Lake
REFRESH-INTERVAL;VALUE=DURATION:PT1H
X-Robots-Tag:noindex
X-PUBLISHED-TTL:PT1H
BEGIN:VTIMEZONE
TZID:America/Denver
BEGIN:DAYLIGHT
TZOFFSETFROM:-0700
TZOFFSETTO:-0600
TZNAME:MDT
DTSTART:20220313T090000
END:DAYLIGHT
BEGIN:STANDARD
TZOFFSETFROM:-0600
TZOFFSETTO:-0700
TZNAME:MST
DTSTART:20221106T080000
END:STANDARD
BEGIN:DAYLIGHT
TZOFFSETFROM:-0700
TZOFFSETTO:-0600
TZNAME:MDT
DTSTART:20230312T090000
END:DAYLIGHT
BEGIN:STANDARD
TZOFFSETFROM:-0600
TZOFFSETTO:-0700
TZNAME:MST
DTSTART:20231105T080000
END:STANDARD
BEGIN:DAYLIGHT
TZOFFSETFROM:-0700
TZOFFSETTO:-0600
TZNAME:MDT
DTSTART:20240310T090000
END:DAYLIGHT
BEGIN:STANDARD
TZOFFSETFROM:-0600
TZOFFSETTO:-0700
TZNAME:MST
DTSTART:20241103T080000
END:STANDARD
END:VTIMEZONE
BEGIN:VEVENT
DTSTART;TZID=America/Denver:20230228T110000
DTEND;TZID=America/Denver:20230228T130000
DTSTAMP:20260420T090859
CREATED:20221223T175119Z
LAST-MODIFIED:20230131T231349Z
UID:10001132-1677582000-1677589200@uicsl.org
SUMMARY:Take Control of Your Diabetes Lunch Series!
DESCRIPTION:Take Control of Your Diabetes Lunch Series \nEvery Tuesday in February\, 11:00 AM – 1:00 PM\, UICSL\, 120 West 1300 South. \nFebruary 7 – What is Diabetes? Eating with Diabetes \nFebruary 14 – Moving to Stay Healthy. Diabetes Medicine. \nFebruary 21 – Diabetes: Mind\, Spirit & Emotion. Blood Sugar Monitoring. \nFebruary 28 – Staying Healthy with Diabetes. Managing Highs & Lows. \nEach session will include lunch and movement to help control blood sugars. \nFor more information\, contact Kristie Hinton at (801) 214-7667. \nMust be a registered client or live within the same household of a registered client of UICSL. 
URL:https://uicsl.org/event/take-control-of-your-diabetes-lunch-series-2/2023-02-28/
LOCATION:Flat Iron Mesa Park\, 1765 E 8600 S\, Sandy\, UT\, 84093\, United States
ATTACH;FMTTYPE=image/png:https://uicsl.org/wp-content/uploads/2022/12/DP-Take-Control-of-Your-Diabetes.png
ORGANIZER;CN="Urban Indian Center of Salt Lake":MAILTO:info@iwic.org
END:VEVENT
BEGIN:VEVENT
DTSTART;TZID=America/Denver:20230228T180000
DTEND;TZID=America/Denver:20230228T200000
DTSTAMP:20260420T090859
CREATED:20230131T235934Z
LAST-MODIFIED:20230131T235934Z
UID:10001161-1677607200-1677614400@uicsl.org
SUMMARY:3rd - 12th Grade Culture Class
DESCRIPTION:3rd – 12th Grade Culture Class \nTuesdays – February 14th & 28th \n6:00 PM – 8:00 PM \nUICSL Main Hall\, 120 West 1300 South \n\nCultural Activities\nHealthy Check-Ins\nPowwow Dance Practice\n\nLimited space and supplies \nRegister by clicking here! \nQuestions or concerns? Contact Ivana at (801) 214-7662 or email \nMust be a registered client of UICSL
URL:https://uicsl.org/event/3rd-12th-grade-culture-class-2/2023-02-28/
LOCATION:Flat Iron Mesa Park\, 1765 E 8600 S\, Sandy\, UT\, 84093\, United States
ATTACH;FMTTYPE=image/png:https://uicsl.org/wp-content/uploads/2023/01/CHS-Culture-Class-Monthly-Flyers.png
ORGANIZER;CN="Urban Indian Center of Salt Lake":MAILTO:info@iwic.org
END:VEVENT
END:VCALENDAR