BEGIN:VCALENDAR
VERSION:2.0
PRODID:-//Urban Indian Center of Salt Lake - ECPv6.15.20//NONSGML v1.0//EN
CALSCALE:GREGORIAN
METHOD:PUBLISH
X-ORIGINAL-URL:https://uicsl.org
X-WR-CALDESC:Events for Urban Indian Center of Salt Lake
REFRESH-INTERVAL;VALUE=DURATION:PT1H
X-Robots-Tag:noindex
X-PUBLISHED-TTL:PT1H
BEGIN:VTIMEZONE
TZID:America/Denver
BEGIN:DAYLIGHT
TZOFFSETFROM:-0700
TZOFFSETTO:-0600
TZNAME:MDT
DTSTART:20210314T090000
END:DAYLIGHT
BEGIN:STANDARD
TZOFFSETFROM:-0600
TZOFFSETTO:-0700
TZNAME:MST
DTSTART:20211107T080000
END:STANDARD
BEGIN:DAYLIGHT
TZOFFSETFROM:-0700
TZOFFSETTO:-0600
TZNAME:MDT
DTSTART:20220313T090000
END:DAYLIGHT
BEGIN:STANDARD
TZOFFSETFROM:-0600
TZOFFSETTO:-0700
TZNAME:MST
DTSTART:20221106T080000
END:STANDARD
BEGIN:DAYLIGHT
TZOFFSETFROM:-0700
TZOFFSETTO:-0600
TZNAME:MDT
DTSTART:20230312T090000
END:DAYLIGHT
BEGIN:STANDARD
TZOFFSETFROM:-0600
TZOFFSETTO:-0700
TZNAME:MST
DTSTART:20231105T080000
END:STANDARD
END:VTIMEZONE
BEGIN:VEVENT
DTSTART;TZID=America/Denver:20220730T090000
DTEND;TZID=America/Denver:20220730T150000
DTSTAMP:20260422T092721
CREATED:20220519T210933Z
LAST-MODIFIED:20220705T182813Z
UID:10000927-1659171600-1659193200@uicsl.org
SUMMARY:Back to School Health Fair!
DESCRIPTION:July 30th is our annual Back to School Health Fair! \nOpening Prayer Song: Scout Society – 9:30 AM \nFor Students only: \n\nBack packs\nSchool Supplies\nFree Boy Haircuts by Regal Barber Co.\nSports Physicals*\nImmunizations*\n\n**By Appointment Only!** \n  \nFor Family Members: \n\nCommunity Resources\nFood\nGiveaways\nCovid-19\n\nPrevention Kits\nVaccines\n\n\n\nMust Be A Registered Client of the Urban Indian Center of Salt lake! \nRSVP for the Event by calling (801) 486-4877 \n 
URL:https://uicsl.org/event/back-to-school-health-fair-2/
LOCATION:Flat Iron Mesa Park\, 1765 E 8600 S\, Sandy\, UT\, 84093\, United States
ATTACH;FMTTYPE=image/png:https://uicsl.org/wp-content/uploads/2022/05/Back-to-School-Facebook-Post.png
ORGANIZER;CN="Urban Indian Center of Salt Lake":MAILTO:info@iwic.org
END:VEVENT
END:VCALENDAR